
BEGIN:VCALENDAR
VERSION:2.0
PRODID:-//Olympic Park Neighborhood Council - ECPv6.15.17.1//NONSGML v1.0//EN
CALSCALE:GREGORIAN
METHOD:PUBLISH
X-ORIGINAL-URL:https://opnc.org
X-WR-CALDESC:Events for Olympic Park Neighborhood Council
REFRESH-INTERVAL;VALUE=DURATION:PT1H
X-Robots-Tag:noindex
X-PUBLISHED-TTL:PT1H
BEGIN:VTIMEZONE
TZID:America/Los_Angeles
BEGIN:DAYLIGHT
TZOFFSETFROM:-0800
TZOFFSETTO:-0700
TZNAME:PDT
DTSTART:20150308T100000
END:DAYLIGHT
BEGIN:STANDARD
TZOFFSETFROM:-0700
TZOFFSETTO:-0800
TZNAME:PST
DTSTART:20151101T090000
END:STANDARD
BEGIN:DAYLIGHT
TZOFFSETFROM:-0800
TZOFFSETTO:-0700
TZNAME:PDT
DTSTART:20160313T100000
END:DAYLIGHT
BEGIN:STANDARD
TZOFFSETFROM:-0700
TZOFFSETTO:-0800
TZNAME:PST
DTSTART:20161106T090000
END:STANDARD
BEGIN:DAYLIGHT
TZOFFSETFROM:-0800
TZOFFSETTO:-0700
TZNAME:PDT
DTSTART:20170312T100000
END:DAYLIGHT
BEGIN:STANDARD
TZOFFSETFROM:-0700
TZOFFSETTO:-0800
TZNAME:PST
DTSTART:20171105T090000
END:STANDARD
BEGIN:DAYLIGHT
TZOFFSETFROM:-0800
TZOFFSETTO:-0700
TZNAME:PDT
DTSTART:20180311T100000
END:DAYLIGHT
BEGIN:STANDARD
TZOFFSETFROM:-0700
TZOFFSETTO:-0800
TZNAME:PST
DTSTART:20181104T090000
END:STANDARD
END:VTIMEZONE
BEGIN:VEVENT
DTSTART;TZID=America/Los_Angeles:20171210T063000
DTEND;TZID=America/Los_Angeles:20171210T110000
DTSTAMP:20260421T183845
CREATED:20171207T205312Z
LAST-MODIFIED:20171208T211818Z
UID:1896-1512887400-1512903600@opnc.org
SUMMARY:JCC  Community Run Walk
DESCRIPTION:PLEASE NOTE: The start line is behind the JCC (5870 West Olympic Boulevard\, LA\, CA 90036) on San Vicente Boulevard (and Stanley Avenue). Please see below for parking and registration instructions. \nRace Day Schedule \nRegistration Open – 6:30am\n5K Run & Walk: 8:00 am sharp\nKids Fun Run: 9:30 am sharp\nHealth and Wellness Expo: 7:00am – 11:00am\nKids Fun Zone: 7:00am – 11:00am \nEarly Packet Pick Up \nEarly Packet Pick-up for our race will be on Friday\, December 8 in two convenient time slots at Westside Jewish Community Center\, 5870 West Olympic Boulevard\, Los Angeles\, CA 90036:\n8-10 a.m. Berman Patio\n4-6 p.m. Main Lobby \nOnline Registration will close at midnight on Friday\, December 8th. After that\, registration will be done in person on race day.
URL:https://opnc.org/event/jcc-community-run-walk-12-10-2017/
LOCATION:Westside JCC\, 5870 W. Olympic Blvd\, Los Angeles\, 90036
CATEGORIES:Events
GEO:34.0569059;-118.3590934
X-APPLE-STRUCTURED-LOCATION;VALUE=URI;X-ADDRESS=Westside JCC 5870 W. Olympic Blvd Los Angeles 90036;X-APPLE-RADIUS=500;X-TITLE=5870 W. Olympic Blvd:geo:-118.3590934,34.0569059
END:VEVENT
BEGIN:VEVENT
DTSTART;TZID=America/Los_Angeles:20161211T080000
DTEND;TZID=America/Los_Angeles:20161211T110000
DTSTAMP:20260421T183845
CREATED:20160930T235640Z
LAST-MODIFIED:20160930T235640Z
UID:744-1481443200-1481454000@opnc.org
SUMMARY:5K Run Walk in the Heart of LA
DESCRIPTION:
URL:https://opnc.org/event/5k-run-walk-in-the-heart-of-la/
LOCATION:Westside JCC\, 5870 W. Olympic Blvd\, Los Angeles\, 90036
CATEGORIES:Events
GEO:34.0569059;-118.3590934
X-APPLE-STRUCTURED-LOCATION;VALUE=URI;X-ADDRESS=Westside JCC 5870 W. Olympic Blvd Los Angeles 90036;X-APPLE-RADIUS=500;X-TITLE=5870 W. Olympic Blvd:geo:-118.3590934,34.0569059
END:VEVENT
END:VCALENDAR