
BEGIN:VCALENDAR
VERSION:2.0
PRODID:-//Olympic Park Neighborhood Council - ECPv6.15.17.1//NONSGML v1.0//EN
CALSCALE:GREGORIAN
METHOD:PUBLISH
X-ORIGINAL-URL:https://opnc.org
X-WR-CALDESC:Events for Olympic Park Neighborhood Council
REFRESH-INTERVAL;VALUE=DURATION:PT1H
X-Robots-Tag:noindex
X-PUBLISHED-TTL:PT1H
BEGIN:VTIMEZONE
TZID:America/Los_Angeles
BEGIN:DAYLIGHT
TZOFFSETFROM:-0800
TZOFFSETTO:-0700
TZNAME:PDT
DTSTART:20170312T100000
END:DAYLIGHT
BEGIN:STANDARD
TZOFFSETFROM:-0700
TZOFFSETTO:-0800
TZNAME:PST
DTSTART:20171105T090000
END:STANDARD
BEGIN:DAYLIGHT
TZOFFSETFROM:-0800
TZOFFSETTO:-0700
TZNAME:PDT
DTSTART:20180311T100000
END:DAYLIGHT
BEGIN:STANDARD
TZOFFSETFROM:-0700
TZOFFSETTO:-0800
TZNAME:PST
DTSTART:20181104T090000
END:STANDARD
BEGIN:DAYLIGHT
TZOFFSETFROM:-0800
TZOFFSETTO:-0700
TZNAME:PDT
DTSTART:20190310T100000
END:DAYLIGHT
BEGIN:STANDARD
TZOFFSETFROM:-0700
TZOFFSETTO:-0800
TZNAME:PST
DTSTART:20191103T090000
END:STANDARD
BEGIN:DAYLIGHT
TZOFFSETFROM:-0800
TZOFFSETTO:-0700
TZNAME:PDT
DTSTART:20200308T100000
END:DAYLIGHT
BEGIN:STANDARD
TZOFFSETFROM:-0700
TZOFFSETTO:-0800
TZNAME:PST
DTSTART:20201101T090000
END:STANDARD
END:VTIMEZONE
BEGIN:VEVENT
DTSTART;TZID=America/Los_Angeles:20190823T180000
DTEND;TZID=America/Los_Angeles:20190823T213000
DTSTAMP:20260421T151310
CREATED:20190802T224944Z
LAST-MODIFIED:20190802T224944Z
UID:2858-1566583200-1566595800@opnc.org
SUMMARY:Movies in the Park
DESCRIPTION:Enjoy The Little Mermaid and Up\, August 23 at West Side Park Park. Free admission\, popcorn\, hot dogs and candy! Festivities begin at 6pm.
URL:https://opnc.org/event/movies-in-the-park-3/
LOCATION:West Side Park\, 3085 Clyde Ave\, Los Angeles\, 90016
CATEGORIES:Events
GEO:34.0263774;-118.3687519
X-APPLE-STRUCTURED-LOCATION;VALUE=URI;X-ADDRESS=West Side Park 3085 Clyde Ave Los Angeles 90016;X-APPLE-RADIUS=500;X-TITLE=3085 Clyde Ave:geo:-118.3687519,34.0263774
END:VEVENT
BEGIN:VEVENT
DTSTART;TZID=America/Los_Angeles:20180817T190000
DTEND;TZID=America/Los_Angeles:20180817T213000
DTSTAMP:20260421T151310
CREATED:20180703T231157Z
LAST-MODIFIED:20180713T174048Z
UID:2386-1534532400-1534541400@opnc.org
SUMMARY:Movies in the Park: Coco
DESCRIPTION:Council President Herb Wesson is sponsoring Movies in the Park at West Side Park. Enjoy delicious food\, a raffle and a fun movie.
URL:https://opnc.org/event/movies-in-the-park-coco/
LOCATION:West Side Park\, 3085 Clyde Ave\, Los Angeles\, 90016
CATEGORIES:Events
GEO:34.0263774;-118.3687519
X-APPLE-STRUCTURED-LOCATION;VALUE=URI;X-ADDRESS=West Side Park 3085 Clyde Ave Los Angeles 90016;X-APPLE-RADIUS=500;X-TITLE=3085 Clyde Ave:geo:-118.3687519,34.0263774
END:VEVENT
END:VCALENDAR