
BEGIN:VCALENDAR
VERSION:2.0
PRODID:-//Olympic Park Neighborhood Council - ECPv6.15.17.1//NONSGML v1.0//EN
CALSCALE:GREGORIAN
METHOD:PUBLISH
X-WR-CALNAME:Olympic Park Neighborhood Council
X-ORIGINAL-URL:https://opnc.org
X-WR-CALDESC:Events for Olympic Park Neighborhood Council
REFRESH-INTERVAL;VALUE=DURATION:PT1H
X-Robots-Tag:noindex
X-PUBLISHED-TTL:PT1H
BEGIN:VTIMEZONE
TZID:America/Los_Angeles
BEGIN:DAYLIGHT
TZOFFSETFROM:-0800
TZOFFSETTO:-0700
TZNAME:PDT
DTSTART:20170312T100000
END:DAYLIGHT
BEGIN:STANDARD
TZOFFSETFROM:-0700
TZOFFSETTO:-0800
TZNAME:PST
DTSTART:20171105T090000
END:STANDARD
BEGIN:DAYLIGHT
TZOFFSETFROM:-0800
TZOFFSETTO:-0700
TZNAME:PDT
DTSTART:20180311T100000
END:DAYLIGHT
BEGIN:STANDARD
TZOFFSETFROM:-0700
TZOFFSETTO:-0800
TZNAME:PST
DTSTART:20181104T090000
END:STANDARD
BEGIN:DAYLIGHT
TZOFFSETFROM:-0800
TZOFFSETTO:-0700
TZNAME:PDT
DTSTART:20190310T100000
END:DAYLIGHT
BEGIN:STANDARD
TZOFFSETFROM:-0700
TZOFFSETTO:-0800
TZNAME:PST
DTSTART:20191103T090000
END:STANDARD
END:VTIMEZONE
BEGIN:VEVENT
DTSTART;TZID=America/Los_Angeles:20180224T100000
DTEND;TZID=America/Los_Angeles:20180224T120000
DTSTAMP:20260422T022710
CREATED:20180216T223603Z
LAST-MODIFIED:20180216T223603Z
UID:2050-1519466400-1519473600@opnc.org
SUMMARY:Police Commission Meeting
DESCRIPTION:Community members are invited encouraged to attend one of six community meetings hosted by the Board of Police Commissioners to provide input on the selection of the Chief of Police. The meetings will be held throughout the City of Los Angeles. \nThe purpose of the meetings is to allow public to provide input on the discussion about the attributes\, qualifications\, and experience needed to lead the Los Angeles Police Department and oversee public safety for the diverse communities of the City. The Police Commission will be establishing a link to allow for public input via internet. The web link to access a survey will be posted and accessible later this month. Based on the input provided by the public\, the Police Commission will consider the suggestions and concerns when making selections and assessing the qualifications of the candidates being considered for Chief of Police.
URL:https://opnc.org/event/police-commission-meeting-2/
LOCATION:West LA Municipal Building\, 1645 Corinth Ave\, Los Angeles\, 90025
CATEGORIES:Events
GEO:34.0450572;-118.4493949
X-APPLE-STRUCTURED-LOCATION;VALUE=URI;X-ADDRESS=West LA Municipal Building 1645 Corinth Ave Los Angeles 90025;X-APPLE-RADIUS=500;X-TITLE=1645 Corinth Ave:geo:-118.4493949,34.0450572
END:VEVENT
END:VCALENDAR