
BEGIN:VCALENDAR
VERSION:2.0
PRODID:-//Olympic Park Neighborhood Council - ECPv6.15.17.1//NONSGML v1.0//EN
CALSCALE:GREGORIAN
METHOD:PUBLISH
X-WR-CALNAME:Olympic Park Neighborhood Council
X-ORIGINAL-URL:https://opnc.org
X-WR-CALDESC:Events for Olympic Park Neighborhood Council
REFRESH-INTERVAL;VALUE=DURATION:PT1H
X-Robots-Tag:noindex
X-PUBLISHED-TTL:PT1H
BEGIN:VTIMEZONE
TZID:America/Los_Angeles
BEGIN:DAYLIGHT
TZOFFSETFROM:-0800
TZOFFSETTO:-0700
TZNAME:PDT
DTSTART:20160313T100000
END:DAYLIGHT
BEGIN:STANDARD
TZOFFSETFROM:-0700
TZOFFSETTO:-0800
TZNAME:PST
DTSTART:20161106T090000
END:STANDARD
BEGIN:DAYLIGHT
TZOFFSETFROM:-0800
TZOFFSETTO:-0700
TZNAME:PDT
DTSTART:20170312T100000
END:DAYLIGHT
BEGIN:STANDARD
TZOFFSETFROM:-0700
TZOFFSETTO:-0800
TZNAME:PST
DTSTART:20171105T090000
END:STANDARD
BEGIN:DAYLIGHT
TZOFFSETFROM:-0800
TZOFFSETTO:-0700
TZNAME:PDT
DTSTART:20180311T100000
END:DAYLIGHT
BEGIN:STANDARD
TZOFFSETFROM:-0700
TZOFFSETTO:-0800
TZNAME:PST
DTSTART:20181104T090000
END:STANDARD
END:VTIMEZONE
BEGIN:VEVENT
DTSTART;TZID=America/Los_Angeles:20171021T100000
DTEND;TZID=America/Los_Angeles:20171021T120000
DTSTAMP:20260422T055703
CREATED:20171003T232758Z
LAST-MODIFIED:20171003T232758Z
UID:1665-1508580000-1508587200@opnc.org
SUMMARY:OurLA 2040
DESCRIPTION:Los Angeles is in the midst of a renaissance. From the overwhelming approval of a transformative transit plan and our commitment to solve homelessness\, to our pursuit of a sustainable city and the Olympic dream\, there’s no doubt we Angelenos are ready to take our place on the global stage.\n\nAs we look to the future\, we have an opportunity to shape the landscape of our diverse communities and design a city that meets the need of our neighborhoods\, noticeably improves the quality of life\, and delivers reliable\, high-quality services to all residents. That’s why Los Angeles launched OurLA2040\, a citywide initiative led by the LA Department of City Planning with the aim of updating our city’s General Plan.\n\nThe General Plan is a document that outlines goals\, objectives\, policies and programs to guide growth in Los Angeles. It is the heart and foundation of the city’s long-range vision and serves as the basis for decisions that affect all aspects of our everyday lives — from where we live and work to how we travel from place to place\, and how we spend our time in the city.\n\nOurLA2040 will help the city gather input on how LA should deal with land use and economic development\, water and energy conservation\, parks and open space\, air quality\, historic preservation\, public facilities and community assets in the future. This initiative will result in a new 20-year citywide plan to be adopted in 2020\, cementing strong and visionary policies to create a more prosperous\, livable\, and sustainable Los Angeles.\n\nThroughout October\, OurLA2040 will host a series of community conversations to get Angelenos\, like you\, to discuss what LA should look like in the decades ahead. Your participation will help inform LA’s policy goals and priorities. Bring your neighbors and friends to the October 7 conversation in Van Nuys or to any of the events listed here:\n\n\n\n\n\n\nOurLA2040 Community Conversation: Open Space and Community\nMonday\, October 2\, 6 – 8 pm \nWestwood Presbyterian Church\n10822 Wilshire Boulevard\nLos Angeles\, CA 90024\n\nOurLA2040 Community Conversation: Open Space and Community  \nSaturday\, October 7\, 10 am – 12 noon\nVan Nuys Civic Center\, Rooms 1A &1B\, 14410 Sylvan Street\nVan Nuys\, CA 91401 \n\n\n\nOurLA2040 Community Conversation: Open Space and Community \nSaturday\, October 21\, 10 am – Noon\nWest Angeles Senior Villas\nCommunity Room\n6030 Crenshaw Boulevard\nLos Angeles\, CA 90043\nOurLA2040 Community Conversation: Open Space and Community \nWednesday\, October 25\, 6 – 8 pm\nEmerson College\nAssembly Room\n5960 Sunset Boulevard\nLos Angeles\, CA 90028\n\n\n\n\n  \n\nIf you need additional information\, visit www.ourla2040.org.
URL:https://opnc.org/event/ourla-2040/
LOCATION:West Angeles Senior Villas\, 6030 Crenshaw Boulevard\, Los Angeles\, 90043
CATEGORIES:Events
GEO:33.984329;-118.330372
X-APPLE-STRUCTURED-LOCATION;VALUE=URI;X-ADDRESS=West Angeles Senior Villas 6030 Crenshaw Boulevard Los Angeles 90043;X-APPLE-RADIUS=500;X-TITLE=6030 Crenshaw Boulevard:geo:-118.330372,33.984329
END:VEVENT
END:VCALENDAR