
BEGIN:VCALENDAR
VERSION:2.0
PRODID:-//Olympic Park Neighborhood Council - ECPv6.15.17.1//NONSGML v1.0//EN
CALSCALE:GREGORIAN
METHOD:PUBLISH
X-WR-CALNAME:Olympic Park Neighborhood Council
X-ORIGINAL-URL:https://opnc.org
X-WR-CALDESC:Events for Olympic Park Neighborhood Council
REFRESH-INTERVAL;VALUE=DURATION:PT1H
X-Robots-Tag:noindex
X-PUBLISHED-TTL:PT1H
BEGIN:VTIMEZONE
TZID:America/Los_Angeles
BEGIN:DAYLIGHT
TZOFFSETFROM:-0800
TZOFFSETTO:-0700
TZNAME:PDT
DTSTART:20150308T100000
END:DAYLIGHT
BEGIN:STANDARD
TZOFFSETFROM:-0700
TZOFFSETTO:-0800
TZNAME:PST
DTSTART:20151101T090000
END:STANDARD
BEGIN:DAYLIGHT
TZOFFSETFROM:-0800
TZOFFSETTO:-0700
TZNAME:PDT
DTSTART:20160313T100000
END:DAYLIGHT
BEGIN:STANDARD
TZOFFSETFROM:-0700
TZOFFSETTO:-0800
TZNAME:PST
DTSTART:20161106T090000
END:STANDARD
BEGIN:DAYLIGHT
TZOFFSETFROM:-0800
TZOFFSETTO:-0700
TZNAME:PDT
DTSTART:20170312T100000
END:DAYLIGHT
BEGIN:STANDARD
TZOFFSETFROM:-0700
TZOFFSETTO:-0800
TZNAME:PST
DTSTART:20171105T090000
END:STANDARD
END:VTIMEZONE
BEGIN:VEVENT
DTSTART;TZID=America/Los_Angeles:20160227T093000
DTEND;TZID=America/Los_Angeles:20160227T113000
DTSTAMP:20260422T130318
CREATED:20160226T185042Z
LAST-MODIFIED:20160226T185042Z
UID:423-1456565400-1456572600@opnc.org
SUMMARY:Congresswoman Karen Bass Town Hall & Legislative Report
DESCRIPTION:
URL:https://opnc.org/event/congresswoman-karen-bass-town-hall-legislative-report/
LOCATION:Ward AME Church\, 1177 W. 25 St.\, Los Angeles\, 90007
GEO:34.03382;-118.2861602
X-APPLE-STRUCTURED-LOCATION;VALUE=URI;X-ADDRESS=Ward AME Church 1177 W. 25 St. Los Angeles 90007;X-APPLE-RADIUS=500;X-TITLE=1177 W. 25 St.:geo:-118.2861602,34.03382
END:VEVENT
END:VCALENDAR