
BEGIN:VCALENDAR
VERSION:2.0
PRODID:-//Olympic Park Neighborhood Council - ECPv6.15.17.1//NONSGML v1.0//EN
CALSCALE:GREGORIAN
METHOD:PUBLISH
X-ORIGINAL-URL:https://opnc.org
X-WR-CALDESC:Events for Olympic Park Neighborhood Council
REFRESH-INTERVAL;VALUE=DURATION:PT1H
X-Robots-Tag:noindex
X-PUBLISHED-TTL:PT1H
BEGIN:VTIMEZONE
TZID:America/Los_Angeles
BEGIN:DAYLIGHT
TZOFFSETFROM:-0800
TZOFFSETTO:-0700
TZNAME:PDT
DTSTART:20150308T100000
END:DAYLIGHT
BEGIN:STANDARD
TZOFFSETFROM:-0700
TZOFFSETTO:-0800
TZNAME:PST
DTSTART:20151101T090000
END:STANDARD
BEGIN:DAYLIGHT
TZOFFSETFROM:-0800
TZOFFSETTO:-0700
TZNAME:PDT
DTSTART:20160313T100000
END:DAYLIGHT
BEGIN:STANDARD
TZOFFSETFROM:-0700
TZOFFSETTO:-0800
TZNAME:PST
DTSTART:20161106T090000
END:STANDARD
BEGIN:DAYLIGHT
TZOFFSETFROM:-0800
TZOFFSETTO:-0700
TZNAME:PDT
DTSTART:20170312T100000
END:DAYLIGHT
BEGIN:STANDARD
TZOFFSETFROM:-0700
TZOFFSETTO:-0800
TZNAME:PST
DTSTART:20171105T090000
END:STANDARD
END:VTIMEZONE
BEGIN:VEVENT
DTSTART;TZID=America/Los_Angeles:20160414T180000
DTEND;TZID=America/Los_Angeles:20160414T200000
DTSTAMP:20260421T215610
CREATED:20160408T054657Z
LAST-MODIFIED:20160414T232607Z
UID:485-1460656800-1460664000@opnc.org
SUMMARY:OPNC Youth Pulse/Voter Registration SignUp Assistance
DESCRIPTION:OPNC YOUTH PULSE COMMITTEE Will Assist Eligible Stakeholders With Voter Registration Sign Up & Voting Online.  Visit us at the LA High  School Open House. Come and Join In The Fun.
URL:https://opnc.org/event/opnc-youth-pulsevoter-registration-signup-assistance/
LOCATION:Unnamed Venue\, 4650 W. Olympic Blvd.\, Los Angeles\, CA\, 90019\, United States
CATEGORIES:Meetings
GEO:34.055405;-118.3329852
X-APPLE-STRUCTURED-LOCATION;VALUE=URI;X-ADDRESS=Unnamed Venue 4650 W. Olympic Blvd. Los Angeles CA 90019 United States;X-APPLE-RADIUS=500;X-TITLE=4650 W. Olympic Blvd.:geo:-118.3329852,34.055405
END:VEVENT
END:VCALENDAR