
BEGIN:VCALENDAR
VERSION:2.0
PRODID:-//Olympic Park Neighborhood Council - ECPv6.15.17.1//NONSGML v1.0//EN
CALSCALE:GREGORIAN
METHOD:PUBLISH
X-WR-CALNAME:Olympic Park Neighborhood Council
X-ORIGINAL-URL:https://opnc.org
X-WR-CALDESC:Events for Olympic Park Neighborhood Council
REFRESH-INTERVAL;VALUE=DURATION:PT1H
X-Robots-Tag:noindex
X-PUBLISHED-TTL:PT1H
BEGIN:VTIMEZONE
TZID:America/Los_Angeles
BEGIN:DAYLIGHT
TZOFFSETFROM:-0800
TZOFFSETTO:-0700
TZNAME:PDT
DTSTART:20160313T100000
END:DAYLIGHT
BEGIN:STANDARD
TZOFFSETFROM:-0700
TZOFFSETTO:-0800
TZNAME:PST
DTSTART:20161106T090000
END:STANDARD
BEGIN:DAYLIGHT
TZOFFSETFROM:-0800
TZOFFSETTO:-0700
TZNAME:PDT
DTSTART:20170312T100000
END:DAYLIGHT
BEGIN:STANDARD
TZOFFSETFROM:-0700
TZOFFSETTO:-0800
TZNAME:PST
DTSTART:20171105T090000
END:STANDARD
BEGIN:DAYLIGHT
TZOFFSETFROM:-0800
TZOFFSETTO:-0700
TZNAME:PDT
DTSTART:20180311T100000
END:DAYLIGHT
BEGIN:STANDARD
TZOFFSETFROM:-0700
TZOFFSETTO:-0800
TZNAME:PST
DTSTART:20181104T090000
END:STANDARD
END:VTIMEZONE
BEGIN:VEVENT
DTSTART;TZID=America/Los_Angeles:20170513T150000
DTEND;TZID=America/Los_Angeles:20170513T180000
DTSTAMP:20260422T100742
CREATED:20170428T202249Z
LAST-MODIFIED:20170428T204259Z
UID:1344-1494687600-1494698400@opnc.org
SUMMARY:Block Party
DESCRIPTION:OPNC will have a table at this event with goodies for those who stop by and say hello. Chef Mark Peeler will be making his famous grilled cheese sandwiches which were featured in the LA Times a while back. We hope to see you there!
URL:https://opnc.org/event/block-party/
LOCATION:Tremaine Ave and Edgewood
CATEGORIES:Events
ATTACH;FMTTYPE=image/jpeg:https://opnc.org/wp-content/uploads/2017/04/2017-05-Block-Party-pdf.jpg
END:VEVENT
END:VCALENDAR