
BEGIN:VCALENDAR
VERSION:2.0
PRODID:-//Olympic Park Neighborhood Council - ECPv6.15.17.1//NONSGML v1.0//EN
CALSCALE:GREGORIAN
METHOD:PUBLISH
X-WR-CALNAME:Olympic Park Neighborhood Council
X-ORIGINAL-URL:https://opnc.org
X-WR-CALDESC:Events for Olympic Park Neighborhood Council
REFRESH-INTERVAL;VALUE=DURATION:PT1H
X-Robots-Tag:noindex
X-PUBLISHED-TTL:PT1H
BEGIN:VTIMEZONE
TZID:America/Los_Angeles
BEGIN:DAYLIGHT
TZOFFSETFROM:-0800
TZOFFSETTO:-0700
TZNAME:PDT
DTSTART:20160313T100000
END:DAYLIGHT
BEGIN:STANDARD
TZOFFSETFROM:-0700
TZOFFSETTO:-0800
TZNAME:PST
DTSTART:20161106T090000
END:STANDARD
BEGIN:DAYLIGHT
TZOFFSETFROM:-0800
TZOFFSETTO:-0700
TZNAME:PDT
DTSTART:20170312T100000
END:DAYLIGHT
BEGIN:STANDARD
TZOFFSETFROM:-0700
TZOFFSETTO:-0800
TZNAME:PST
DTSTART:20171105T090000
END:STANDARD
BEGIN:DAYLIGHT
TZOFFSETFROM:-0800
TZOFFSETTO:-0700
TZNAME:PDT
DTSTART:20180311T100000
END:DAYLIGHT
BEGIN:STANDARD
TZOFFSETFROM:-0700
TZOFFSETTO:-0800
TZNAME:PST
DTSTART:20181104T090000
END:STANDARD
END:VTIMEZONE
BEGIN:VEVENT
DTSTART;VALUE=DATE:20171117
DTEND;VALUE=DATE:20171120
DTSTAMP:20260421T115731
CREATED:20171107T222220Z
LAST-MODIFIED:20171107T222220Z
UID:1794-1510876800-1511135999@opnc.org
SUMMARY:Care Harbor
DESCRIPTION:
URL:https://opnc.org/event/care-harbor/
LOCATION:The Reef\, 1933 S. BROADWAY\, Los Angeles\, 90007
CATEGORIES:Events
GEO:34.0312448;-118.2665321
X-APPLE-STRUCTURED-LOCATION;VALUE=URI;X-ADDRESS=The Reef 1933 S. BROADWAY Los Angeles 90007;X-APPLE-RADIUS=500;X-TITLE=1933 S. BROADWAY:geo:-118.2665321,34.0312448
END:VEVENT
BEGIN:VEVENT
DTSTART;TZID=America/Los_Angeles:20170126T110000
DTEND;TZID=America/Los_Angeles:20170126T200000
DTSTAMP:20260421T115731
CREATED:20161216T005050Z
LAST-MODIFIED:20161216T005050Z
UID:971-1485428400-1485460800@opnc.org
SUMMARY:TechFair LA
DESCRIPTION:Join the Office of Los Angeles Mayor Eric Garcetti and the City’s Entrepreneur in Residence Jason Nazar\, for one of the City’s largest Technology Job Fairs taking place on Thursday\, January 26th from 11-8pm at The Reef in Downtown Los Angeles. The fair will feature 200+ of LA’s premier technology companies looking to hire great candidates in engineering\, marketing\, sales\, and more. \nThe tech ecosystem in Los Angeles has experienced enormous growth the last few years\, marked by record numbers of companies being started\, massive funding rounds\, and many high-profile acquisitions and exits. With more students graduating with engineering degrees in LA than any other market\, there is no better time than now\, to stay in LA and work for one of LA’s premiere technology companies. \nRSVP Now
URL:https://opnc.org/event/techfair-la/
LOCATION:The Reef\, 1933 S. BROADWAY\, Los Angeles\, 90007
CATEGORIES:Events
GEO:34.0312448;-118.2665321
X-APPLE-STRUCTURED-LOCATION;VALUE=URI;X-ADDRESS=The Reef 1933 S. BROADWAY Los Angeles 90007;X-APPLE-RADIUS=500;X-TITLE=1933 S. BROADWAY:geo:-118.2665321,34.0312448
END:VEVENT
END:VCALENDAR