
BEGIN:VCALENDAR
VERSION:2.0
PRODID:-//Olympic Park Neighborhood Council - ECPv6.15.17.1//NONSGML v1.0//EN
CALSCALE:GREGORIAN
METHOD:PUBLISH
X-WR-CALNAME:Olympic Park Neighborhood Council
X-ORIGINAL-URL:https://opnc.org
X-WR-CALDESC:Events for Olympic Park Neighborhood Council
REFRESH-INTERVAL;VALUE=DURATION:PT1H
X-Robots-Tag:noindex
X-PUBLISHED-TTL:PT1H
BEGIN:VTIMEZONE
TZID:America/Los_Angeles
BEGIN:DAYLIGHT
TZOFFSETFROM:-0800
TZOFFSETTO:-0700
TZNAME:PDT
DTSTART:20160313T100000
END:DAYLIGHT
BEGIN:STANDARD
TZOFFSETFROM:-0700
TZOFFSETTO:-0800
TZNAME:PST
DTSTART:20161106T090000
END:STANDARD
BEGIN:DAYLIGHT
TZOFFSETFROM:-0800
TZOFFSETTO:-0700
TZNAME:PDT
DTSTART:20170312T100000
END:DAYLIGHT
BEGIN:STANDARD
TZOFFSETFROM:-0700
TZOFFSETTO:-0800
TZNAME:PST
DTSTART:20171105T090000
END:STANDARD
BEGIN:DAYLIGHT
TZOFFSETFROM:-0800
TZOFFSETTO:-0700
TZNAME:PDT
DTSTART:20180311T100000
END:DAYLIGHT
BEGIN:STANDARD
TZOFFSETFROM:-0700
TZOFFSETTO:-0800
TZNAME:PST
DTSTART:20181104T090000
END:STANDARD
END:VTIMEZONE
BEGIN:VEVENT
DTSTART;TZID=America/Los_Angeles:20170322T080000
DTEND;TZID=America/Los_Angeles:20170322T123000
DTSTAMP:20260422T073828
CREATED:20170313T203220Z
LAST-MODIFIED:20170313T203220Z
UID:1173-1490169600-1490185800@opnc.org
SUMMARY:Coffee With A Cop
DESCRIPTION:
URL:https://opnc.org/event/coffee-with-a-cop/
LOCATION:Starbucks Wilshire\, 5353 Wilshire
CATEGORIES:Events
GEO:34.0626329;-118.3454461
X-APPLE-STRUCTURED-LOCATION;VALUE=URI;X-ADDRESS=Starbucks Wilshire 5353 Wilshire;X-APPLE-RADIUS=500;X-TITLE=5353 Wilshire:geo:-118.3454461,34.0626329
END:VEVENT
END:VCALENDAR