
BEGIN:VCALENDAR
VERSION:2.0
PRODID:-//Olympic Park Neighborhood Council - ECPv6.15.17.1//NONSGML v1.0//EN
CALSCALE:GREGORIAN
METHOD:PUBLISH
X-WR-CALNAME:Olympic Park Neighborhood Council
X-ORIGINAL-URL:https://opnc.org
X-WR-CALDESC:Events for Olympic Park Neighborhood Council
REFRESH-INTERVAL;VALUE=DURATION:PT1H
X-Robots-Tag:noindex
X-PUBLISHED-TTL:PT1H
BEGIN:VTIMEZONE
TZID:America/Los_Angeles
BEGIN:DAYLIGHT
TZOFFSETFROM:-0800
TZOFFSETTO:-0700
TZNAME:PDT
DTSTART:20180311T100000
END:DAYLIGHT
BEGIN:STANDARD
TZOFFSETFROM:-0700
TZOFFSETTO:-0800
TZNAME:PST
DTSTART:20181104T090000
END:STANDARD
BEGIN:DAYLIGHT
TZOFFSETFROM:-0800
TZOFFSETTO:-0700
TZNAME:PDT
DTSTART:20190310T100000
END:DAYLIGHT
BEGIN:STANDARD
TZOFFSETFROM:-0700
TZOFFSETTO:-0800
TZNAME:PST
DTSTART:20191103T090000
END:STANDARD
BEGIN:DAYLIGHT
TZOFFSETFROM:-0800
TZOFFSETTO:-0700
TZNAME:PDT
DTSTART:20200308T100000
END:DAYLIGHT
BEGIN:STANDARD
TZOFFSETFROM:-0700
TZOFFSETTO:-0800
TZNAME:PST
DTSTART:20201101T090000
END:STANDARD
BEGIN:DAYLIGHT
TZOFFSETFROM:-0800
TZOFFSETTO:-0700
TZNAME:PDT
DTSTART:20210314T100000
END:DAYLIGHT
BEGIN:STANDARD
TZOFFSETFROM:-0700
TZOFFSETTO:-0800
TZNAME:PST
DTSTART:20211107T090000
END:STANDARD
END:VTIMEZONE
BEGIN:VEVENT
DTSTART;TZID=America/Los_Angeles:20200220T190000
DTEND;TZID=America/Los_Angeles:20200220T203000
DTSTAMP:20260421T151310
CREATED:20200214T230426Z
LAST-MODIFIED:20200217T201448Z
UID:3150-1582225200-1582230600@opnc.org
SUMMARY:Traffic & Safety\, Planning & Land Use Committee Meeting
DESCRIPTION:Join us for our Traffic & Safety and Planning & Land Use Committee Meeting on Thursday\, February 20\, 7pm at Starbucks Community Room\, 1250 South La Brea Ave. \nOn our agenda \n\nCrosswalk at Pico/Kenmore\nCross traffic at San Vicente/Longwood & Tremaine\nTraffic light timing San Vicente east bound at Pico and Venice\nSprouts parking lot\n\nFebruary 20\, 2020 Traffic & Safety and Planning & Land Use Committee Agenda
URL:https://opnc.org/event/traffic-safety-planning-land-use-committee-meeting/
LOCATION:Starbucks La Brea\, 1250 S. La Brea\, Los Angeles\, CA\, 90019\, United States
CATEGORIES:Meetings
END:VEVENT
BEGIN:VEVENT
DTSTART;TZID=America/Los_Angeles:20200116T190000
DTEND;TZID=America/Los_Angeles:20200116T210000
DTSTAMP:20260421T151310
CREATED:20200111T032227Z
LAST-MODIFIED:20200111T032227Z
UID:3098-1579201200-1579208400@opnc.org
SUMMARY:Traffic & Safety\, PLUM\, Bylaws Committee Meeting
DESCRIPTION:Join us for our committee meeting of Traffic & Safety\, Planning and Land Use Management and Bylaws on Thursday\, January 16\, 7pm at Starbucks Community Room\, 1250 S. La Brea Ave. \nJanuary 16\, 2020 Traffic & Safety\, PLUM\, Bylaws Agenda
URL:https://opnc.org/event/traffic-safety-plum-bylaws-committee-meeting/
LOCATION:Starbucks La Brea\, 1250 S. La Brea\, Los Angeles\, CA\, 90019\, United States
CATEGORIES:Meetings
END:VEVENT
BEGIN:VEVENT
DTSTART;TZID=America/Los_Angeles:20190717T190000
DTEND;TZID=America/Los_Angeles:20190717T190000
DTSTAMP:20260421T151310
CREATED:20190716T225045Z
LAST-MODIFIED:20190716T230200Z
UID:2834-1563390000-1563390000@opnc.org
SUMMARY:Traffic & Safety Committee Meeting
DESCRIPTION:Join us for Special Traffic & Safety Committee Meeting at Starbucks 1258 S. La Brea\, Los Angeles\, CA 90019 Community Conference Room \nView Agenda
URL:https://opnc.org/event/traffic-safety-committee-meeting/
LOCATION:Starbucks La Brea\, 1250 S. La Brea\, Los Angeles\, CA\, 90019\, United States
CATEGORIES:Meetings
END:VEVENT
END:VCALENDAR