
BEGIN:VCALENDAR
VERSION:2.0
PRODID:-//Olympic Park Neighborhood Council - ECPv6.15.17.1//NONSGML v1.0//EN
CALSCALE:GREGORIAN
METHOD:PUBLISH
X-ORIGINAL-URL:https://opnc.org
X-WR-CALDESC:Events for Olympic Park Neighborhood Council
REFRESH-INTERVAL;VALUE=DURATION:PT1H
X-Robots-Tag:noindex
X-PUBLISHED-TTL:PT1H
BEGIN:VTIMEZONE
TZID:America/Los_Angeles
BEGIN:DAYLIGHT
TZOFFSETFROM:-0800
TZOFFSETTO:-0700
TZNAME:PDT
DTSTART:20160313T100000
END:DAYLIGHT
BEGIN:STANDARD
TZOFFSETFROM:-0700
TZOFFSETTO:-0800
TZNAME:PST
DTSTART:20161106T090000
END:STANDARD
BEGIN:DAYLIGHT
TZOFFSETFROM:-0800
TZOFFSETTO:-0700
TZNAME:PDT
DTSTART:20170312T100000
END:DAYLIGHT
BEGIN:STANDARD
TZOFFSETFROM:-0700
TZOFFSETTO:-0800
TZNAME:PST
DTSTART:20171105T090000
END:STANDARD
BEGIN:DAYLIGHT
TZOFFSETFROM:-0800
TZOFFSETTO:-0700
TZNAME:PDT
DTSTART:20180311T100000
END:DAYLIGHT
BEGIN:STANDARD
TZOFFSETFROM:-0700
TZOFFSETTO:-0800
TZNAME:PST
DTSTART:20181104T090000
END:STANDARD
END:VTIMEZONE
BEGIN:VEVENT
DTSTART;TZID=America/Los_Angeles:20170513T080000
DTEND;TZID=America/Los_Angeles:20170513T130000
DTSTAMP:20260424T032040
CREATED:20170505T203733Z
LAST-MODIFIED:20170505T203733Z
UID:1381-1494662400-1494680400@opnc.org
SUMMARY:Anonymous Gun Buyback
DESCRIPTION:The City of Los Angeles’ anonymous Gun Buyback is an initiative led by GRYD in partnership with the LAPD. Launched in the spring of 2009\, the Gun Buyback marks the beginning of the City of Los Angeles summer violence reduction strategy. The GRYD office aligned its outreach efforts on the Gun Buyback initiative to specifically focus its outreach to areas within the City that have the highest propensity for violence. \nHow It Works\nOn Saturday\, May 13\, 2017\, there are two Gun Buyback locations located within the City. In exchange for surrendering a firearm\, an individual receive a gift card. \n8am-1pm: Participants drive through the collection line\, firearms are inspected and classified Participants then completed a survey and received a gift card upon departure. \nThe amount per firearm is up to $100 for all handguns\, rifles\, and shotguns surrendered and up to $200 for assault weapons as classified by the State of California.
URL:https://opnc.org/event/anonymous-gun-buyback/
LOCATION:Sports Arena\, 3939 S. Figueroa\, Los Angeles\, CA\, 90037
CATEGORIES:Events
GEO:34.0124943;-118.2845822
X-APPLE-STRUCTURED-LOCATION;VALUE=URI;X-ADDRESS=Sports Arena 3939 S. Figueroa Los Angeles CA 90037;X-APPLE-RADIUS=500;X-TITLE=3939 S. Figueroa:geo:-118.2845822,34.0124943
END:VEVENT
END:VCALENDAR