
BEGIN:VCALENDAR
VERSION:2.0
PRODID:-//Olympic Park Neighborhood Council - ECPv6.15.17.1//NONSGML v1.0//EN
CALSCALE:GREGORIAN
METHOD:PUBLISH
X-WR-CALNAME:Olympic Park Neighborhood Council
X-ORIGINAL-URL:https://opnc.org
X-WR-CALDESC:Events for Olympic Park Neighborhood Council
REFRESH-INTERVAL;VALUE=DURATION:PT1H
X-Robots-Tag:noindex
X-PUBLISHED-TTL:PT1H
BEGIN:VTIMEZONE
TZID:America/Los_Angeles
BEGIN:DAYLIGHT
TZOFFSETFROM:-0800
TZOFFSETTO:-0700
TZNAME:PDT
DTSTART:20150308T100000
END:DAYLIGHT
BEGIN:STANDARD
TZOFFSETFROM:-0700
TZOFFSETTO:-0800
TZNAME:PST
DTSTART:20151101T090000
END:STANDARD
BEGIN:DAYLIGHT
TZOFFSETFROM:-0800
TZOFFSETTO:-0700
TZNAME:PDT
DTSTART:20160313T100000
END:DAYLIGHT
BEGIN:STANDARD
TZOFFSETFROM:-0700
TZOFFSETTO:-0800
TZNAME:PST
DTSTART:20161106T090000
END:STANDARD
BEGIN:DAYLIGHT
TZOFFSETFROM:-0800
TZOFFSETTO:-0700
TZNAME:PDT
DTSTART:20170312T100000
END:DAYLIGHT
BEGIN:STANDARD
TZOFFSETFROM:-0700
TZOFFSETTO:-0800
TZNAME:PST
DTSTART:20171105T090000
END:STANDARD
BEGIN:DAYLIGHT
TZOFFSETFROM:-0800
TZOFFSETTO:-0700
TZNAME:PDT
DTSTART:20180311T100000
END:DAYLIGHT
BEGIN:STANDARD
TZOFFSETFROM:-0700
TZOFFSETTO:-0800
TZNAME:PST
DTSTART:20181104T090000
END:STANDARD
BEGIN:DAYLIGHT
TZOFFSETFROM:-0800
TZOFFSETTO:-0700
TZNAME:PDT
DTSTART:20190310T100000
END:DAYLIGHT
BEGIN:STANDARD
TZOFFSETFROM:-0700
TZOFFSETTO:-0800
TZNAME:PST
DTSTART:20191103T090000
END:STANDARD
BEGIN:DAYLIGHT
TZOFFSETFROM:-0800
TZOFFSETTO:-0700
TZNAME:PDT
DTSTART:20200308T100000
END:DAYLIGHT
BEGIN:STANDARD
TZOFFSETFROM:-0700
TZOFFSETTO:-0800
TZNAME:PST
DTSTART:20201101T090000
END:STANDARD
BEGIN:DAYLIGHT
TZOFFSETFROM:-0800
TZOFFSETTO:-0700
TZNAME:PDT
DTSTART:20210314T100000
END:DAYLIGHT
BEGIN:STANDARD
TZOFFSETFROM:-0700
TZOFFSETTO:-0800
TZNAME:PST
DTSTART:20211107T090000
END:STANDARD
BEGIN:DAYLIGHT
TZOFFSETFROM:-0800
TZOFFSETTO:-0700
TZNAME:PDT
DTSTART:20220313T100000
END:DAYLIGHT
BEGIN:STANDARD
TZOFFSETFROM:-0700
TZOFFSETTO:-0800
TZNAME:PST
DTSTART:20221106T090000
END:STANDARD
BEGIN:DAYLIGHT
TZOFFSETFROM:-0800
TZOFFSETTO:-0700
TZNAME:PDT
DTSTART:20230312T100000
END:DAYLIGHT
BEGIN:STANDARD
TZOFFSETFROM:-0700
TZOFFSETTO:-0800
TZNAME:PST
DTSTART:20231105T090000
END:STANDARD
BEGIN:DAYLIGHT
TZOFFSETFROM:-0800
TZOFFSETTO:-0700
TZNAME:PDT
DTSTART:20240310T100000
END:DAYLIGHT
BEGIN:STANDARD
TZOFFSETFROM:-0700
TZOFFSETTO:-0800
TZNAME:PST
DTSTART:20241103T090000
END:STANDARD
BEGIN:DAYLIGHT
TZOFFSETFROM:-0800
TZOFFSETTO:-0700
TZNAME:PDT
DTSTART:20250309T100000
END:DAYLIGHT
BEGIN:STANDARD
TZOFFSETFROM:-0700
TZOFFSETTO:-0800
TZNAME:PST
DTSTART:20251102T090000
END:STANDARD
BEGIN:DAYLIGHT
TZOFFSETFROM:-0800
TZOFFSETTO:-0700
TZNAME:PDT
DTSTART:20260308T100000
END:DAYLIGHT
BEGIN:STANDARD
TZOFFSETFROM:-0700
TZOFFSETTO:-0800
TZNAME:PST
DTSTART:20261101T090000
END:STANDARD
BEGIN:DAYLIGHT
TZOFFSETFROM:-0800
TZOFFSETTO:-0700
TZNAME:PDT
DTSTART:20270314T100000
END:DAYLIGHT
BEGIN:STANDARD
TZOFFSETFROM:-0700
TZOFFSETTO:-0800
TZNAME:PST
DTSTART:20271107T090000
END:STANDARD
END:VTIMEZONE
BEGIN:VEVENT
DTSTART;TZID=America/Los_Angeles:20260404T120000
DTEND;TZID=America/Los_Angeles:20260404T140000
DTSTAMP:20260424T203422
CREATED:20260311T193405Z
LAST-MODIFIED:20260311T193405Z
UID:9891-1775304000-1775311200@opnc.org
SUMMARY:Egg Hunt
DESCRIPTION:Egg Hunt\, Arts & Crafts\, Prizes\, Games\, Refreshments\, Music\, face painting \nSpring Events – 2026
URL:https://opnc.org/event/egg-hunt-2/
LOCATION:Queen Anne Recreation Center\, 1240 West Blvd\, Los Angeles\, 90019
CATEGORIES:Events
GEO:34.0508042;-118.332572
X-APPLE-STRUCTURED-LOCATION;VALUE=URI;X-ADDRESS=Queen Anne Recreation Center 1240 West Blvd Los Angeles 90019;X-APPLE-RADIUS=500;X-TITLE=1240 West Blvd:geo:-118.332572,34.0508042
END:VEVENT
BEGIN:VEVENT
DTSTART;TZID=America/Los_Angeles:20251025T160000
DTEND;TZID=America/Los_Angeles:20251025T200000
DTSTAMP:20260424T203422
CREATED:20251021T193653Z
LAST-MODIFIED:20251021T193819Z
UID:9672-1761408000-1761422400@opnc.org
SUMMARY:Halloween at Queen Anne Recreation Center
DESCRIPTION:Food And Entertainment\, Music\, Games\, Fun\, Prizes
URL:https://opnc.org/event/halloween-at-queen-anne-recreation-center/
LOCATION:Queen Anne Recreation Center\, 1240 West Blvd\, Los Angeles\, 90019
CATEGORIES:Events
GEO:34.0508042;-118.332572
X-APPLE-STRUCTURED-LOCATION;VALUE=URI;X-ADDRESS=Queen Anne Recreation Center 1240 West Blvd Los Angeles 90019;X-APPLE-RADIUS=500;X-TITLE=1240 West Blvd:geo:-118.332572,34.0508042
END:VEVENT
BEGIN:VEVENT
DTSTART;TZID=America/Los_Angeles:20250427T093000
DTEND;TZID=America/Los_Angeles:20250427T123000
DTSTAMP:20260424T203422
CREATED:20250423T213459Z
LAST-MODIFIED:20250423T214453Z
UID:9371-1745746200-1745757000@opnc.org
SUMMARY:Community Clean Up & Resource Fair
DESCRIPTION:
URL:https://opnc.org/event/community-clean-up-resource-fair-2/
LOCATION:Queen Anne Recreation Center\, 1240 West Blvd\, Los Angeles\, 90019
CATEGORIES:Events
GEO:34.0508042;-118.332572
X-APPLE-STRUCTURED-LOCATION;VALUE=URI;X-ADDRESS=Queen Anne Recreation Center 1240 West Blvd Los Angeles 90019;X-APPLE-RADIUS=500;X-TITLE=1240 West Blvd:geo:-118.332572,34.0508042
END:VEVENT
BEGIN:VEVENT
DTSTART;TZID=America/Los_Angeles:20250412T120000
DTEND;TZID=America/Los_Angeles:20250412T140000
DTSTAMP:20260424T203422
CREATED:20250403T181353Z
LAST-MODIFIED:20250403T181353Z
UID:9337-1744459200-1744466400@opnc.org
SUMMARY:Spring Easter Egg Hunt
DESCRIPTION:Enjoy a free spring Easter Egg Hunt at Queen Anne’s Recreation Center April 12\, noon-2pm.
URL:https://opnc.org/event/spring-easter-egg-hunt/
LOCATION:Queen Anne Recreation Center\, 1240 West Blvd\, Los Angeles\, 90019
CATEGORIES:Events
GEO:34.0508042;-118.332572
X-APPLE-STRUCTURED-LOCATION;VALUE=URI;X-ADDRESS=Queen Anne Recreation Center 1240 West Blvd Los Angeles 90019;X-APPLE-RADIUS=500;X-TITLE=1240 West Blvd:geo:-118.332572,34.0508042
END:VEVENT
BEGIN:VEVENT
DTSTART;TZID=America/Los_Angeles:20241025T150000
DTEND;TZID=America/Los_Angeles:20241025T190000
DTSTAMP:20260424T203422
CREATED:20241018T172227Z
LAST-MODIFIED:20241018T172227Z
UID:9141-1729868400-1729882800@opnc.org
SUMMARY:Halloween at Queen Anne's
DESCRIPTION:Games\, Costume Contest\, Refreshments
URL:https://opnc.org/event/halloween-at-queen-annes/
LOCATION:Queen Anne Recreation Center\, 1240 West Blvd\, Los Angeles\, 90019
CATEGORIES:Events
GEO:34.0508042;-118.332572
X-APPLE-STRUCTURED-LOCATION;VALUE=URI;X-ADDRESS=Queen Anne Recreation Center 1240 West Blvd Los Angeles 90019;X-APPLE-RADIUS=500;X-TITLE=1240 West Blvd:geo:-118.332572,34.0508042
END:VEVENT
BEGIN:VEVENT
DTSTART;TZID=America/Los_Angeles:20240802T180000
DTEND;TZID=America/Los_Angeles:20240802T213000
DTSTAMP:20260424T203422
CREATED:20240802T203309Z
LAST-MODIFIED:20240806T203458Z
UID:8988-1722621600-1722634200@opnc.org
SUMMARY:Movie Night
DESCRIPTION:Look for us at our table. See you there.
URL:https://opnc.org/event/movie-night/
LOCATION:Queen Anne Recreation Center\, 1240 West Blvd\, Los Angeles\, 90019
CATEGORIES:Events
GEO:34.0508042;-118.332572
X-APPLE-STRUCTURED-LOCATION;VALUE=URI;X-ADDRESS=Queen Anne Recreation Center 1240 West Blvd Los Angeles 90019;X-APPLE-RADIUS=500;X-TITLE=1240 West Blvd:geo:-118.332572,34.0508042
END:VEVENT
BEGIN:VEVENT
DTSTART;TZID=America/Los_Angeles:20231208T150000
DTEND;TZID=America/Los_Angeles:20231208T180000
DTSTAMP:20260424T203422
CREATED:20231130T165958Z
LAST-MODIFIED:20231130T170109Z
UID:7983-1702047600-1702058400@opnc.org
SUMMARY:Queen Anne Snow Night
DESCRIPTION:Councilwoman Heather Hutt is bringing the snow to Los Angeles this Holiday season! Join Council District 10 for a Winter Wonderland Experience that will include food\, games\, and more! Entry is free\, and this community event is for the entire community to enjoy.
URL:https://opnc.org/event/queen-anne-snow-night/
LOCATION:Queen Anne Recreation Center\, 1240 West Blvd\, Los Angeles\, 90019
CATEGORIES:Events
GEO:34.0508042;-118.332572
X-APPLE-STRUCTURED-LOCATION;VALUE=URI;X-ADDRESS=Queen Anne Recreation Center 1240 West Blvd Los Angeles 90019;X-APPLE-RADIUS=500;X-TITLE=1240 West Blvd:geo:-118.332572,34.0508042
END:VEVENT
BEGIN:VEVENT
DTSTART;TZID=America/Los_Angeles:20230818T180000
DTEND;TZID=America/Los_Angeles:20230818T213000
DTSTAMP:20260424T203422
CREATED:20230808T190757Z
LAST-MODIFIED:20230808T190935Z
UID:7094-1692381600-1692394200@opnc.org
SUMMARY:Movies in the Park
DESCRIPTION:OPNC is proud to partner to bring you Movies in the Park at Queen Anne Recreation Center. Come for an evening of fun watching the movie Encanto. \nEnjoy tacos (chicken and asada)\, paletas (Oaxacan ice cream from Mateo’s Ice Cream)\, and pre-bagged popcorn (from a nearby theater). There will also be 300 backpacks with school supplies inside and a raffle of two bikes and skateboards with a safety helmet.
URL:https://opnc.org/event/movies-in-the-park-5/
LOCATION:Queen Anne Recreation Center\, 1240 West Blvd\, Los Angeles\, 90019
CATEGORIES:Events
GEO:34.0508042;-118.332572
X-APPLE-STRUCTURED-LOCATION;VALUE=URI;X-ADDRESS=Queen Anne Recreation Center 1240 West Blvd Los Angeles 90019;X-APPLE-RADIUS=500;X-TITLE=1240 West Blvd:geo:-118.332572,34.0508042
END:VEVENT
BEGIN:VEVENT
DTSTART;TZID=America/Los_Angeles:20230818T180000
DTEND;TZID=America/Los_Angeles:20230818T213000
DTSTAMP:20260424T203422
CREATED:20230719T182024Z
LAST-MODIFIED:20230720T172656Z
UID:6970-1692381600-1692394200@opnc.org
SUMMARY:Movies in the Park: Encanto
DESCRIPTION:OPNC is proud to sponsor this Movies in the Park event. See you there.
URL:https://opnc.org/event/movies-in-the-park-encanto/
LOCATION:Queen Anne Recreation Center\, 1240 West Blvd\, Los Angeles\, 90019
CATEGORIES:Events
GEO:34.0508042;-118.332572
X-APPLE-STRUCTURED-LOCATION;VALUE=URI;X-ADDRESS=Queen Anne Recreation Center 1240 West Blvd Los Angeles 90019;X-APPLE-RADIUS=500;X-TITLE=1240 West Blvd:geo:-118.332572,34.0508042
END:VEVENT
BEGIN:VEVENT
DTSTART;TZID=America/Los_Angeles:20190816T180000
DTEND;TZID=America/Los_Angeles:20190816T213000
DTSTAMP:20260424T203422
CREATED:20190802T224750Z
LAST-MODIFIED:20190802T224806Z
UID:2855-1565978400-1565991000@opnc.org
SUMMARY:Movies in the Park
DESCRIPTION:Enjoy Incredibles 2\, August 16 at Queen Anne Recreation Center. Free admission\, popcorn\, hot dogs and candy! Festivities begin at 6pm.
URL:https://opnc.org/event/2855/
LOCATION:Queen Anne Recreation Center\, 1240 West Blvd\, Los Angeles\, 90019
CATEGORIES:Events
GEO:34.0508042;-118.332572
X-APPLE-STRUCTURED-LOCATION;VALUE=URI;X-ADDRESS=Queen Anne Recreation Center 1240 West Blvd Los Angeles 90019;X-APPLE-RADIUS=500;X-TITLE=1240 West Blvd:geo:-118.332572,34.0508042
END:VEVENT
BEGIN:VEVENT
DTSTART;TZID=America/Los_Angeles:20181031T160000
DTEND;TZID=America/Los_Angeles:20181031T200000
DTSTAMP:20260424T203422
CREATED:20181024T204612Z
LAST-MODIFIED:20181024T204612Z
UID:2528-1541001600-1541016000@opnc.org
SUMMARY:Halloween Haunt
DESCRIPTION:
URL:https://opnc.org/event/halloween-haunt-2/
LOCATION:Queen Anne Recreation Center\, 1240 West Blvd\, Los Angeles\, 90019
CATEGORIES:Events
GEO:34.0508042;-118.332572
X-APPLE-STRUCTURED-LOCATION;VALUE=URI;X-ADDRESS=Queen Anne Recreation Center 1240 West Blvd Los Angeles 90019;X-APPLE-RADIUS=500;X-TITLE=1240 West Blvd:geo:-118.332572,34.0508042
END:VEVENT
BEGIN:VEVENT
DTSTART;TZID=America/Los_Angeles:20180810T190000
DTEND;TZID=America/Los_Angeles:20180810T213000
DTSTAMP:20260424T203422
CREATED:20180703T230731Z
LAST-MODIFIED:20180713T174011Z
UID:2384-1533927600-1533936600@opnc.org
SUMMARY:Movies in the Park: Ferdinand
DESCRIPTION:Council President Herb Wesson is sponsoring Movies in the Park at Queen Anne Recreation Center. Enjoy delicious food\, a raffle and a fun movie.
URL:https://opnc.org/event/movies-in-the-park-ferdinand/
LOCATION:Queen Anne Recreation Center\, 1240 West Blvd\, Los Angeles\, 90019
CATEGORIES:Events
GEO:34.0508042;-118.332572
X-APPLE-STRUCTURED-LOCATION;VALUE=URI;X-ADDRESS=Queen Anne Recreation Center 1240 West Blvd Los Angeles 90019;X-APPLE-RADIUS=500;X-TITLE=1240 West Blvd:geo:-118.332572,34.0508042
END:VEVENT
BEGIN:VEVENT
DTSTART;TZID=America/Los_Angeles:20171031T160000
DTEND;TZID=America/Los_Angeles:20171031T180000
DTSTAMP:20260424T203422
CREATED:20170928T152006Z
LAST-MODIFIED:20170928T152006Z
UID:1658-1509465600-1509472800@opnc.org
SUMMARY:Halloween Haunt
DESCRIPTION:
URL:https://opnc.org/event/halloween-haunt/
LOCATION:Queen Anne Recreation Center\, 1240 West Blvd\, Los Angeles\, 90019
CATEGORIES:Events
GEO:34.0508042;-118.332572
X-APPLE-STRUCTURED-LOCATION;VALUE=URI;X-ADDRESS=Queen Anne Recreation Center 1240 West Blvd Los Angeles 90019;X-APPLE-RADIUS=500;X-TITLE=1240 West Blvd:geo:-118.332572,34.0508042
END:VEVENT
BEGIN:VEVENT
DTSTART;TZID=America/Los_Angeles:20170818T193000
DTEND;TZID=America/Los_Angeles:20170818T220000
DTSTAMP:20260424T203422
CREATED:20170811T205111Z
LAST-MODIFIED:20170811T205111Z
UID:1542-1503084600-1503093600@opnc.org
SUMMARY:Movies in the Park
DESCRIPTION:
URL:https://opnc.org/event/movies-in-the-park/
LOCATION:Queen Anne Recreation Center\, 1240 West Blvd\, Los Angeles\, 90019
CATEGORIES:Events
GEO:34.0508042;-118.332572
X-APPLE-STRUCTURED-LOCATION;VALUE=URI;X-ADDRESS=Queen Anne Recreation Center 1240 West Blvd Los Angeles 90019;X-APPLE-RADIUS=500;X-TITLE=1240 West Blvd:geo:-118.332572,34.0508042
END:VEVENT
BEGIN:VEVENT
DTSTART;TZID=America/Los_Angeles:20170521T110000
DTEND;TZID=America/Los_Angeles:20170521T160000
DTSTAMP:20260424T203422
CREATED:20170227T185804Z
LAST-MODIFIED:20170511T003232Z
UID:1132-1495364400-1495382400@opnc.org
SUMMARY:International Flair of Cultures
DESCRIPTION:
URL:https://opnc.org/event/international-flair-cultures/
LOCATION:Queen Anne Recreation Center\, 1240 West Blvd\, Los Angeles\, 90019
CATEGORIES:Events
GEO:34.0508042;-118.332572
X-APPLE-STRUCTURED-LOCATION;VALUE=URI;X-ADDRESS=Queen Anne Recreation Center 1240 West Blvd Los Angeles 90019;X-APPLE-RADIUS=500;X-TITLE=1240 West Blvd:geo:-118.332572,34.0508042
END:VEVENT
BEGIN:VEVENT
DTSTART;TZID=America/Los_Angeles:20170407T153000
DTEND;TZID=America/Los_Angeles:20170407T173000
DTSTAMP:20260424T203422
CREATED:20170330T200629Z
LAST-MODIFIED:20170405T180419Z
UID:1215-1491579000-1491586200@opnc.org
SUMMARY:Spring Eggstravaganza
DESCRIPTION:
URL:https://opnc.org/event/spring-eggstravaganza/
LOCATION:Queen Anne Recreation Center\, 1240 West Blvd\, Los Angeles\, 90019
CATEGORIES:Events
GEO:34.0508042;-118.332572
X-APPLE-STRUCTURED-LOCATION;VALUE=URI;X-ADDRESS=Queen Anne Recreation Center 1240 West Blvd Los Angeles 90019;X-APPLE-RADIUS=500;X-TITLE=1240 West Blvd:geo:-118.332572,34.0508042
END:VEVENT
BEGIN:VEVENT
DTSTART;TZID=America/Los_Angeles:20160324T150000
DTEND;TZID=America/Los_Angeles:20160324T180000
DTSTAMP:20260424T203422
CREATED:20160318T222954Z
LAST-MODIFIED:20160322T163424Z
UID:458-1458831600-1458842400@opnc.org
SUMMARY:Egg Hunt
DESCRIPTION:
URL:https://opnc.org/event/egg-hunt/
LOCATION:Queen Anne Recreation Center\, 1240 West Blvd\, Los Angeles\, 90019
CATEGORIES:Events
GEO:34.0508042;-118.332572
X-APPLE-STRUCTURED-LOCATION;VALUE=URI;X-ADDRESS=Queen Anne Recreation Center 1240 West Blvd Los Angeles 90019;X-APPLE-RADIUS=500;X-TITLE=1240 West Blvd:geo:-118.332572,34.0508042
END:VEVENT
END:VCALENDAR