
BEGIN:VCALENDAR
VERSION:2.0
PRODID:-//Olympic Park Neighborhood Council - ECPv6.15.17.1//NONSGML v1.0//EN
CALSCALE:GREGORIAN
METHOD:PUBLISH
X-ORIGINAL-URL:https://opnc.org
X-WR-CALDESC:Events for Olympic Park Neighborhood Council
REFRESH-INTERVAL;VALUE=DURATION:PT1H
X-Robots-Tag:noindex
X-PUBLISHED-TTL:PT1H
BEGIN:VTIMEZONE
TZID:America/Los_Angeles
BEGIN:DAYLIGHT
TZOFFSETFROM:-0800
TZOFFSETTO:-0700
TZNAME:PDT
DTSTART:20160313T100000
END:DAYLIGHT
BEGIN:STANDARD
TZOFFSETFROM:-0700
TZOFFSETTO:-0800
TZNAME:PST
DTSTART:20161106T090000
END:STANDARD
BEGIN:DAYLIGHT
TZOFFSETFROM:-0800
TZOFFSETTO:-0700
TZNAME:PDT
DTSTART:20170312T100000
END:DAYLIGHT
BEGIN:STANDARD
TZOFFSETFROM:-0700
TZOFFSETTO:-0800
TZNAME:PST
DTSTART:20171105T090000
END:STANDARD
BEGIN:DAYLIGHT
TZOFFSETFROM:-0800
TZOFFSETTO:-0700
TZNAME:PDT
DTSTART:20180311T100000
END:DAYLIGHT
BEGIN:STANDARD
TZOFFSETFROM:-0700
TZOFFSETTO:-0800
TZNAME:PST
DTSTART:20181104T090000
END:STANDARD
END:VTIMEZONE
BEGIN:VEVENT
DTSTART;TZID=America/Los_Angeles:20171021T190000
DTEND;TZID=America/Los_Angeles:20171021T230000
DTSTAMP:20260422T053126
CREATED:20170912T165002Z
LAST-MODIFIED:20171004T231213Z
UID:1594-1508612400-1508626800@opnc.org
SUMMARY:Los Angeles High Centennial Celebrity Gala
DESCRIPTION:Celebrity Gala at the Petersen Automotive Museum\n \nSaturday\, October 21\, 2017 from 7:00 pm to 11:00 pm \nHeld in the Bruce Meyer Family Gallery- named for distinguished Roman alum\, Bruce Meyer- the Gala Celebrates Los Angeles High School’s history\, legacy\, and future potential. Featuring LA High students and Alumni Award Recipients: \n  \n \nGEORGE TAKEI  LAHS Class of 1956 \nMr. Takei is best known for his portrayal of Mr. Sulu in the acclaimed television and film series Star Trek.  He’s an actor\, social justice activist and social media mega-power! He originated the role of Sam Kimura and Ojii-Chan in the Broadway musical Allegiance\, and is the subject of To Be Takei\, a documentary on his life and career. \n  \n  \n  \n  \n \nMILT LARSEN  LAHS Class of 1949 \nA true renaissance man\, with a career that encompasses writing\, producing and performing across multiple disciplines\, Mr. Larsen is best known for his role in the world of Magic! Founder and President of the world famous private club for Magicians\, The Magic Castle in Hollywood\,  he has been voted one of the 100 most influential individuals in the history of magic!  In addition\, he is a well known theater historian and record collector! \n  \n  \n  \n \nGERRY BROWN  LAHS Class of 1976 \nMr. Brown is a Grammy Award winning recording engineer and producer\, based in Los Angeles and credited on over 47 Platinum and Gold Records working with such mega stars as Alicia Keys\, Erykah Badu\, Raphael Saadiq\, Vanessa Williams and Brian McKnight.  His 2011 Grammy win was for Best Contemporary Jazz Album\, “The Stanley Clarke Band“. \n  \n  \n  \n  \nMembers of the Los Angeles High School Community!\n\n\n\nWE HAVE SOMETHING TO CELEBRATE AND WOULD LOVE TO HAVE YOU JOIN US!\n\nLos Angeles High School originally opened in downtown LA in 1873. However\, on September 10\, 1917\, after relocating four times downtown\, LA High opened its doors at its new\, permanent home located at Olympic & Rimpau.\n\nOn October 21\, 2017\, please join us for our Roman Renaissance Centennial Gala at the fabulous Petersen Automotive Museum\, as we celebrate 100 years at Olympic and Rimpau.\n\nWAYS TO HELP SUPPORT LA HIGH’S CENTENNIAL TO BENEFIT THE ARTS\, ATHLETICS AND ACADEMICS OF ROME:\n\n– GOOD: Purchase an ad in the 48 page full color souvenir program. Reasonable prices AND a good cause. The program will be given out at both our October 20th Homecoming game AND our Celebrity Gala on October 21st. See attached price sheet. DEADLINES FOR AD COPY EXTENDED TO OCTOBER 9TH.\n\n– BETTER: Buy a ticket (or more!) to attend our fabulous Gala at the Petersen Automotive Museum highlighting the history of LA High and honoring LA High alumni\, IN PERSON: George Takei\, the actor and social justice activist is best known for his portrayal of Mr. Sulu on “Star Trek;” Milt Larsen\, magician\, entertainer extraordinaire and founder of the legendary Magic Castle; and Gerry Brown\, Grammy Award-winning recording engineer and producer\, who is credited on over 47 platinum and gold records.\n\n– ABSOLUTE BEST: Become a Centennial Sponsor! All sponsors automatically receive Ad space in the souvenir program and get VIP treatment at our Gala – an evening filled with museum cars\, magic\, music and historic musings! See sponsor opportunites attached.\n\n\n \n\n\n​To purchase tickets\, ads\, or sponsorships go to our website:   http://harrison-lahs.org/centennial-individual-event-tickets/ \n​    ​\n\n\n\n\n\n\n​Please feel free to contact me – Joyce Kleifield\, harrisontrustlahs@gmail.com or 323 428-9607 if you have any questions or want more info!\n\nThank you for showing your pride and support! ​
URL:https://opnc.org/event/los-angeles-high-centennial-celebrity-gala/
LOCATION:Peterson Automotive Museum\, 600 Wilshire Blvd\, Los Angeles\, 90036
CATEGORIES:Events
GEO:34.0479891;-118.2565708
X-APPLE-STRUCTURED-LOCATION;VALUE=URI;X-ADDRESS=Peterson Automotive Museum 600 Wilshire Blvd Los Angeles 90036;X-APPLE-RADIUS=500;X-TITLE=600 Wilshire Blvd:geo:-118.2565708,34.0479891
END:VEVENT
END:VCALENDAR