
BEGIN:VCALENDAR
VERSION:2.0
PRODID:-//Olympic Park Neighborhood Council - ECPv6.15.17.1//NONSGML v1.0//EN
CALSCALE:GREGORIAN
METHOD:PUBLISH
X-WR-CALNAME:Olympic Park Neighborhood Council
X-ORIGINAL-URL:https://opnc.org
X-WR-CALDESC:Events for Olympic Park Neighborhood Council
REFRESH-INTERVAL;VALUE=DURATION:PT1H
X-Robots-Tag:noindex
X-PUBLISHED-TTL:PT1H
BEGIN:VTIMEZONE
TZID:America/Los_Angeles
BEGIN:DAYLIGHT
TZOFFSETFROM:-0800
TZOFFSETTO:-0700
TZNAME:PDT
DTSTART:20220313T100000
END:DAYLIGHT
BEGIN:STANDARD
TZOFFSETFROM:-0700
TZOFFSETTO:-0800
TZNAME:PST
DTSTART:20221106T090000
END:STANDARD
BEGIN:DAYLIGHT
TZOFFSETFROM:-0800
TZOFFSETTO:-0700
TZNAME:PDT
DTSTART:20230312T100000
END:DAYLIGHT
BEGIN:STANDARD
TZOFFSETFROM:-0700
TZOFFSETTO:-0800
TZNAME:PST
DTSTART:20231105T090000
END:STANDARD
BEGIN:DAYLIGHT
TZOFFSETFROM:-0800
TZOFFSETTO:-0700
TZNAME:PDT
DTSTART:20240310T100000
END:DAYLIGHT
BEGIN:STANDARD
TZOFFSETFROM:-0700
TZOFFSETTO:-0800
TZNAME:PST
DTSTART:20241103T090000
END:STANDARD
END:VTIMEZONE
BEGIN:VEVENT
DTSTART;TZID=America/Los_Angeles:20230417T190000
DTEND;TZID=America/Los_Angeles:20230417T210000
DTSTAMP:20260423T061144
CREATED:20230414T222842Z
LAST-MODIFIED:20230417T165616Z
UID:6297-1681758000-1681765200@opnc.org
SUMMARY:Special Board Meeting
DESCRIPTION:Join us in person April 17\, 7-9pm. \nLos Angeles High School Parent Center \n4650 W Olympic Blvd Los Angeles 90019 \nOn our agenda: \nThe owner of 1215 S. Irolo has approached the Olympic Park Neighborhood Council to present plans for a multi-family residential building. The project would involved demolishing the existing structure for the construction of an 11 unit\, 3 story over ground level parking apartment building using three on menu Transit Oriented Community Incentives while reserving one unit for extra low income\, in the R3-1 zone. \nMore information can be found at City Planning. \n\nAfter minor edits to match plans Starr stamped plans 11_02_2023B22LA10999 …230412
URL:https://opnc.org/event/special-board-meeting-4/
LOCATION:Los Angeles High School Parent Center\, 4650 W Olympic Blvd\, Los Angeles
CATEGORIES:Board,Meetings
END:VEVENT
END:VCALENDAR