
BEGIN:VCALENDAR
VERSION:2.0
PRODID:-//Olympic Park Neighborhood Council - ECPv6.15.17.1//NONSGML v1.0//EN
CALSCALE:GREGORIAN
METHOD:PUBLISH
X-WR-CALNAME:Olympic Park Neighborhood Council
X-ORIGINAL-URL:https://opnc.org
X-WR-CALDESC:Events for Olympic Park Neighborhood Council
REFRESH-INTERVAL;VALUE=DURATION:PT1H
X-Robots-Tag:noindex
X-PUBLISHED-TTL:PT1H
BEGIN:VTIMEZONE
TZID:America/Los_Angeles
BEGIN:DAYLIGHT
TZOFFSETFROM:-0800
TZOFFSETTO:-0700
TZNAME:PDT
DTSTART:20150308T100000
END:DAYLIGHT
BEGIN:STANDARD
TZOFFSETFROM:-0700
TZOFFSETTO:-0800
TZNAME:PST
DTSTART:20151101T090000
END:STANDARD
BEGIN:DAYLIGHT
TZOFFSETFROM:-0800
TZOFFSETTO:-0700
TZNAME:PDT
DTSTART:20160313T100000
END:DAYLIGHT
BEGIN:STANDARD
TZOFFSETFROM:-0700
TZOFFSETTO:-0800
TZNAME:PST
DTSTART:20161106T090000
END:STANDARD
BEGIN:DAYLIGHT
TZOFFSETFROM:-0800
TZOFFSETTO:-0700
TZNAME:PDT
DTSTART:20170312T100000
END:DAYLIGHT
BEGIN:STANDARD
TZOFFSETFROM:-0700
TZOFFSETTO:-0800
TZNAME:PST
DTSTART:20171105T090000
END:STANDARD
END:VTIMEZONE
BEGIN:VEVENT
DTSTART;TZID=America/Los_Angeles:20160802T180000
DTEND;TZID=America/Los_Angeles:20160802T210000
DTSTAMP:20260421T131335
CREATED:20160707T173037Z
LAST-MODIFIED:20160707T173502Z
UID:622-1470160800-1470171600@opnc.org
SUMMARY:National Night Out
DESCRIPTION:
URL:https://opnc.org/event/national-night-out/
LOCATION:LAPD Olympic Station\, 1130 S. Vermont Ave.\, Los Angeles\, 90006
CATEGORIES:Events
GEO:34.050229;-118.2911404
X-APPLE-STRUCTURED-LOCATION;VALUE=URI;X-ADDRESS=LAPD Olympic Station 1130 S. Vermont Ave. Los Angeles 90006;X-APPLE-RADIUS=500;X-TITLE=1130 S. Vermont Ave.:geo:-118.2911404,34.050229
END:VEVENT
END:VCALENDAR