
BEGIN:VCALENDAR
VERSION:2.0
PRODID:-//Olympic Park Neighborhood Council - ECPv6.15.17.1//NONSGML v1.0//EN
CALSCALE:GREGORIAN
METHOD:PUBLISH
X-ORIGINAL-URL:https://opnc.org
X-WR-CALDESC:Events for Olympic Park Neighborhood Council
REFRESH-INTERVAL;VALUE=DURATION:PT1H
X-Robots-Tag:noindex
X-PUBLISHED-TTL:PT1H
BEGIN:VTIMEZONE
TZID:America/Los_Angeles
BEGIN:DAYLIGHT
TZOFFSETFROM:-0800
TZOFFSETTO:-0700
TZNAME:PDT
DTSTART:20160313T100000
END:DAYLIGHT
BEGIN:STANDARD
TZOFFSETFROM:-0700
TZOFFSETTO:-0800
TZNAME:PST
DTSTART:20161106T090000
END:STANDARD
BEGIN:DAYLIGHT
TZOFFSETFROM:-0800
TZOFFSETTO:-0700
TZNAME:PDT
DTSTART:20170312T100000
END:DAYLIGHT
BEGIN:STANDARD
TZOFFSETFROM:-0700
TZOFFSETTO:-0800
TZNAME:PST
DTSTART:20171105T090000
END:STANDARD
BEGIN:DAYLIGHT
TZOFFSETFROM:-0800
TZOFFSETTO:-0700
TZNAME:PDT
DTSTART:20180311T100000
END:DAYLIGHT
BEGIN:STANDARD
TZOFFSETFROM:-0700
TZOFFSETTO:-0800
TZNAME:PST
DTSTART:20181104T090000
END:STANDARD
END:VTIMEZONE
BEGIN:VEVENT
DTSTART;TZID=America/Los_Angeles:20170225T083000
DTEND;TZID=America/Los_Angeles:20170225T123000
DTSTAMP:20260422T034723
CREATED:20170218T012203Z
LAST-MODIFIED:20170218T012203Z
UID:1119-1488011400-1488025800@opnc.org
SUMMARY:Regional Budget Day
DESCRIPTION:
URL:https://opnc.org/event/regional-budget-day-2/
LOCATION:LA Housing Dept\, 1645 Corinth Ave\, Los Angeles\, 90049
CATEGORIES:Events
GEO:34.0453582;-118.4488859
X-APPLE-STRUCTURED-LOCATION;VALUE=URI;X-ADDRESS=LA Housing Dept 1645 Corinth Ave Los Angeles 90049;X-APPLE-RADIUS=500;X-TITLE=1645 Corinth Ave:geo:-118.4488859,34.0453582
END:VEVENT
END:VCALENDAR