
BEGIN:VCALENDAR
VERSION:2.0
PRODID:-//Olympic Park Neighborhood Council - ECPv6.15.17.1//NONSGML v1.0//EN
CALSCALE:GREGORIAN
METHOD:PUBLISH
X-ORIGINAL-URL:https://opnc.org
X-WR-CALDESC:Events for Olympic Park Neighborhood Council
REFRESH-INTERVAL;VALUE=DURATION:PT1H
X-Robots-Tag:noindex
X-PUBLISHED-TTL:PT1H
BEGIN:VTIMEZONE
TZID:America/Los_Angeles
BEGIN:DAYLIGHT
TZOFFSETFROM:-0800
TZOFFSETTO:-0700
TZNAME:PDT
DTSTART:20180311T100000
END:DAYLIGHT
BEGIN:STANDARD
TZOFFSETFROM:-0700
TZOFFSETTO:-0800
TZNAME:PST
DTSTART:20181104T090000
END:STANDARD
BEGIN:DAYLIGHT
TZOFFSETFROM:-0800
TZOFFSETTO:-0700
TZNAME:PDT
DTSTART:20190310T100000
END:DAYLIGHT
BEGIN:STANDARD
TZOFFSETFROM:-0700
TZOFFSETTO:-0800
TZNAME:PST
DTSTART:20191103T090000
END:STANDARD
BEGIN:DAYLIGHT
TZOFFSETFROM:-0800
TZOFFSETTO:-0700
TZNAME:PDT
DTSTART:20200308T100000
END:DAYLIGHT
BEGIN:STANDARD
TZOFFSETFROM:-0700
TZOFFSETTO:-0800
TZNAME:PST
DTSTART:20201101T090000
END:STANDARD
BEGIN:DAYLIGHT
TZOFFSETFROM:-0800
TZOFFSETTO:-0700
TZNAME:PDT
DTSTART:20210314T100000
END:DAYLIGHT
BEGIN:STANDARD
TZOFFSETFROM:-0700
TZOFFSETTO:-0800
TZNAME:PST
DTSTART:20211107T090000
END:STANDARD
BEGIN:DAYLIGHT
TZOFFSETFROM:-0800
TZOFFSETTO:-0700
TZNAME:PDT
DTSTART:20220313T100000
END:DAYLIGHT
BEGIN:STANDARD
TZOFFSETFROM:-0700
TZOFFSETTO:-0800
TZNAME:PST
DTSTART:20221106T090000
END:STANDARD
BEGIN:DAYLIGHT
TZOFFSETFROM:-0800
TZOFFSETTO:-0700
TZNAME:PDT
DTSTART:20230312T100000
END:DAYLIGHT
BEGIN:STANDARD
TZOFFSETFROM:-0700
TZOFFSETTO:-0800
TZNAME:PST
DTSTART:20231105T090000
END:STANDARD
BEGIN:DAYLIGHT
TZOFFSETFROM:-0800
TZOFFSETTO:-0700
TZNAME:PDT
DTSTART:20240310T100000
END:DAYLIGHT
BEGIN:STANDARD
TZOFFSETFROM:-0700
TZOFFSETTO:-0800
TZNAME:PST
DTSTART:20241103T090000
END:STANDARD
BEGIN:DAYLIGHT
TZOFFSETFROM:-0800
TZOFFSETTO:-0700
TZNAME:PDT
DTSTART:20250309T100000
END:DAYLIGHT
BEGIN:STANDARD
TZOFFSETFROM:-0700
TZOFFSETTO:-0800
TZNAME:PST
DTSTART:20251102T090000
END:STANDARD
END:VTIMEZONE
BEGIN:VEVENT
DTSTART;TZID=America/Los_Angeles:20240210T090000
DTEND;TZID=America/Los_Angeles:20240210T130000
DTSTAMP:20260421T073213
CREATED:20240202T211656Z
LAST-MODIFIED:20240202T211656Z
UID:8650-1707555600-1707570000@opnc.org
SUMMARY:Camping 101 & Emergency Preparedness Class
DESCRIPTION:In this family friendly outdoor education class\, learn how to prepare for camping\, emergencies and climate change. \nRegister
URL:https://opnc.org/event/camping-101-emergency-preparedness-class/
LOCATION:Kenneth Hahn State Recreation Area\, 4100 S La Cienega Boulevard\, Los Angeles\, 90056
CATEGORIES:Events
END:VEVENT
BEGIN:VEVENT
DTSTART;TZID=America/Los_Angeles:20200118T080000
DTEND;TZID=America/Los_Angeles:20200118T130000
DTSTAMP:20260421T073213
CREATED:20200115T182521Z
LAST-MODIFIED:20200115T182521Z
UID:3100-1579334400-1579352400@opnc.org
SUMMARY:Martin Luther King Day of Service
DESCRIPTION:More info at 323-298-3660 \nRegistration and breakfast 8am\, Activities start at 9am with restoration and beautification projects for all ages.
URL:https://opnc.org/event/martin-luther-king-day-of-service/
LOCATION:Kenneth Hahn State Recreation Area\, 4100 S La Cienega Boulevard\, Los Angeles\, 90056
CATEGORIES:Events
END:VEVENT
BEGIN:VEVENT
DTSTART;TZID=America/Los_Angeles:20190309T100000
DTEND;TZID=America/Los_Angeles:20190309T120000
DTSTAMP:20260421T073213
CREATED:20190301T060834Z
LAST-MODIFIED:20190301T060834Z
UID:2708-1552125600-1552132800@opnc.org
SUMMARY:Prop 68 Workshop
DESCRIPTION:Please join Holly Mitchell and the Los Angeles Neighborhood Land Trust for a unique opportunity to learn about Prop 68 and engage in a discussion on future green space investment in Senate District 30.\nWHAT: Prop 68 Workshop\nWHEN: Saturday\, March 9\, 2019 at 10:00am-12:00pm\nPURPOSE: Learn about Prop 68 funding opportunities and identify new potential green spaces in Senate District 30.\nWHERE: Kenneth Hahn State Recreation Area\, Community Room 4100 S La Cienega Boulevard Los Angeles\, CA 90056\nPARKING: On-site\nBring your ideas\, questions\, and concerns regarding park development in your neighborhood!\nPlease RSVP by March 6 to armine.sargsyan@sen.ca.gov.\nIf you have any questions\, contact Armine Sargsyan at (213) 745-6656.
URL:https://opnc.org/event/prop-68-workshop/
LOCATION:Kenneth Hahn State Recreation Area\, 4100 S La Cienega Boulevard\, Los Angeles\, 90056
CATEGORIES:Events
END:VEVENT
END:VCALENDAR