
BEGIN:VCALENDAR
VERSION:2.0
PRODID:-//Olympic Park Neighborhood Council - ECPv6.15.17.1//NONSGML v1.0//EN
CALSCALE:GREGORIAN
METHOD:PUBLISH
X-WR-CALNAME:Olympic Park Neighborhood Council
X-ORIGINAL-URL:https://opnc.org
X-WR-CALDESC:Events for Olympic Park Neighborhood Council
REFRESH-INTERVAL;VALUE=DURATION:PT1H
X-Robots-Tag:noindex
X-PUBLISHED-TTL:PT1H
BEGIN:VTIMEZONE
TZID:America/Los_Angeles
BEGIN:DAYLIGHT
TZOFFSETFROM:-0800
TZOFFSETTO:-0700
TZNAME:PDT
DTSTART:20180311T100000
END:DAYLIGHT
BEGIN:STANDARD
TZOFFSETFROM:-0700
TZOFFSETTO:-0800
TZNAME:PST
DTSTART:20181104T090000
END:STANDARD
BEGIN:DAYLIGHT
TZOFFSETFROM:-0800
TZOFFSETTO:-0700
TZNAME:PDT
DTSTART:20190310T100000
END:DAYLIGHT
BEGIN:STANDARD
TZOFFSETFROM:-0700
TZOFFSETTO:-0800
TZNAME:PST
DTSTART:20191103T090000
END:STANDARD
BEGIN:DAYLIGHT
TZOFFSETFROM:-0800
TZOFFSETTO:-0700
TZNAME:PDT
DTSTART:20200308T100000
END:DAYLIGHT
BEGIN:STANDARD
TZOFFSETFROM:-0700
TZOFFSETTO:-0800
TZNAME:PST
DTSTART:20201101T090000
END:STANDARD
END:VTIMEZONE
BEGIN:VEVENT
DTSTART;TZID=America/Los_Angeles:20190406T090000
DTEND;TZID=America/Los_Angeles:20190406T150000
DTSTAMP:20260421T183351
CREATED:20190403T180122Z
LAST-MODIFIED:20190403T180122Z
UID:2734-1554541200-1554562800@opnc.org
SUMMARY:Metro Youth FIRE Program
DESCRIPTION:For youth ages 14-18 \n8 Saturdays 9am-3pm April 6-May 25 \nEngine Company Operations \nTruck Company Operations \nEmergency Medical Service Operations \nLeadership Development \nContact Patricia.Arias@lacity.org \nRegister at JoinLAFD.org
URL:https://opnc.org/event/metro-youth-fire-program/
LOCATION:Frank Hotchkin Memorial Training Center\, 1700 Stadium Way\, Los Angeles\, 90012
CATEGORIES:Events
END:VEVENT
END:VCALENDAR