
BEGIN:VCALENDAR
VERSION:2.0
PRODID:-//Olympic Park Neighborhood Council - ECPv6.15.17.1//NONSGML v1.0//EN
CALSCALE:GREGORIAN
METHOD:PUBLISH
X-ORIGINAL-URL:https://opnc.org
X-WR-CALDESC:Events for Olympic Park Neighborhood Council
REFRESH-INTERVAL;VALUE=DURATION:PT1H
X-Robots-Tag:noindex
X-PUBLISHED-TTL:PT1H
BEGIN:VTIMEZONE
TZID:America/Los_Angeles
BEGIN:DAYLIGHT
TZOFFSETFROM:-0800
TZOFFSETTO:-0700
TZNAME:PDT
DTSTART:20160313T100000
END:DAYLIGHT
BEGIN:STANDARD
TZOFFSETFROM:-0700
TZOFFSETTO:-0800
TZNAME:PST
DTSTART:20161106T090000
END:STANDARD
BEGIN:DAYLIGHT
TZOFFSETFROM:-0800
TZOFFSETTO:-0700
TZNAME:PDT
DTSTART:20170312T100000
END:DAYLIGHT
BEGIN:STANDARD
TZOFFSETFROM:-0700
TZOFFSETTO:-0800
TZNAME:PST
DTSTART:20171105T090000
END:STANDARD
BEGIN:DAYLIGHT
TZOFFSETFROM:-0800
TZOFFSETTO:-0700
TZNAME:PDT
DTSTART:20180311T100000
END:DAYLIGHT
BEGIN:STANDARD
TZOFFSETFROM:-0700
TZOFFSETTO:-0800
TZNAME:PST
DTSTART:20181104T090000
END:STANDARD
END:VTIMEZONE
BEGIN:VEVENT
DTSTART;TZID=America/Los_Angeles:20170226T130000
DTEND;TZID=America/Los_Angeles:20170226T160000
DTSTAMP:20260422T021002
CREATED:20170218T011803Z
LAST-MODIFIED:20170218T011803Z
UID:1116-1488114000-1488124800@opnc.org
SUMMARY:Measure S Forum
DESCRIPTION:Undecided on Measure S (also known as the Neighborhood Integrity Initiative)? \nJoin the Neighborhood Council Sustainability Alliance for a moderated conversation with experts on both sides of the issue\, and hear about the implications for our environment. \nOur panelists are: \nJack Humphreville\, columnist for CityWatch LA and president of the Department of Water and Power Advocacy Committee \nMiki Jackson\, grassroots activist and consultant to AIDS Healthcare Foundation \nMichael Manville\, assistant professor of urban planning\, UCLA Luskin School of Public Affairs \nMark Vallianatos\, co-founder of Abundant Housing LA and member of the Zoning Advisory Committee for re:code LA \nPlease note—the NCSA has not taken a position on the measure. \nFire Station 59 (West LA)\n11505 W Olympic Blvd\nLos Angeles\, CA 90064 \nEnter on Butler. You can also park inside the gate on Butler. \nLooking for someone to carpool with? Visit http://www.groupcarpool.com/t/aor8xc. \nLight refreshments will be served\, and as always\, we strive to make our meetings zero-waste. So please bring a cup!\nAnd thank you to the Historic Highland Park Neighborhood Council for their help in organizing this forum.\nWHEN\nFebruary 26\, 2017 at 1pm – 4pm\nWHERE\nFire Station 59 (West LA)\n11505 W Olympic Blvd\nLos Angeles\, CA 90064
URL:https://opnc.org/event/measure-s-forum/
LOCATION:Fire Station 59 (West LA)\, 11505 W Olympic Blvd\, Los Angeles\, 90064
CATEGORIES:Events
GEO:34.0366088;-118.4444574
X-APPLE-STRUCTURED-LOCATION;VALUE=URI;X-ADDRESS=Fire Station 59 (West LA) 11505 W Olympic Blvd Los Angeles 90064;X-APPLE-RADIUS=500;X-TITLE=11505 W Olympic Blvd:geo:-118.4444574,34.0366088
END:VEVENT
END:VCALENDAR