
BEGIN:VCALENDAR
VERSION:2.0
PRODID:-//Olympic Park Neighborhood Council - ECPv6.15.17.1//NONSGML v1.0//EN
CALSCALE:GREGORIAN
METHOD:PUBLISH
X-WR-CALNAME:Olympic Park Neighborhood Council
X-ORIGINAL-URL:https://opnc.org
X-WR-CALDESC:Events for Olympic Park Neighborhood Council
REFRESH-INTERVAL;VALUE=DURATION:PT1H
X-Robots-Tag:noindex
X-PUBLISHED-TTL:PT1H
BEGIN:VTIMEZONE
TZID:America/Los_Angeles
BEGIN:DAYLIGHT
TZOFFSETFROM:-0800
TZOFFSETTO:-0700
TZNAME:PDT
DTSTART:20160313T100000
END:DAYLIGHT
BEGIN:STANDARD
TZOFFSETFROM:-0700
TZOFFSETTO:-0800
TZNAME:PST
DTSTART:20161106T090000
END:STANDARD
BEGIN:DAYLIGHT
TZOFFSETFROM:-0800
TZOFFSETTO:-0700
TZNAME:PDT
DTSTART:20170312T100000
END:DAYLIGHT
BEGIN:STANDARD
TZOFFSETFROM:-0700
TZOFFSETTO:-0800
TZNAME:PST
DTSTART:20171105T090000
END:STANDARD
BEGIN:DAYLIGHT
TZOFFSETFROM:-0800
TZOFFSETTO:-0700
TZNAME:PDT
DTSTART:20180311T100000
END:DAYLIGHT
BEGIN:STANDARD
TZOFFSETFROM:-0700
TZOFFSETTO:-0800
TZNAME:PST
DTSTART:20181104T090000
END:STANDARD
BEGIN:DAYLIGHT
TZOFFSETFROM:-0800
TZOFFSETTO:-0700
TZNAME:PDT
DTSTART:20190310T100000
END:DAYLIGHT
BEGIN:STANDARD
TZOFFSETFROM:-0700
TZOFFSETTO:-0800
TZNAME:PST
DTSTART:20191103T090000
END:STANDARD
END:VTIMEZONE
BEGIN:VEVENT
DTSTART;TZID=America/Los_Angeles:20180902T120000
DTEND;TZID=America/Los_Angeles:20180902T190000
DTSTAMP:20260421T201318
CREATED:20180731T182038Z
LAST-MODIFIED:20180828T204418Z
UID:2425-1535889600-1535914800@opnc.org
SUMMARY:End of Summer Music & Cultural Celebration
DESCRIPTION:
URL:https://opnc.org/event/end-of-summer-music-cultural-celebration/
LOCATION:Exposition Park\, 700 Exposition Park Dr.\, Los Angeles\, 90037
CATEGORIES:Events
GEO:34.0157877;-118.2862095
X-APPLE-STRUCTURED-LOCATION;VALUE=URI;X-ADDRESS=Exposition Park 700 Exposition Park Dr. Los Angeles 90037;X-APPLE-RADIUS=500;X-TITLE=700 Exposition Park Dr.:geo:-118.2862095,34.0157877
END:VEVENT
BEGIN:VEVENT
DTSTART;TZID=America/Los_Angeles:20180804T090000
DTEND;TZID=America/Los_Angeles:20180804T130000
DTSTAMP:20260421T201318
CREATED:20180731T181917Z
LAST-MODIFIED:20180731T181917Z
UID:2422-1533373200-1533387600@opnc.org
SUMMARY:Back to School Health & Family Festival
DESCRIPTION:
URL:https://opnc.org/event/back-to-school-health-family-festival/
LOCATION:Exposition Park\, 700 Exposition Park Dr.\, Los Angeles\, 90037
CATEGORIES:Events
GEO:34.0157877;-118.2862095
X-APPLE-STRUCTURED-LOCATION;VALUE=URI;X-ADDRESS=Exposition Park 700 Exposition Park Dr. Los Angeles 90037;X-APPLE-RADIUS=500;X-TITLE=700 Exposition Park Dr.:geo:-118.2862095,34.0157877
END:VEVENT
BEGIN:VEVENT
DTSTART;TZID=America/Los_Angeles:20180704T110000
DTEND;TZID=America/Los_Angeles:20180704T220000
DTSTAMP:20260421T201318
CREATED:20180628T214411Z
LAST-MODIFIED:20180628T214411Z
UID:2377-1530702000-1530741600@opnc.org
SUMMARY:4th of July at Exposition Park
DESCRIPTION:The 4th of July Community Festival and Fireworks Show will return to Expo Park at the South Lawn. Join host Councilman Curren Price and tens of thousands of friends and neighbors as we ignite LA’s skyline and launch a pyrotechnic celebration on Wednesday\, July 4. \nIn preparation of the local Independence Day celebration\, here are some pointers to help you make the most of your experience: \n1. Parking is LIMITED and public transportation is strongly recommended. Use the Metro Expo Line to the Expo Park/USC Station. More information at www.metro.net/riding/trip-planner \n2. Early arrival is suggested. There will be live music\, food and family-friendly activities beginning at 11 a.m. so make sure to make the most of your day. \n3. Don’t forget to pack a blanket and sweater for the evening. Remember\, the fireworks extravaganza will come to life at dusk\, around 9 p.m.\, so you’ll want to be cozy when the main attraction begins. \nPlease note\, live entertainment will begin at 12 p.m. presented by the City of Los Angeles & KJLH Radio. See below for details. \nPerformances by: \nYoYo \nJade Novah \nConganas \nTyler Conti \nMaurice Smith \nEl Tropi Corillo de Los Ángeles \nIman Europe \nAprilFoolChild \nGuadalupae D’Lushus & Sambalushus Dancers
URL:https://opnc.org/event/4th-of-july-at-exposition-park/
LOCATION:Exposition Park\, 700 Exposition Park Dr.\, Los Angeles\, 90037
CATEGORIES:Events
GEO:34.0157877;-118.2862095
X-APPLE-STRUCTURED-LOCATION;VALUE=URI;X-ADDRESS=Exposition Park 700 Exposition Park Dr. Los Angeles 90037;X-APPLE-RADIUS=500;X-TITLE=700 Exposition Park Dr.:geo:-118.2862095,34.0157877
END:VEVENT
BEGIN:VEVENT
DTSTART;TZID=America/Los_Angeles:20180210T110000
DTEND;TZID=America/Los_Angeles:20180210T150000
DTSTAMP:20260421T201318
CREATED:20180202T224535Z
LAST-MODIFIED:20180202T224535Z
UID:2026-1518260400-1518274800@opnc.org
SUMMARY:LA Football Club Job Fair
DESCRIPTION:
URL:https://opnc.org/event/la-football-club-job-fair/2018-02-10/
LOCATION:Exposition Park\, 700 Exposition Park Dr.\, Los Angeles\, 90037
CATEGORIES:Events
GEO:34.0157877;-118.2862095
X-APPLE-STRUCTURED-LOCATION;VALUE=URI;X-ADDRESS=Exposition Park 700 Exposition Park Dr. Los Angeles 90037;X-APPLE-RADIUS=500;X-TITLE=700 Exposition Park Dr.:geo:-118.2862095,34.0157877
END:VEVENT
BEGIN:VEVENT
DTSTART;TZID=America/Los_Angeles:20170704T110000
DTEND;TZID=America/Los_Angeles:20170704T220000
DTSTAMP:20260421T201318
CREATED:20170630T000208Z
LAST-MODIFIED:20170630T001612Z
UID:1474-1499166000-1499205600@opnc.org
SUMMARY:4th of July Community Festival and Fireworks
DESCRIPTION: 
URL:https://opnc.org/event/4th-july-community-festival-fireworks/
LOCATION:Exposition Park\, 700 Exposition Park Dr.\, Los Angeles\, 90037
CATEGORIES:Events
GEO:34.0157877;-118.2862095
X-APPLE-STRUCTURED-LOCATION;VALUE=URI;X-ADDRESS=Exposition Park 700 Exposition Park Dr. Los Angeles 90037;X-APPLE-RADIUS=500;X-TITLE=700 Exposition Park Dr.:geo:-118.2862095,34.0157877
END:VEVENT
BEGIN:VEVENT
DTSTART;TZID=America/Los_Angeles:20170422T100000
DTEND;TZID=America/Los_Angeles:20170422T140000
DTSTAMP:20260421T201318
CREATED:20170405T173342Z
LAST-MODIFIED:20170405T173445Z
UID:1265-1492855200-1492869600@opnc.org
SUMMARY:Earth Day LA 2017
DESCRIPTION:On Saturday\, April 22\, 2017 from 10am to 2pm\, LA Sanitation will hold its second annual citywide Earth Day LA event at Exposition Park. There will be City vehicles for kids to explore\, games to play\, prizes to win\, seeds to plant\, 50+ exhibitors to visit\, and fun for all ages. Free beverages and snacks are available while supplies last. All exhibits will be related to City services and sustainability. Join us for earth-friendly fun in a festival setting! There is no charge for admission\, and all are welcome. \nOver 50 exhibitors\nThe exhibitor area is so much fun\, you won’t even know you’re learning! All of our exhibitors are either government or non-profit. There will be nothing for sale\, but there are plenty of giveaways! Learn how to use recycled water at home\, what items can go in the blue recycling bin\, where to get free mulch\, how to sign up for a free street tree\, and much more! \nCity vehicles to explore\nThis is what the kids have been waiting for! LASAN brings out one of each truck type for kids to explore. Honk horns\, operate the controls\, and see what it’s like to be a collections worker! Additionally\, other City departments will bring vehicles for kids to explore. Don’t forget your camera to capture those smiles! \nFree food and beverage\nLASAN staff will be grilling from 10am to 2pm! Platters include a choice of hot dog or chicken sandwich\, served with fresh fruit and pretzels. Ice cream sandwiches\, popsicles\, and cold water will also be available. These treats are free for all\, while supplies last. \nMore information \nWant to let us know you’re coming? Visit www.earthdayla.eventbrite.com
URL:https://opnc.org/event/earth-day-la-2017/
LOCATION:Exposition Park\, 700 Exposition Park Dr.\, Los Angeles\, 90037
CATEGORIES:Events
GEO:34.0157877;-118.2862095
X-APPLE-STRUCTURED-LOCATION;VALUE=URI;X-ADDRESS=Exposition Park 700 Exposition Park Dr. Los Angeles 90037;X-APPLE-RADIUS=500;X-TITLE=700 Exposition Park Dr.:geo:-118.2862095,34.0157877
END:VEVENT
BEGIN:VEVENT
DTSTART;TZID=America/Los_Angeles:20170211T100000
DTEND;TZID=America/Los_Angeles:20170211T140000
DTSTAMP:20260421T201318
CREATED:20170209T201603Z
LAST-MODIFIED:20170209T201603Z
UID:1101-1486807200-1486821600@opnc.org
SUMMARY:Kids Fitness Challenge and Oral Health Initiative
DESCRIPTION:Don’t Miss Out on the 2nd Annual\nToothFairy Convention! \nThe L.A. Trust is excited to announce the 2nd Annual ToothFairy Convention happening on Saturday February 11\, 2017 from 10am – 2pm at Exposition Park. This event is open to parents\, children\, and the overall community to learn about the importance of oral health. \nCommunity partners\, sponsors\, oral healthcare providers and oral health advocates from all across Los Angeles will gather to offer resources and free oral health education. \nThe ToothFairy Convention is a fantastic\nopportunity for both parents and children!!\nParents will get the chance to… \nlearn about insurance enrollment\nreceive free dental screenings\nconnect with a local dental providers\n& establish a dental home\nparticipate in opportunity drawings with exciting prizes! \nKids will get the chance to… \nreceive free dental screenings\nlearn about proper oral care in a fun atmosphere\nparticipate in fun games & activities (bounce house\, face painting\, arts & crafts!) \nMore
URL:https://opnc.org/event/kids-fitness-challenge-oral-health-initiative/
LOCATION:Exposition Park\, 700 Exposition Park Dr.\, Los Angeles\, 90037
CATEGORIES:Events
GEO:34.0157877;-118.2862095
X-APPLE-STRUCTURED-LOCATION;VALUE=URI;X-ADDRESS=Exposition Park 700 Exposition Park Dr. Los Angeles 90037;X-APPLE-RADIUS=500;X-TITLE=700 Exposition Park Dr.:geo:-118.2862095,34.0157877
END:VEVENT
END:VCALENDAR