
BEGIN:VCALENDAR
VERSION:2.0
PRODID:-//Olympic Park Neighborhood Council - ECPv6.15.17.1//NONSGML v1.0//EN
CALSCALE:GREGORIAN
METHOD:PUBLISH
X-WR-CALNAME:Olympic Park Neighborhood Council
X-ORIGINAL-URL:https://opnc.org
X-WR-CALDESC:Events for Olympic Park Neighborhood Council
REFRESH-INTERVAL;VALUE=DURATION:PT1H
X-Robots-Tag:noindex
X-PUBLISHED-TTL:PT1H
BEGIN:VTIMEZONE
TZID:America/Los_Angeles
BEGIN:DAYLIGHT
TZOFFSETFROM:-0800
TZOFFSETTO:-0700
TZNAME:PDT
DTSTART:20150308T100000
END:DAYLIGHT
BEGIN:STANDARD
TZOFFSETFROM:-0700
TZOFFSETTO:-0800
TZNAME:PST
DTSTART:20151101T090000
END:STANDARD
BEGIN:DAYLIGHT
TZOFFSETFROM:-0800
TZOFFSETTO:-0700
TZNAME:PDT
DTSTART:20160313T100000
END:DAYLIGHT
BEGIN:STANDARD
TZOFFSETFROM:-0700
TZOFFSETTO:-0800
TZNAME:PST
DTSTART:20161106T090000
END:STANDARD
BEGIN:DAYLIGHT
TZOFFSETFROM:-0800
TZOFFSETTO:-0700
TZNAME:PDT
DTSTART:20170312T100000
END:DAYLIGHT
BEGIN:STANDARD
TZOFFSETFROM:-0700
TZOFFSETTO:-0800
TZNAME:PST
DTSTART:20171105T090000
END:STANDARD
BEGIN:DAYLIGHT
TZOFFSETFROM:-0800
TZOFFSETTO:-0700
TZNAME:PDT
DTSTART:20180311T100000
END:DAYLIGHT
BEGIN:STANDARD
TZOFFSETFROM:-0700
TZOFFSETTO:-0800
TZNAME:PST
DTSTART:20181104T090000
END:STANDARD
BEGIN:DAYLIGHT
TZOFFSETFROM:-0800
TZOFFSETTO:-0700
TZNAME:PDT
DTSTART:20190310T100000
END:DAYLIGHT
BEGIN:STANDARD
TZOFFSETFROM:-0700
TZOFFSETTO:-0800
TZNAME:PST
DTSTART:20191103T090000
END:STANDARD
BEGIN:DAYLIGHT
TZOFFSETFROM:-0800
TZOFFSETTO:-0700
TZNAME:PDT
DTSTART:20200308T100000
END:DAYLIGHT
BEGIN:STANDARD
TZOFFSETFROM:-0700
TZOFFSETTO:-0800
TZNAME:PST
DTSTART:20201101T090000
END:STANDARD
BEGIN:DAYLIGHT
TZOFFSETFROM:-0800
TZOFFSETTO:-0700
TZNAME:PDT
DTSTART:20210314T100000
END:DAYLIGHT
BEGIN:STANDARD
TZOFFSETFROM:-0700
TZOFFSETTO:-0800
TZNAME:PST
DTSTART:20211107T090000
END:STANDARD
BEGIN:DAYLIGHT
TZOFFSETFROM:-0800
TZOFFSETTO:-0700
TZNAME:PDT
DTSTART:20220313T100000
END:DAYLIGHT
BEGIN:STANDARD
TZOFFSETFROM:-0700
TZOFFSETTO:-0800
TZNAME:PST
DTSTART:20221106T090000
END:STANDARD
END:VTIMEZONE
BEGIN:VEVENT
DTSTART;TZID=America/Los_Angeles:20210504T090000
DTEND;TZID=America/Los_Angeles:20210504T120000
DTSTAMP:20260421T042240
CREATED:20210423T171350Z
LAST-MODIFIED:20210423T173255Z
UID:3872-1620118800-1620129600@opnc.org
SUMMARY:Local Vaccine Site
DESCRIPTION:Make an appointment: https://www.caprepmod.org/reg/1931650392
URL:https://opnc.org/event/local-vaccine-site/
LOCATION:Council 10 District Office\, 5213 W. Pico Blvd.\, Los Angeles\, 90019
CATEGORIES:Events
GEO:34.0411939;-118.3093669
X-APPLE-STRUCTURED-LOCATION;VALUE=URI;X-ADDRESS=Council 10 District Office 5213 W. Pico Blvd. Los Angeles 90019;X-APPLE-RADIUS=500;X-TITLE=5213 W. Pico Blvd.:geo:-118.3093669,34.0411939
END:VEVENT
BEGIN:VEVENT
DTSTART;TZID=America/Los_Angeles:20201003T090000
DTEND;TZID=America/Los_Angeles:20201003T123000
DTSTAMP:20260421T042240
CREATED:20200926T003419Z
LAST-MODIFIED:20200926T003419Z
UID:3567-1601715600-1601728200@opnc.org
SUMMARY:Free COVID Testing
DESCRIPTION:Make an appointment: http://bit.ly/kheircovid or text COVID to 213-637-1080
URL:https://opnc.org/event/free-covid-testing/
LOCATION:Council 10 District Office\, 5213 W. Pico Blvd.\, Los Angeles\, 90019
CATEGORIES:Events
GEO:34.0411939;-118.3093669
X-APPLE-STRUCTURED-LOCATION;VALUE=URI;X-ADDRESS=Council 10 District Office 5213 W. Pico Blvd. Los Angeles 90019;X-APPLE-RADIUS=500;X-TITLE=5213 W. Pico Blvd.:geo:-118.3093669,34.0411939
END:VEVENT
BEGIN:VEVENT
DTSTART;TZID=America/Los_Angeles:20200529T080000
DTEND;TZID=America/Los_Angeles:20200529T100000
DTSTAMP:20260421T042240
CREATED:20200528T233110Z
LAST-MODIFIED:20200528T233110Z
UID:3313-1590739200-1590746400@opnc.org
SUMMARY:Veteran's Drive Through Groceries
DESCRIPTION:All veterans\, current military members\, and their immediate household family members – including caretakers – are invited to a drive-thru grocery giveaway from 8 a.m. to 10 a.m at the Council district office. They’re excited to give something back to our veterans\, who have sacrificed so much. \n\nSign-up and more details available at https://forms.gle/wNzQKdQ77qFLoHVA7.
URL:https://opnc.org/event/veterans-drive-through-groceries/
LOCATION:Council 10 District Office\, 5213 W. Pico Blvd.\, Los Angeles\, 90019
CATEGORIES:Events
GEO:34.0411939;-118.3093669
X-APPLE-STRUCTURED-LOCATION;VALUE=URI;X-ADDRESS=Council 10 District Office 5213 W. Pico Blvd. Los Angeles 90019;X-APPLE-RADIUS=500;X-TITLE=5213 W. Pico Blvd.:geo:-118.3093669,34.0411939
END:VEVENT
BEGIN:VEVENT
DTSTART;TZID=America/Los_Angeles:20200515T130000
DTEND;TZID=America/Los_Angeles:20200515T140000
DTSTAMP:20260421T042240
CREATED:20200515T162720Z
LAST-MODIFIED:20200515T162720Z
UID:3282-1589547600-1589551200@opnc.org
SUMMARY:Wesson Grocery Giveaway
DESCRIPTION:Councilmember Wesson is teaming up again with Danny Trejo (5/15) to distribute free groceries! Drive-thru & walk ups will be permitted to line up on Manhattan Pl (behind his office at 1819 S. Western Avenue) at 1 PM. Please wear masks\, gloves & observe 6 ft social distancing guidelines at all times. This is first-come\, first-served.
URL:https://opnc.org/event/wesson-grocery-giveaway/
LOCATION:Council 10 District Office\, 5213 W. Pico Blvd.\, Los Angeles\, 90019
CATEGORIES:Events
GEO:34.0411939;-118.3093669
X-APPLE-STRUCTURED-LOCATION;VALUE=URI;X-ADDRESS=Council 10 District Office 5213 W. Pico Blvd. Los Angeles 90019;X-APPLE-RADIUS=500;X-TITLE=5213 W. Pico Blvd.:geo:-118.3093669,34.0411939
END:VEVENT
BEGIN:VEVENT
DTSTART;TZID=America/Los_Angeles:20180521T190000
DTEND;TZID=America/Los_Angeles:20180521T213000
DTSTAMP:20260421T042240
CREATED:20180312T043709Z
LAST-MODIFIED:20180517T230605Z
UID:2118-1526929200-1526938200@opnc.org
SUMMARY:Board Meeting & Joint Board & Planning and Land Use Committee Meeting
DESCRIPTION:Our regular Planning and Land Use Meeting has been cancelled. Instead we will have a Special Board Meeting to appoint new Board Members\, followed by a Special Joint Board and Planning and Land Use Committee Meeting for the purpose of hearing the following presentations: \n\nPresentation by Olivia Jonich\, Three6ixty on proposed development at 1180 S La Brea.\nPresentation by Michael Limb\, Newport Partners on proposed development at 1141-1145 S Crenshaw Blvd.\n\nMay 21\, 2018 Joint Board and Planning and Land Use Meeting \nMay 21\, 2018 Special Meeting \nMay 21\, 2018 Planning and Land Use Cancellation Notice
URL:https://opnc.org/event/planning-land-use-committee-meeting-2018-05-21/
LOCATION:Council 10 District Office\, 5213 W. Pico Blvd.\, Los Angeles\, 90019
CATEGORIES:Meetings
GEO:34.0411939;-118.3093669
X-APPLE-STRUCTURED-LOCATION;VALUE=URI;X-ADDRESS=Council 10 District Office 5213 W. Pico Blvd. Los Angeles 90019;X-APPLE-RADIUS=500;X-TITLE=5213 W. Pico Blvd.:geo:-118.3093669,34.0411939
END:VEVENT
BEGIN:VEVENT
DTSTART;TZID=America/Los_Angeles:20180412T180000
DTEND;TZID=America/Los_Angeles:20180412T203000
DTSTAMP:20260421T042240
CREATED:20180312T214653Z
LAST-MODIFIED:20180312T214653Z
UID:2119-1523556000-1523565000@opnc.org
SUMMARY:City Planning 101
DESCRIPTION:The Department of City Planning and the Department of Neighborhood Empowerment will be hosting a series of Planning 101 Trainings throughout the month of April. The trainings will take place across seven regions and they are intended to provide an overview of the basic elements of planning\, land use and zoning\, with a focus on the project planning process. Our closest training will be: \nSouth Los Angeles:\nThursday\, April 12\nCouncil President\, Herb Wesson’s District Office\n1819 S. Western Avenue\nLos Angeles\, CA 90006\n(Enter from Manhattan Place)\n6pm to 8:30pm
URL:https://opnc.org/event/city-planning-101-2/
LOCATION:Council 10 District Office\, 5213 W. Pico Blvd.\, Los Angeles\, 90019
CATEGORIES:Events
GEO:34.0411939;-118.3093669
X-APPLE-STRUCTURED-LOCATION;VALUE=URI;X-ADDRESS=Council 10 District Office 5213 W. Pico Blvd. Los Angeles 90019;X-APPLE-RADIUS=500;X-TITLE=5213 W. Pico Blvd.:geo:-118.3093669,34.0411939
END:VEVENT
BEGIN:VEVENT
DTSTART;TZID=America/Los_Angeles:20171202T093000
DTEND;TZID=America/Los_Angeles:20171202T193000
DTSTAMP:20260421T042240
CREATED:20171201T213951Z
LAST-MODIFIED:20171202T020919Z
UID:1888-1512207000-1512243000@opnc.org
SUMMARY:Herb Wesson's Assembly Party
DESCRIPTION:Click on the image to watch Herb’s video \n  \n  \n  \n 
URL:https://opnc.org/event/herb-wessons-assembly-party/
LOCATION:Council 10 District Office\, 5213 W. Pico Blvd.\, Los Angeles\, 90019
CATEGORIES:Events
GEO:34.0411939;-118.3093669
X-APPLE-STRUCTURED-LOCATION;VALUE=URI;X-ADDRESS=Council 10 District Office 5213 W. Pico Blvd. Los Angeles 90019;X-APPLE-RADIUS=500;X-TITLE=5213 W. Pico Blvd.:geo:-118.3093669,34.0411939
END:VEVENT
BEGIN:VEVENT
DTSTART;TZID=America/Los_Angeles:20160511T180000
DTEND;TZID=America/Los_Angeles:20160511T200000
DTSTAMP:20260421T042240
CREATED:20160414T232854Z
LAST-MODIFIED:20160510T164620Z
UID:500-1462989600-1462996800@opnc.org
SUMMARY:Animal Services Community Meeting
DESCRIPTION:Los Angeles Animal Services wants your valuable input and feedback on how we can do even more for animals and people in the City of Los Angeles. You can help shape the future goals and priorities for your Animal Services Department. Come to a Strategic Planning Community Meeting where you’ll be able to share your thoughts and ideas! \nWednesday\, May 11\, 2016\, 6 p.m. to 8 p.m.\nCouncil District 10\, District Office\n1819 South Western Ave.\, Los Angeles\, CA 90066
URL:https://opnc.org/event/animal-services-community-meeting/
LOCATION:Council 10 District Office\, 5213 W. Pico Blvd.\, Los Angeles\, 90019
CATEGORIES:Events
GEO:34.0411939;-118.3093669
X-APPLE-STRUCTURED-LOCATION;VALUE=URI;X-ADDRESS=Council 10 District Office 5213 W. Pico Blvd. Los Angeles 90019;X-APPLE-RADIUS=500;X-TITLE=5213 W. Pico Blvd.:geo:-118.3093669,34.0411939
END:VEVENT
END:VCALENDAR