
BEGIN:VCALENDAR
VERSION:2.0
PRODID:-//Olympic Park Neighborhood Council - ECPv6.15.17.1//NONSGML v1.0//EN
CALSCALE:GREGORIAN
METHOD:PUBLISH
X-ORIGINAL-URL:https://opnc.org
X-WR-CALDESC:Events for Olympic Park Neighborhood Council
REFRESH-INTERVAL;VALUE=DURATION:PT1H
X-Robots-Tag:noindex
X-PUBLISHED-TTL:PT1H
BEGIN:VTIMEZONE
TZID:America/Los_Angeles
BEGIN:DAYLIGHT
TZOFFSETFROM:-0800
TZOFFSETTO:-0700
TZNAME:PDT
DTSTART:20150308T100000
END:DAYLIGHT
BEGIN:STANDARD
TZOFFSETFROM:-0700
TZOFFSETTO:-0800
TZNAME:PST
DTSTART:20151101T090000
END:STANDARD
BEGIN:DAYLIGHT
TZOFFSETFROM:-0800
TZOFFSETTO:-0700
TZNAME:PDT
DTSTART:20160313T100000
END:DAYLIGHT
BEGIN:STANDARD
TZOFFSETFROM:-0700
TZOFFSETTO:-0800
TZNAME:PST
DTSTART:20161106T090000
END:STANDARD
BEGIN:DAYLIGHT
TZOFFSETFROM:-0800
TZOFFSETTO:-0700
TZNAME:PDT
DTSTART:20170312T100000
END:DAYLIGHT
BEGIN:STANDARD
TZOFFSETFROM:-0700
TZOFFSETTO:-0800
TZNAME:PST
DTSTART:20171105T090000
END:STANDARD
END:VTIMEZONE
BEGIN:VEVENT
DTSTART;TZID=America/Los_Angeles:20160407T070000
DTEND;TZID=America/Los_Angeles:20160407T210000
DTSTAMP:20260422T021003
CREATED:20160408T055720Z
LAST-MODIFIED:20160408T055720Z
UID:487-1460012400-1460062800@opnc.org
SUMMARY:OPNC Joint Board Outreach & Elections Committee Meeting
DESCRIPTION:
URL:https://opnc.org/event/opnc-joint-board-outreach-elections-committee-meeting/
LOCATION:Committee Meeting\, 4849 Venice Blvd.\, Los Angeles\, CA\, 90019\, United States
GEO:34.0462465;-118.342584
X-APPLE-STRUCTURED-LOCATION;VALUE=URI;X-ADDRESS=Committee Meeting 4849 Venice Blvd. Los Angeles CA 90019 United States;X-APPLE-RADIUS=500;X-TITLE=4849 Venice Blvd.:geo:-118.342584,34.0462465
END:VEVENT
END:VCALENDAR