
BEGIN:VCALENDAR
VERSION:2.0
PRODID:-//Olympic Park Neighborhood Council - ECPv6.15.17.1//NONSGML v1.0//EN
CALSCALE:GREGORIAN
METHOD:PUBLISH
X-ORIGINAL-URL:https://opnc.org
X-WR-CALDESC:Events for Olympic Park Neighborhood Council
REFRESH-INTERVAL;VALUE=DURATION:PT1H
X-Robots-Tag:noindex
X-PUBLISHED-TTL:PT1H
BEGIN:VTIMEZONE
TZID:America/Los_Angeles
BEGIN:DAYLIGHT
TZOFFSETFROM:-0800
TZOFFSETTO:-0700
TZNAME:PDT
DTSTART:20160313T100000
END:DAYLIGHT
BEGIN:STANDARD
TZOFFSETFROM:-0700
TZOFFSETTO:-0800
TZNAME:PST
DTSTART:20161106T090000
END:STANDARD
BEGIN:DAYLIGHT
TZOFFSETFROM:-0800
TZOFFSETTO:-0700
TZNAME:PDT
DTSTART:20170312T100000
END:DAYLIGHT
BEGIN:STANDARD
TZOFFSETFROM:-0700
TZOFFSETTO:-0800
TZNAME:PST
DTSTART:20171105T090000
END:STANDARD
BEGIN:DAYLIGHT
TZOFFSETFROM:-0800
TZOFFSETTO:-0700
TZNAME:PDT
DTSTART:20180311T100000
END:DAYLIGHT
BEGIN:STANDARD
TZOFFSETFROM:-0700
TZOFFSETTO:-0800
TZNAME:PST
DTSTART:20181104T090000
END:STANDARD
END:VTIMEZONE
BEGIN:VEVENT
DTSTART;TZID=America/Los_Angeles:20170318T100000
DTEND;TZID=America/Los_Angeles:20170318T140000
DTSTAMP:20260422T053219
CREATED:20170317T200801Z
LAST-MODIFIED:20170317T200801Z
UID:1194-1489831200-1489845600@opnc.org
SUMMARY:Chinese American Historical Context Meeting
DESCRIPTION:
URL:https://opnc.org/event/chinese-american-historical-context-meeting/
LOCATION:Chinese American Citizens Aliance\, 415 Bamboo Lane\, Los Angeles\, 90012
CATEGORIES:Events
GEO:34.0660531;-118.2370107
X-APPLE-STRUCTURED-LOCATION;VALUE=URI;X-ADDRESS=Chinese American Citizens Aliance 415 Bamboo Lane Los Angeles 90012;X-APPLE-RADIUS=500;X-TITLE=415 Bamboo Lane:geo:-118.2370107,34.0660531
END:VEVENT
END:VCALENDAR