
BEGIN:VCALENDAR
VERSION:2.0
PRODID:-//Olympic Park Neighborhood Council - ECPv6.15.17.1//NONSGML v1.0//EN
CALSCALE:GREGORIAN
METHOD:PUBLISH
X-ORIGINAL-URL:https://opnc.org
X-WR-CALDESC:Events for Olympic Park Neighborhood Council
REFRESH-INTERVAL;VALUE=DURATION:PT1H
X-Robots-Tag:noindex
X-PUBLISHED-TTL:PT1H
BEGIN:VTIMEZONE
TZID:America/Los_Angeles
BEGIN:DAYLIGHT
TZOFFSETFROM:-0800
TZOFFSETTO:-0700
TZNAME:PDT
DTSTART:20140309T100000
END:DAYLIGHT
BEGIN:STANDARD
TZOFFSETFROM:-0700
TZOFFSETTO:-0800
TZNAME:PST
DTSTART:20141102T090000
END:STANDARD
BEGIN:DAYLIGHT
TZOFFSETFROM:-0800
TZOFFSETTO:-0700
TZNAME:PDT
DTSTART:20150308T100000
END:DAYLIGHT
BEGIN:STANDARD
TZOFFSETFROM:-0700
TZOFFSETTO:-0800
TZNAME:PST
DTSTART:20151101T090000
END:STANDARD
BEGIN:DAYLIGHT
TZOFFSETFROM:-0800
TZOFFSETTO:-0700
TZNAME:PDT
DTSTART:20160313T100000
END:DAYLIGHT
BEGIN:STANDARD
TZOFFSETFROM:-0700
TZOFFSETTO:-0800
TZNAME:PST
DTSTART:20161106T090000
END:STANDARD
END:VTIMEZONE
BEGIN:VEVENT
DTSTART;TZID=America/Los_Angeles:20151126T110000
DTEND;TZID=America/Los_Angeles:20151126T150000
DTSTAMP:20260421T132930
CREATED:20151116T183507Z
LAST-MODIFIED:20151116T183833Z
UID:301-1448535600-1448550000@opnc.org
SUMMARY:OPNC & Mitch Edelson Invites You To Thanksgiving Dinner
DESCRIPTION:Mitch Edelson is pleased to provide dinner for all. OPNC will help serve dinner.
URL:https://opnc.org/event/opnc-invites-you-to-thanksgiving-dinner/
LOCATION:Catch One\, 4067 W. Pico Blvd\, Los Angeles\, 90019
CATEGORIES:Meetings
GEO:34.047775;-118.3241134
X-APPLE-STRUCTURED-LOCATION;VALUE=URI;X-ADDRESS=Catch One 4067 W. Pico Blvd Los Angeles 90019;X-APPLE-RADIUS=500;X-TITLE=4067 W. Pico Blvd:geo:-118.3241134,34.047775
END:VEVENT
END:VCALENDAR