
BEGIN:VCALENDAR
VERSION:2.0
PRODID:-//Olympic Park Neighborhood Council - ECPv6.15.17.1//NONSGML v1.0//EN
CALSCALE:GREGORIAN
METHOD:PUBLISH
X-ORIGINAL-URL:https://opnc.org
X-WR-CALDESC:Events for Olympic Park Neighborhood Council
REFRESH-INTERVAL;VALUE=DURATION:PT1H
X-Robots-Tag:noindex
X-PUBLISHED-TTL:PT1H
BEGIN:VTIMEZONE
TZID:America/Los_Angeles
BEGIN:DAYLIGHT
TZOFFSETFROM:-0800
TZOFFSETTO:-0700
TZNAME:PDT
DTSTART:20140309T100000
END:DAYLIGHT
BEGIN:STANDARD
TZOFFSETFROM:-0700
TZOFFSETTO:-0800
TZNAME:PST
DTSTART:20141102T090000
END:STANDARD
BEGIN:DAYLIGHT
TZOFFSETFROM:-0800
TZOFFSETTO:-0700
TZNAME:PDT
DTSTART:20150308T100000
END:DAYLIGHT
BEGIN:STANDARD
TZOFFSETFROM:-0700
TZOFFSETTO:-0800
TZNAME:PST
DTSTART:20151101T090000
END:STANDARD
BEGIN:DAYLIGHT
TZOFFSETFROM:-0800
TZOFFSETTO:-0700
TZNAME:PDT
DTSTART:20160313T100000
END:DAYLIGHT
BEGIN:STANDARD
TZOFFSETFROM:-0700
TZOFFSETTO:-0800
TZNAME:PST
DTSTART:20161106T090000
END:STANDARD
END:VTIMEZONE
BEGIN:VEVENT
DTSTART;TZID=America/Los_Angeles:20151124T150000
DTEND;TZID=America/Los_Angeles:20151124T180000
DTSTAMP:20260424T030031
CREATED:20151124T053146Z
LAST-MODIFIED:20151124T053205Z
UID:310-1448377200-1448388000@opnc.org
SUMMARY:LAHS Senior Council & OPNC Homeless Benefit
DESCRIPTION:Please stop by and support the Homeless. Can Goods\, Clean Clothing and Bedding Needed.
URL:https://opnc.org/event/lahs-senior-council-opnc-homeless-benefit/
LOCATION:Wilshire West Community Room\, 4861 West Venice Blvd\, Los Angeles
ORGANIZER;CN="OPNC":MAILTO:contact@opnc.org
GEO:34.046891;-118.342915
X-APPLE-STRUCTURED-LOCATION;VALUE=URI;X-ADDRESS=Wilshire West Community Room 4861 West Venice Blvd Los Angeles;X-APPLE-RADIUS=500;X-TITLE=4861 West Venice Blvd:geo:-118.342915,34.046891
END:VEVENT
END:VCALENDAR