
BEGIN:VCALENDAR
VERSION:2.0
PRODID:-//Olympic Park Neighborhood Council - ECPv6.15.17.1//NONSGML v1.0//EN
CALSCALE:GREGORIAN
METHOD:PUBLISH
X-ORIGINAL-URL:https://opnc.org
X-WR-CALDESC:Events for Olympic Park Neighborhood Council
REFRESH-INTERVAL;VALUE=DURATION:PT1H
X-Robots-Tag:noindex
X-PUBLISHED-TTL:PT1H
BEGIN:VTIMEZONE
TZID:America/Los_Angeles
BEGIN:DAYLIGHT
TZOFFSETFROM:-0800
TZOFFSETTO:-0700
TZNAME:PDT
DTSTART:20250309T100000
END:DAYLIGHT
BEGIN:STANDARD
TZOFFSETFROM:-0700
TZOFFSETTO:-0800
TZNAME:PST
DTSTART:20251102T090000
END:STANDARD
BEGIN:DAYLIGHT
TZOFFSETFROM:-0800
TZOFFSETTO:-0700
TZNAME:PDT
DTSTART:20260308T100000
END:DAYLIGHT
BEGIN:STANDARD
TZOFFSETFROM:-0700
TZOFFSETTO:-0800
TZNAME:PST
DTSTART:20261101T090000
END:STANDARD
BEGIN:DAYLIGHT
TZOFFSETFROM:-0800
TZOFFSETTO:-0700
TZNAME:PDT
DTSTART:20270314T100000
END:DAYLIGHT
BEGIN:STANDARD
TZOFFSETFROM:-0700
TZOFFSETTO:-0800
TZNAME:PST
DTSTART:20271107T090000
END:STANDARD
END:VTIMEZONE
BEGIN:VEVENT
DTSTART;TZID=America/Los_Angeles:20260202T190000
DTEND;TZID=America/Los_Angeles:20260202T210000
DTSTAMP:20260421T031237
CREATED:20251121T192835Z
LAST-MODIFIED:20260310T201923Z
UID:9693-1770058800-1770066000@opnc.org
SUMMARY:Board Meeting
DESCRIPTION:Join us for the next Olympic Park Neighborhood Council Meeting on Monday\, February 2\, 7pm at the LAPD Wilshire Community Room\, 4861 Venice Blvd. \nParking is available to the east of the station in the Olive Garden parking lot. \nRefreshments will be served. \nOn our agenda: \n\nAppoint new members\nMapCzar presentation\nKoreatown Youth and Community Center Grant\n4201 Pico discussion\n\nYou may also join online for this hybrid meeting:\nZoom Meeting Online or By Telephone\nhttps://us02web.zoom.us/j/8386991801\nOr Dial +16469313860\nThen Enter This Webinar ID 838 699 1801 and Press #
URL:https://opnc.org/event/board-meeting-11-2026-02-02/
CATEGORIES:Board,Meetings
END:VEVENT
BEGIN:VEVENT
DTSTART;TZID=America/Los_Angeles:20260214T163000
DTEND;TZID=America/Los_Angeles:20260214T193000
DTSTAMP:20260421T031237
CREATED:20260130T004641Z
LAST-MODIFIED:20260130T004641Z
UID:9795-1771086600-1771097400@opnc.org
SUMMARY:ATTUNE Light + Sound Art Exhibition
DESCRIPTION:Residents are invited to experience Attune\, a unique sound and light activation taking place at Leimert Park and Barnsdall Park. Produced by NXT Art Foundation\, this immersive exhibition uses sound as a shared\, relational experience\, connecting artists and audiences through listening\, presence\, and subtle environmental resonance. \nAttune encourages visitors to slow down\, reflect\, and engage with their surroundings in a new way\, offering a free\, accessible experience that highlights community\, creativity\, and connection. \nAttune will take place on February 14 from 4:30pm to 7:30pm at various locations throughout the county. Visitors are encouraged to stop by\, linger\, and engage with this free\, accessible community experience. \nEventbrite Tickets
URL:https://opnc.org/event/attune-light-sound-art-exhibition/
CATEGORIES:Events
END:VEVENT
BEGIN:VEVENT
DTSTART;TZID=America/Los_Angeles:20260221T123000
DTEND;TZID=America/Los_Angeles:20260221T173000
DTSTAMP:20260421T031237
CREATED:20260220T005625Z
LAST-MODIFIED:20260220T005752Z
UID:9817-1771677000-1771695000@opnc.org
SUMMARY:Bus Trip to El Pueblo de Los Angeles Historical Monument
DESCRIPTION:Please join us on Saturday\, February 21\, 2026\, for a bus trip to Downtown Los Angeles to celebrate the Black settlers who founded our city. This is an opportunity to learn how Black history is integral to the inception of the City of Angels. \nThe bus trip is free.
URL:https://opnc.org/event/bus-trip-to-el-pueblo-de-los-angeles-historical-monument/
CATEGORIES:Events
END:VEVENT
BEGIN:VEVENT
DTSTART;TZID=America/Los_Angeles:20260221T153000
DTEND;TZID=America/Los_Angeles:20260221T180000
DTSTAMP:20260421T031237
CREATED:20260220T010047Z
LAST-MODIFIED:20260220T010047Z
UID:9822-1771687800-1771696800@opnc.org
SUMMARY:Black History Month Musical Celebration
DESCRIPTION:
URL:https://opnc.org/event/black-history-month-musical-celebration/
LOCATION:Olvera Street\, 125 Paseo de la Plaza\, Los Angeles\, 90012
CATEGORIES:Events
END:VEVENT
END:VCALENDAR