
BEGIN:VCALENDAR
VERSION:2.0
PRODID:-//Olympic Park Neighborhood Council - ECPv6.15.17.1//NONSGML v1.0//EN
CALSCALE:GREGORIAN
METHOD:PUBLISH
X-ORIGINAL-URL:https://opnc.org
X-WR-CALDESC:Events for Olympic Park Neighborhood Council
REFRESH-INTERVAL;VALUE=DURATION:PT1H
X-Robots-Tag:noindex
X-PUBLISHED-TTL:PT1H
BEGIN:VTIMEZONE
TZID:America/Los_Angeles
BEGIN:DAYLIGHT
TZOFFSETFROM:-0800
TZOFFSETTO:-0700
TZNAME:PDT
DTSTART:20240310T100000
END:DAYLIGHT
BEGIN:STANDARD
TZOFFSETFROM:-0700
TZOFFSETTO:-0800
TZNAME:PST
DTSTART:20241103T090000
END:STANDARD
BEGIN:DAYLIGHT
TZOFFSETFROM:-0800
TZOFFSETTO:-0700
TZNAME:PDT
DTSTART:20250309T100000
END:DAYLIGHT
BEGIN:STANDARD
TZOFFSETFROM:-0700
TZOFFSETTO:-0800
TZNAME:PST
DTSTART:20251102T090000
END:STANDARD
BEGIN:DAYLIGHT
TZOFFSETFROM:-0800
TZOFFSETTO:-0700
TZNAME:PDT
DTSTART:20260308T100000
END:DAYLIGHT
BEGIN:STANDARD
TZOFFSETFROM:-0700
TZOFFSETTO:-0800
TZNAME:PST
DTSTART:20261101T090000
END:STANDARD
END:VTIMEZONE
BEGIN:VEVENT
DTSTART;TZID=America/Los_Angeles:20250505T190000
DTEND;TZID=America/Los_Angeles:20250505T210000
DTSTAMP:20260423T182219
CREATED:20241122T225144Z
LAST-MODIFIED:20250501T000631Z
UID:9174-1746471600-1746478800@opnc.org
SUMMARY:Board Meeting
DESCRIPTION:Join us for the next OPNC Meeting on Monday\, May 5\, 7pm at LAPD Wilshire Station\, 4861 Venice Blvd. \nor on Zoom: \nhttps://us02web.zoom.us/j/8386991801\nOr Dial +16469313860\nThen Enter This Webinar ID 8386991801 and Press # \nOn our agenda: \n\nGrant for Labelle Foundation\nGrant for Bangladesh Unity Foundation\nDWP pole lighting repair
URL:https://opnc.org/event/board-meeting-2025-05-05/
LOCATION:LAPD Wilshire\, 4861 Venice Blvd
CATEGORIES:Board,Meetings
END:VEVENT
BEGIN:VEVENT
DTSTART;TZID=America/Los_Angeles:20250511T110000
DTEND;TZID=America/Los_Angeles:20250511T180000
DTSTAMP:20260423T182219
CREATED:20250428T213758Z
LAST-MODIFIED:20250429T220522Z
UID:9391-1746961200-1746986400@opnc.org
SUMMARY:Mother's Day Music Festival
DESCRIPTION:Join us for a vibrant and heartfelt celebration at the Mother’s Day Music Festival—a free\, family-friendly community event honoring the strength\, love\, and legacy of mothers everywhere. \nHosted at the Michelle & Barack Obama Sports Complex on Saturday\, May 10\, this special event is proudly presented as “A Gift to the Mothers y Madres” by: \nL.A. Councilwoman Heather Hutt\nL.A. City Council President Marqueece Harris-Dawson\nL.A. City Councilman Curren Price\nEnjoy a day filled with live music\, cultural celebration\, and community connection. A special gift will be given to mothers in attendance as a token of appreciation for all they do. Attendees can also look forward to a curated selection of food trucks\, family-friendly activities\, and more. \nRide share and Metro travel are strongly encouraged. \nProceeds to benefit the Jenesse Center – for Domestic Violence Intervention & Prevention. \nArtist lineup to be announced leading up to the event—stay tuned! \nAdmission is free—come out and celebrate the amazing mothers in our lives with a day to remember! \nGet your tickets now for best seating. Best View seats provided to the first 500 tickets!!!
URL:https://opnc.org/event/mothers-day-music-festival/
CATEGORIES:Events
END:VEVENT
BEGIN:VEVENT
DTSTART;TZID=America/Los_Angeles:20250518T100000
DTEND;TZID=America/Los_Angeles:20250518T150000
DTSTAMP:20260423T182219
CREATED:20250507T165403Z
LAST-MODIFIED:20250507T165403Z
UID:9414-1747562400-1747580400@opnc.org
SUMMARY:CicLAmini Pico Union
DESCRIPTION:Enjoy Cicalmini Picon Union\, Sunday\, May 18. Over one mile of Pico Union will be open for a pedestrian-oriented car-free street event featuring music\, art\, and games for the whole family! https://www.ciclavia.org/ciclamini_pico_union25
URL:https://opnc.org/event/ciclamini-pico-union/
CATEGORIES:Events
END:VEVENT
BEGIN:VEVENT
DTSTART;TZID=America/Los_Angeles:20250531T140000
DTEND;TZID=America/Los_Angeles:20250531T180000
DTSTAMP:20260423T182219
CREATED:20250313T163318Z
LAST-MODIFIED:20250429T204208Z
UID:9322-1748700000-1748714400@opnc.org
SUMMARY:LANA Block Party
DESCRIPTION:
URL:https://opnc.org/event/lana-block-party/
CATEGORIES:Events
END:VEVENT
END:VCALENDAR