
BEGIN:VCALENDAR
VERSION:2.0
PRODID:-//Olympic Park Neighborhood Council - ECPv6.15.17.1//NONSGML v1.0//EN
CALSCALE:GREGORIAN
METHOD:PUBLISH
X-WR-CALNAME:Olympic Park Neighborhood Council
X-ORIGINAL-URL:https://opnc.org
X-WR-CALDESC:Events for Olympic Park Neighborhood Council
REFRESH-INTERVAL;VALUE=DURATION:PT1H
X-Robots-Tag:noindex
X-PUBLISHED-TTL:PT1H
BEGIN:VTIMEZONE
TZID:America/Los_Angeles
BEGIN:DAYLIGHT
TZOFFSETFROM:-0800
TZOFFSETTO:-0700
TZNAME:PDT
DTSTART:20240310T100000
END:DAYLIGHT
BEGIN:STANDARD
TZOFFSETFROM:-0700
TZOFFSETTO:-0800
TZNAME:PST
DTSTART:20241103T090000
END:STANDARD
BEGIN:DAYLIGHT
TZOFFSETFROM:-0800
TZOFFSETTO:-0700
TZNAME:PDT
DTSTART:20250309T100000
END:DAYLIGHT
BEGIN:STANDARD
TZOFFSETFROM:-0700
TZOFFSETTO:-0800
TZNAME:PST
DTSTART:20251102T090000
END:STANDARD
BEGIN:DAYLIGHT
TZOFFSETFROM:-0800
TZOFFSETTO:-0700
TZNAME:PDT
DTSTART:20260308T100000
END:DAYLIGHT
BEGIN:STANDARD
TZOFFSETFROM:-0700
TZOFFSETTO:-0800
TZNAME:PST
DTSTART:20261101T090000
END:STANDARD
END:VTIMEZONE
BEGIN:VEVENT
DTSTART;TZID=America/Los_Angeles:20250203T190000
DTEND;TZID=America/Los_Angeles:20250203T210000
DTSTAMP:20260423T231344
CREATED:20241122T225144Z
LAST-MODIFIED:20250131T194231Z
UID:9171-1738609200-1738616400@opnc.org
SUMMARY:Board Meeting
DESCRIPTION:  \nJoin us for the next Olympic Park Neighborhood Council Meeting on Monday\, February 3\, 7pm at the LAPD Wilshire Division Community Room\, 4861 Venice Blvd. \nOn our agenda: \n\nAdditional public trash cans in neighborhood\nLongwood Area Neighborhood Association Community Block Party\nUnderground tunneling for the K line
URL:https://opnc.org/event/board-meeting-10-2025-02-03/
LOCATION:LAPD Wilshire\, 4861 Venice Blvd
CATEGORIES:Board,Meetings
END:VEVENT
BEGIN:VEVENT
DTSTART;TZID=America/Los_Angeles:20250220T200000
DTEND;TZID=America/Los_Angeles:20250220T230000
DTSTAMP:20260423T231344
CREATED:20250131T194512Z
LAST-MODIFIED:20250131T195535Z
UID:9264-1740081600-1740092400@opnc.org
SUMMARY:Homeless Count
DESCRIPTION:
URL:https://opnc.org/event/homeless-count-7/
CATEGORIES:Events
END:VEVENT
BEGIN:VEVENT
DTSTART;TZID=America/Los_Angeles:20250222T080000
DTEND;TZID=America/Los_Angeles:20250222T160000
DTSTAMP:20260423T231344
CREATED:20241120T193301Z
LAST-MODIFIED:20241120T193301Z
UID:9161-1740211200-1740240000@opnc.org
SUMMARY:Youth Conference
DESCRIPTION:Are you an Angeleno between the ages of 14-17 looking to explore civic engagement\, local government\, and community leadership? Apply to attend the 2025 @EmpowerLA Youth Conference! \nEmpowerLA proudly presents the 2025 EmpowerLA Youth Conference\, a one-day event on Saturday\, February 22\, 2025 from 8:00am-4:00pm designed to engage and inspire youth from across Los Angeles. This year’s event will welcome 100 young people between the ages of 14-17 who will dive into the role the Neighborhood Council system plays in grassroots local democracy\, attend learning sessions on ways to be civically engaged in the community\, network with like-minded young leaders\, engage with City leaders\, and so much more. \nEmpowerLA seeks to motivate young people to get involved with the Neighborhood Council system and intentionally shape their personal and professional futures. Conference attendees will have the opportunity to hear from City leaders\, attend workshops and panel discussions\, and participate in a resource fair with over a dozen City departments and trusted community partners. This conference is free to attend\, and breakfast and lunch will be provided to all attendees. \nYouth interested in attending the 2025 EmpowerLA Conference will be asked to complete a short application. This is a selective opportunity\, and not all applicants will be invited to attend the conference. Applications are due no later than 11:59pm on Friday\, December 20th. \nApply Now
URL:https://opnc.org/event/youth-conference-2/
LOCATION:City Hall
CATEGORIES:Events
GEO:34.0537126;-118.2428145
END:VEVENT
BEGIN:VEVENT
DTSTART;TZID=America/Los_Angeles:20250223T090000
DTEND;TZID=America/Los_Angeles:20250223T150000
DTSTAMP:20260423T231344
CREATED:20250218T224252Z
LAST-MODIFIED:20250218T224252Z
UID:9291-1740301200-1740322800@opnc.org
SUMMARY:West Adams meets University Park CicLAvia
DESCRIPTION:CicLAvia catalyzes vibrant public spaces\, active transportation and good health through car-free streets.
URL:https://opnc.org/event/west-adams-meets-university-park-ciclavia/
CATEGORIES:Events
END:VEVENT
END:VCALENDAR