
BEGIN:VCALENDAR
VERSION:2.0
PRODID:-//Olympic Park Neighborhood Council - ECPv6.15.17.1//NONSGML v1.0//EN
CALSCALE:GREGORIAN
METHOD:PUBLISH
X-ORIGINAL-URL:https://opnc.org
X-WR-CALDESC:Events for Olympic Park Neighborhood Council
REFRESH-INTERVAL;VALUE=DURATION:PT1H
X-Robots-Tag:noindex
X-PUBLISHED-TTL:PT1H
BEGIN:VTIMEZONE
TZID:America/Los_Angeles
BEGIN:DAYLIGHT
TZOFFSETFROM:-0800
TZOFFSETTO:-0700
TZNAME:PDT
DTSTART:20240310T100000
END:DAYLIGHT
BEGIN:STANDARD
TZOFFSETFROM:-0700
TZOFFSETTO:-0800
TZNAME:PST
DTSTART:20241103T090000
END:STANDARD
BEGIN:DAYLIGHT
TZOFFSETFROM:-0800
TZOFFSETTO:-0700
TZNAME:PDT
DTSTART:20250309T100000
END:DAYLIGHT
BEGIN:STANDARD
TZOFFSETFROM:-0700
TZOFFSETTO:-0800
TZNAME:PST
DTSTART:20251102T090000
END:STANDARD
BEGIN:DAYLIGHT
TZOFFSETFROM:-0800
TZOFFSETTO:-0700
TZNAME:PDT
DTSTART:20260308T100000
END:DAYLIGHT
BEGIN:STANDARD
TZOFFSETFROM:-0700
TZOFFSETTO:-0800
TZNAME:PST
DTSTART:20261101T090000
END:STANDARD
END:VTIMEZONE
BEGIN:VEVENT
DTSTART;TZID=America/Los_Angeles:20250106T190000
DTEND;TZID=America/Los_Angeles:20250106T210000
DTSTAMP:20260424T004025
CREATED:20241122T225144Z
LAST-MODIFIED:20250224T231656Z
UID:9170-1736190000-1736197200@opnc.org
SUMMARY:Board Meeting
DESCRIPTION:
URL:https://opnc.org/event/board-meeting-10/
LOCATION:LAPD Wilshire\, 4861 Venice Blvd
CATEGORIES:Board,Meetings
END:VEVENT
BEGIN:VEVENT
DTSTART;TZID=America/Los_Angeles:20250123T200000
DTEND;TZID=America/Los_Angeles:20250123T230000
DTSTAMP:20260424T004025
CREATED:20241120T193712Z
LAST-MODIFIED:20241120T193712Z
UID:9164-1737662400-1737673200@opnc.org
SUMMARY:Homeless Count
DESCRIPTION:Join and make a difference! You can now register to volunteer for the 2025 Greater Los Angeles Homeless Count! This essential event aims to count our unhoused neighbors and obtain data that helps us develop effective strategies to address the homelessness crisis in Los Angeles City and County. Mark your calendars for Homeless Count 2025\, taking place on the nights of January 21\, 22\, and 23. To learn more and sign up\, visit count.lahsa.org!
URL:https://opnc.org/event/homeless-count-6/
CATEGORIES:Events
END:VEVENT
END:VCALENDAR