
BEGIN:VCALENDAR
VERSION:2.0
PRODID:-//Olympic Park Neighborhood Council - ECPv6.15.17.1//NONSGML v1.0//EN
CALSCALE:GREGORIAN
METHOD:PUBLISH
X-WR-CALNAME:Olympic Park Neighborhood Council
X-ORIGINAL-URL:https://opnc.org
X-WR-CALDESC:Events for Olympic Park Neighborhood Council
REFRESH-INTERVAL;VALUE=DURATION:PT1H
X-Robots-Tag:noindex
X-PUBLISHED-TTL:PT1H
BEGIN:VTIMEZONE
TZID:America/Los_Angeles
BEGIN:DAYLIGHT
TZOFFSETFROM:-0800
TZOFFSETTO:-0700
TZNAME:PDT
DTSTART:20210314T100000
END:DAYLIGHT
BEGIN:STANDARD
TZOFFSETFROM:-0700
TZOFFSETTO:-0800
TZNAME:PST
DTSTART:20211107T090000
END:STANDARD
BEGIN:DAYLIGHT
TZOFFSETFROM:-0800
TZOFFSETTO:-0700
TZNAME:PDT
DTSTART:20220313T100000
END:DAYLIGHT
BEGIN:STANDARD
TZOFFSETFROM:-0700
TZOFFSETTO:-0800
TZNAME:PST
DTSTART:20221106T090000
END:STANDARD
BEGIN:DAYLIGHT
TZOFFSETFROM:-0800
TZOFFSETTO:-0700
TZNAME:PDT
DTSTART:20230312T100000
END:DAYLIGHT
BEGIN:STANDARD
TZOFFSETFROM:-0700
TZOFFSETTO:-0800
TZNAME:PST
DTSTART:20231105T090000
END:STANDARD
END:VTIMEZONE
BEGIN:VEVENT
DTSTART;TZID=America/Los_Angeles:20220801T190000
DTEND;TZID=America/Los_Angeles:20220801T210000
DTSTAMP:20260424T133545
CREATED:20211025T224244Z
LAST-MODIFIED:20221208T175122Z
UID:4202-1659380400-1659387600@opnc.org
SUMMARY:Board Meeting
DESCRIPTION:Join us as the USC Dental School presents a proposal to offer OPNC residents under the age of 10 free dental cleanings for a month! \nOur next Olympic Park Neighborhood Council Meeting is on Monday\, August 1\, 7pm. \nAugust 1\, 2022 Board Agenda \nZoom Meeting Online or By Telephone\nhttps://us02web.zoom.us/j/83932413655\nDial +1669 900 6833 to Join the Meeting\nThen Enter This Webinar ID: 839 3241 3655 and Press
URL:https://opnc.org/event/board-meeting-2022-08-01/
CATEGORIES:Board,Meetings
END:VEVENT
BEGIN:VEVENT
DTSTART;TZID=America/Los_Angeles:20220727T193000
DTEND;TZID=America/Los_Angeles:20220727T203000
DTSTAMP:20260424T133545
CREATED:20220111T191120Z
LAST-MODIFIED:20220722T230214Z
UID:4312-1658950200-1658953800@opnc.org
SUMMARY:Outreach Committee Meeting
DESCRIPTION:Join us for the OPNC Outreach Committee Meeting on July 27\, 7:30pm \nJuly 27\, 2022 Outreach Agenda
URL:https://opnc.org/event/outreach-committee-meeting-2022-07-27/
CATEGORIES:Meetings
END:VEVENT
BEGIN:VEVENT
DTSTART;TZID=America/Los_Angeles:20220719T190000
DTEND;TZID=America/Los_Angeles:20220719T200000
DTSTAMP:20260424T133545
CREATED:20220714T193348Z
LAST-MODIFIED:20220714T193956Z
UID:4746-1658257200-1658260800@opnc.org
SUMMARY:Environment & Health Committee Meeting
DESCRIPTION:Join us for our Environment & Health Committee Meeting on July 19\, 7pm. \nJuly 19\, 2022 Environment & Health Committee Meeting Agenda \nZoom Meeting Online or By Telephone\nhttps://us02web.zoom.us/j/81520516647\nDial +1669 900 6833 to Join the Meeting\nThen Enter This Webinar ID: 815 20516647 and Press #
URL:https://opnc.org/event/environment-health-committee-meeting-2/
CATEGORIES:Environment & Health,Meetings
END:VEVENT
BEGIN:VEVENT
DTSTART;TZID=America/Los_Angeles:20220716T080000
DTEND;TZID=America/Los_Angeles:20220716T163000
DTSTAMP:20260424T133545
CREATED:20220218T002355Z
LAST-MODIFIED:20220218T002537Z
UID:4382-1657958400-1657989000@opnc.org
SUMMARY:Bulky Item Drop Off
DESCRIPTION:
URL:https://opnc.org/event/bulky-item-drop-off-2022-07-09/
CATEGORIES:Events
END:VEVENT
BEGIN:VEVENT
DTSTART;TZID=America/Los_Angeles:20220711T190000
DTEND;TZID=America/Los_Angeles:20220711T210000
DTSTAMP:20260424T133545
CREATED:20211025T224244Z
LAST-MODIFIED:20221208T175342Z
UID:4201-1657566000-1657573200@opnc.org
SUMMARY:Board Meeting
DESCRIPTION:Join us for the next Olympic Park Neighborhood Council Meeting Monday\, July 11\, 7pm. \nWe plan to discuss OPNC business for the new fiscal year and a possible CPR/First Aid Community Event. \nJuly 11\, 2022 Board Agenda \nZoom Meeting Online or By Telephone\nhttps://us02web.zoom.us/j/86065279208\nDial +1669 900 6833 to Join the Meeting\nThen Enter This Webinar ID: 860 6527 9208 and Press #
URL:https://opnc.org/event/board-meeting-2022-07-11/
CATEGORIES:Board,Meetings
END:VEVENT
BEGIN:VEVENT
DTSTART;TZID=America/Los_Angeles:20220710T090000
DTEND;TZID=America/Los_Angeles:20220710T160000
DTSTAMP:20260424T133545
CREATED:20220620T200705Z
LAST-MODIFIED:20220620T200705Z
UID:4681-1657443600-1657468800@opnc.org
SUMMARY:CicLAvia South LA
DESCRIPTION:On Sunday\, July 10\, CicLAvia is opening up streets in South LA connecting the neighborhoods of Vermont Square\, Harvard Park\, Chesterfield Square\, Exposition Park\, and King Estates. Ride\, bike\, skate\, run\, walk\, skateboard\, spectate\, and enjoy the route however you want. People of all ages and abilities are welcome! This CicLAvia is presented by Metro. Join us! \nMore
URL:https://opnc.org/event/ciclavia-south-la/
CATEGORIES:Events
END:VEVENT
BEGIN:VEVENT
DTSTART;VALUE=DATE:20220619
DTEND;VALUE=DATE:20220620
DTSTAMP:20260424T133545
CREATED:20220608T224354Z
LAST-MODIFIED:20220608T224354Z
UID:4657-1655596800-1655683199@opnc.org
SUMMARY:Father's Day
DESCRIPTION:
URL:https://opnc.org/event/fathers-day/
CATEGORIES:Events
END:VEVENT
BEGIN:VEVENT
DTSTART;TZID=America/Los_Angeles:20220614T100000
DTEND;TZID=America/Los_Angeles:20220614T140000
DTSTAMP:20260424T133545
CREATED:20220608T203421Z
LAST-MODIFIED:20220608T203421Z
UID:4642-1655200800-1655215200@opnc.org
SUMMARY:LAUSD Job Fair
DESCRIPTION:REGISTER
URL:https://opnc.org/event/lausd-job-fair/2022-06-14/
CATEGORIES:Events
END:VEVENT
BEGIN:VEVENT
DTSTART;TZID=America/Los_Angeles:20220611T070000
DTEND;TZID=America/Los_Angeles:20220611T130000
DTSTAMP:20260424T133545
CREATED:20220608T203804Z
LAST-MODIFIED:20220608T203804Z
UID:4646-1654930800-1654952400@opnc.org
SUMMARY:HireLAX Orientation
DESCRIPTION:The HireLAX Apprenticeship Readiness Program is accepting applications for its latest cohort\, which is scheduled to begin in July. The required orientation to be considered for the program is on Saturday\, June 11\, 2022\, 7:00 am – 1:00 pm. This eight-week course introduces its local students to construction concepts and helps them develop skills that make them ready for union apprenticeships. \nWhy apply for HireLAX? \n\nHireLAX has the 2nd highest placement rate in the county (steadily moving closer to first) out of approximately 18 pre-apprenticeship programs.\nHireLAX has placed 190 people into union construction jobs\, with graduates collectively earning more than $10 million to support their families and our local communities. An additional 6 graduates went to work in non-union construction (including 2 who went straight into management overseeing union craft workers)\, and 4 were assisted into non-construction jobs.\nHireLAX is a nationally recognized program by multiple trade organizations\, including Construction Users RoundTable (CURT) because of the level of support provided to students. As a result of the ongoing success of the graduates\, the HireLAX team has been invited to speak in front of numerous audiences around the country (and virtually) to discuss their program model.\n\nREGISTER
URL:https://opnc.org/event/hirelax-orientation/
CATEGORIES:Events
END:VEVENT
BEGIN:VEVENT
DTSTART;TZID=America/Los_Angeles:20220607T070000
DTEND;TZID=America/Los_Angeles:20220607T200000
DTSTAMP:20260424T133545
CREATED:20220603T211743Z
LAST-MODIFIED:20220603T211743Z
UID:4620-1654585200-1654632000@opnc.org
SUMMARY:Elections
DESCRIPTION:
URL:https://opnc.org/event/elections/
CATEGORIES:Events
END:VEVENT
BEGIN:VEVENT
DTSTART;TZID=America/Los_Angeles:20220606T190000
DTEND;TZID=America/Los_Angeles:20220606T210000
DTSTAMP:20260424T133545
CREATED:20211025T224244Z
LAST-MODIFIED:20220603T210731Z
UID:4200-1654542000-1654549200@opnc.org
SUMMARY:Board Meeting
DESCRIPTION:Join us for the next Olympic Park Neighborhood Council Meeting on Monday\, June 6\, 7pm as we consider our budget for the next fiscal year. \nJune 6\, 2022 Board Agenda \nZoom Meeting Online or By Telephone\nhttps://us02web.zoom.us/j/83932413655\nDial +1669 900 6833 to Join the Meeting\nThen Enter This Webinar ID: 839 3241 3655 and Press #
URL:https://opnc.org/event/board-meeting-2022-06-06/
CATEGORIES:Board,Meetings
END:VEVENT
BEGIN:VEVENT
DTSTART;TZID=America/Los_Angeles:20220526T190000
DTEND;TZID=America/Los_Angeles:20220526T203000
DTSTAMP:20260424T133545
CREATED:20220111T191302Z
LAST-MODIFIED:20220519T224223Z
UID:4300-1653591600-1653597000@opnc.org
SUMMARY:Transportation Committee Meeting
DESCRIPTION:Join us May 26\, 7pm for the OPNC Transportation Committee Meeting. \nWe will discuss proposed bus lanes on La Brea and possibly sending a letter to support Streets for All \nMay 26\, 2022 Transportation Committee Agenda \nZoom Meeting Online or By Telephone\nus02web.zoom.us/j/83933528685\nDial +1669 900 6833 to Join the Meeting\nThen Enter This Webinar ID: 83933528685 and Press #
URL:https://opnc.org/event/transportation-committee-meeting-2022-05-19/
CATEGORIES:Meetings,Transportation
END:VEVENT
BEGIN:VEVENT
DTSTART;TZID=America/Los_Angeles:20220519T090000
DTEND;TZID=America/Los_Angeles:20220519T120000
DTSTAMP:20260424T133545
CREATED:20220429T204435Z
LAST-MODIFIED:20220429T204435Z
UID:4500-1652950800-1652961600@opnc.org
SUMMARY:Schools & Stormwater Symposium
DESCRIPTION:This important event will convene various water agencies\, schools districts\, administrators and staff\, parent groups\, and community-based organizations\, among other experts\, to spotlight the unique opportunities that schools hold to be sites for greening and stormwater capture projects.Expert panelists will engage in insightful conversations covering three main topics: \n\nHighlight the multiple benefits of school stormwater and greening projects for students\, their families\, and the surrounding neighborhood community\nDescribe specific case studies of impactful school-site projects with a special focus on how to locate\, design\, and implement projects by securing Measure W and Safe Clean Water Program funds\nAddress liability considerations and how to overcome contractual barriers to implementing stormwater capture projects on school campuses\n\nREGISTER
URL:https://opnc.org/event/schools-stormwater-symposium/
CATEGORIES:Events
END:VEVENT
BEGIN:VEVENT
DTSTART;TZID=America/Los_Angeles:20220518T190000
DTEND;TZID=America/Los_Angeles:20220518T203000
DTSTAMP:20260424T133545
CREATED:20220111T191120Z
LAST-MODIFIED:20220519T220657Z
UID:4310-1652900400-1652905800@opnc.org
SUMMARY:Outreach Committee Meeting-Cancelled
DESCRIPTION:
URL:https://opnc.org/event/outreach-committee-meeting-11-2022-05-18/
CATEGORIES:Meetings
END:VEVENT
BEGIN:VEVENT
DTSTART;TZID=America/Los_Angeles:20220517T190000
DTEND;TZID=America/Los_Angeles:20220517T200000
DTSTAMP:20260424T133545
CREATED:20220504T192243Z
LAST-MODIFIED:20220519T220614Z
UID:4514-1652814000-1652817600@opnc.org
SUMMARY:Environment and Health Subcommittee
DESCRIPTION:Join us for our next Environment and Health Committee Meeting May 17\, 7pm \nMay 17\, 2022 Environment & Health Committee Meeting Agenda \nZoom Meeting Online or By Telephone\nhttps://us02web.zoom.us/j/81520516647\nDial +1669 900 6833 to Join the Meeting\nThen Enter This Webinar ID: 815 20516647 and Press #
URL:https://opnc.org/event/environment-and-health-subcommittee/
CATEGORIES:Environment & Health,Meetings
END:VEVENT
BEGIN:VEVENT
DTSTART;TZID=America/Los_Angeles:20220509T190000
DTEND;TZID=America/Los_Angeles:20220509T210000
DTSTAMP:20260424T133545
CREATED:20220505T154418Z
LAST-MODIFIED:20220519T220412Z
UID:4522-1652122800-1652130000@opnc.org
SUMMARY:Special Meeting
DESCRIPTION:May 9\, 2022 Special Board Agenda \nhttps://us02web.zoom.us/j/82215212749\nDial +1669 900 6833 to Join the Meeting\nThen Enter This Webinar ID: 822 1521 2749 and Press #
URL:https://opnc.org/event/special-meeting-2/
CATEGORIES:Board,Meetings
END:VEVENT
BEGIN:VEVENT
DTSTART;TZID=America/Los_Angeles:20220502T190000
DTEND;TZID=America/Los_Angeles:20220502T210000
DTSTAMP:20260424T133545
CREATED:20211025T224244Z
LAST-MODIFIED:20220519T220150Z
UID:4199-1651518000-1651525200@opnc.org
SUMMARY:Board Meeting
DESCRIPTION:Join us for the next Olympic Park Neighborhood Council Meeting Monday\, May 2\, 7pm. \nMay 2\, 2022 Board Agenda \nZoom Meeting Online or By Telephonehttps://us02web.zoom.us/j/83932413655Dial +1669 900 6833 to Join the MeetingThen Enter This Webinar ID: 839 3241 3655 and Press #
URL:https://opnc.org/event/board-meeting-2022-05-02/
CATEGORIES:Board,Meetings
END:VEVENT
BEGIN:VEVENT
DTSTART;TZID=America/Los_Angeles:20220430T100000
DTEND;TZID=America/Los_Angeles:20220430T120000
DTSTAMP:20260424T133545
CREATED:20220420T234600Z
LAST-MODIFIED:20220420T234600Z
UID:4480-1651312800-1651320000@opnc.org
SUMMARY:Mayor’s Budget Proposal Town Hall
DESCRIPTION:The Mayor is required by the City Charter to release the Proposed Budget for the next fiscal year by April 20. The City Council must act on that budget by the end of May. To get there\, the City Council Budget and Finance Committee will hold hearings with each of the City Departments. The Neighborhood Council Budget Advocates will also be invited to address the Committee. \nLet’s dive into the Proposed Budget before it is finalized. This Town Hall is an opportunity for you to become familiar with the Proposed Budget so you are equipped to make your voice heard with the Budget and Finance Committee\, the City Council\, and the Mayor. Come discuss the Mayor’s proposed budget with the Neighborhood Council Budget Advocates and officials from City Hall. \nRegistration link is http://tiny.cc/LABudget2223 \n4/30/2022 at 10am
URL:https://opnc.org/event/mayors-budget-proposal-town-hall/
CATEGORIES:Events
END:VEVENT
BEGIN:VEVENT
DTSTART;TZID=America/Los_Angeles:20220421T170000
DTEND;TZID=America/Los_Angeles:20220421T183000
DTSTAMP:20260424T133545
CREATED:20220420T180656Z
LAST-MODIFIED:20220420T181521Z
UID:4474-1650560400-1650565800@opnc.org
SUMMARY:Town Hall on County Budget
DESCRIPTION:Join the Office of Supervisor Holly J. Mitchell to learn more about the County budget process and to share your feedback on Second Supervisorial District community priorities for the upcoming 2022-23 County budget cycle. \nWHAT: 2nd District Virtual Town Hall on LA County Budget \nWHO: Office of Supervisor Holly J. Mitchell \nWHERE: Register to join via Zoom at bit.ly/SD2-Budget \nWHEN: 5:00 PM PDT on Thursday\, April 21 \nREGISTER
URL:https://opnc.org/event/town-hall-on-county-budget/
CATEGORIES:Events
END:VEVENT
BEGIN:VEVENT
DTSTART;TZID=America/Los_Angeles:20220420T190000
DTEND;TZID=America/Los_Angeles:20220420T203000
DTSTAMP:20260424T133545
CREATED:20220111T191120Z
LAST-MODIFIED:20220519T221040Z
UID:4309-1650481200-1650486600@opnc.org
SUMMARY:Outreach Committee Meeting
DESCRIPTION:OPNC Outreach Committee Meeting Agenda April 20\, 2022 \n  \nDATE: WEDNESDAY\, April 20th\, 2022 \nTIME: 7 pm-8 pm \nZoom Meeting Online or By Telephone \nhttps://us02web.zoom.us/j/83933528685 \nDial +1669 900 6833 to Join the Meeting \nThen Enter This Webinar ID: [839 3352 8685] and Press #
URL:https://opnc.org/event/outreach-committee-meeting-11-2022-04-20/
CATEGORIES:Meetings,Outreach
END:VEVENT
BEGIN:VEVENT
DTSTART;TZID=America/Los_Angeles:20220410T150000
DTEND;TZID=America/Los_Angeles:20220410T170000
DTSTAMP:20260424T133545
CREATED:20220330T181723Z
LAST-MODIFIED:20220330T181723Z
UID:4453-1649602800-1649610000@opnc.org
SUMMARY:Controller Town Hall
DESCRIPTION:Register on Eventbrite \nThis is your opportunity before the June 7\, 2022 City election to hear directly from the candidates for Controller. The City Controller is the elected paymaster\, auditor and chief accounting officer for the City of Los Angeles. Along with the Mayor and City Attorney\, the Controller is one of three offices elected every four years by citywide popular vote.
URL:https://opnc.org/event/controller-town-hall/
CATEGORIES:Events
END:VEVENT
BEGIN:VEVENT
DTSTART;TZID=America/Los_Angeles:20220404T190000
DTEND;TZID=America/Los_Angeles:20220404T210000
DTSTAMP:20260424T133545
CREATED:20211025T224244Z
LAST-MODIFIED:20220519T220810Z
UID:4198-1649098800-1649106000@opnc.org
SUMMARY:Board Meeting
DESCRIPTION:Join us for the next Olympic Park Neighborhood Council Meeting on Monday\, April 4\, 7pm. \nJan Perry\, Candidate for California’s 37th Congressional District will be our guest. \nApril 4\, 2022 Board Agenda \nZoom Meeting Online or By Telephone\nhttps://us02web.zoom.us/j/83932413655\nDial +1669 900 6833 to Join the Meeting\nThen Enter This Webinar ID: 839 3241 3655 and Press #
URL:https://opnc.org/event/board-meeting-2022-0404/
CATEGORIES:Board,Meetings
END:VEVENT
BEGIN:VEVENT
DTSTART;TZID=America/Los_Angeles:20220331T180000
DTEND;TZID=America/Los_Angeles:20220331T193000
DTSTAMP:20260424T133545
CREATED:20220330T181853Z
LAST-MODIFIED:20220330T181853Z
UID:4456-1648749600-1648755000@opnc.org
SUMMARY:Town Hall on Community Impact Statements
DESCRIPTION:Join the LA Budget Tribunes and EmpowerLA for the first Community Impact Statement Town Hall on March 31. Register at: tiny.cc/CISTownHall
URL:https://opnc.org/event/town-hall-on-community-impact-statements/
CATEGORIES:Events
END:VEVENT
BEGIN:VEVENT
DTSTART;TZID=America/Los_Angeles:20220326T080000
DTEND;TZID=America/Los_Angeles:20220326T130000
DTSTAMP:20260424T133545
CREATED:20220322T201900Z
LAST-MODIFIED:20220322T201900Z
UID:4449-1648281600-1648299600@opnc.org
SUMMARY:Gun Buyback
DESCRIPTION:
URL:https://opnc.org/event/gun-buyback/
CATEGORIES:Events
END:VEVENT
BEGIN:VEVENT
DTSTART;TZID=America/Los_Angeles:20220316T190000
DTEND;TZID=America/Los_Angeles:20220316T200000
DTSTAMP:20260424T133545
CREATED:20220301T004642Z
LAST-MODIFIED:20220519T221539Z
UID:4409-1647457200-1647460800@opnc.org
SUMMARY:Outreach Committee Meeting
DESCRIPTION:Join us for our OPNC Outreach Committee Meeting Wednesday\, March 16\, 7pm. \nMarch 16\, 2022 Outreach Committee Meeting Agenda \nZoom Meeting Online or By Telephonehttps://us02web.zoom.us/j/83933528685Dial +1669 900 6833 to Join the MeetingThen Enter This Webinar ID: [839 3352 8685] and Press #
URL:https://opnc.org/event/outreach-committee-meeting-12/
CATEGORIES:Meetings,Outreach
END:VEVENT
BEGIN:VEVENT
DTSTART;TZID=America/Los_Angeles:20220315T190000
DTEND;TZID=America/Los_Angeles:20220315T200000
DTSTAMP:20260424T133545
CREATED:20220228T231142Z
LAST-MODIFIED:20220519T221441Z
UID:4401-1647370800-1647374400@opnc.org
SUMMARY:Environment & Health Committee Meeting
DESCRIPTION:Join us for our first OPNC Environment & Health Committee Meeting on Tuesday\, March 15\, 7pm. \nMarch 15\, 2022 Environment & Health Committee Meeting Agenda \nWe plan to discuss: \n\nRemoval of community hazards\nNeighborhood Watch\nCool Blocks\nFirst Aid / CPR\nTree removal at 1156 S. Hobart\n\nZoom Meeting Online or By Telephonehttps://us02web.zoom.us/j/81520516647Dial +1669 900 6833 to Join the MeetingThen Enter This Webinar ID: 815 2051 6647 and Press #
URL:https://opnc.org/event/environment-health-committee-meeting/
CATEGORIES:Environment & Health,Meetings
END:VEVENT
BEGIN:VEVENT
DTSTART;TZID=America/Los_Angeles:20220312T080000
DTEND;TZID=America/Los_Angeles:20220312T163000
DTSTAMP:20260424T133545
CREATED:20220218T002355Z
LAST-MODIFIED:20220218T002355Z
UID:4376-1647072000-1647102600@opnc.org
SUMMARY:Bulky Item Drop Off
DESCRIPTION:
URL:https://opnc.org/event/bulky-item-drop-off/2022-03-12/
CATEGORIES:Events
END:VEVENT
BEGIN:VEVENT
DTSTART;TZID=America/Los_Angeles:20220307T190000
DTEND;TZID=America/Los_Angeles:20220307T210000
DTSTAMP:20260424T133545
CREATED:20211025T224244Z
LAST-MODIFIED:20220519T222043Z
UID:4197-1646679600-1646686800@opnc.org
SUMMARY:Board Meeting
DESCRIPTION:Join us for the next Olympic Park Neighborhood Council Meeting on Monday\, March 7\, 7pm. \nOn our agenda: \n\nNeighborhood Purpose Grant for GALA Academy\n\nMarch 7\, 2022 Board Agenda \nhttps://us02web.zoom.us/j/83932413655\nDial +1669 900 6833 to Join the Meeting\nThen Enter This Webinar ID: 839 3241 3655 and Press #
URL:https://opnc.org/event/board-meeting-2022-0307/
CATEGORIES:Board,Meetings
END:VEVENT
BEGIN:VEVENT
DTSTART;TZID=America/Los_Angeles:20220303T190000
DTEND;TZID=America/Los_Angeles:20220303T203000
DTSTAMP:20260424T133545
CREATED:20220228T225527Z
LAST-MODIFIED:20220519T221230Z
UID:4395-1646334000-1646339400@opnc.org
SUMMARY:Transportation Committee Meeting
DESCRIPTION:Join us for our next OPNC Transportation Committee Meeting on Thursday\, March 3\, 7pm. \nMarch 3\, 2022 OPNC Transportation Committee Meeting Agenda \n\nOn our agenda: \n\n\nLA Triathlon\n\n\nProposed Bus Lanes on La Brea\n\nZoom Meeting Online or By Telephoneus02web.zoom.us/j/83933528685Dial +1669 900 6833 to Join the Meeting\nThen Enter This Webinar ID: 83933528685 and Press #
URL:https://opnc.org/event/transportation-committee-meeting-3/
CATEGORIES:Meetings,Transportation
END:VEVENT
BEGIN:VEVENT
DTSTART;TZID=America/Los_Angeles:20220224T200000
DTEND;TZID=America/Los_Angeles:20220224T233000
DTSTAMP:20260424T133545
CREATED:20220111T185834Z
LAST-MODIFIED:20220121T024526Z
UID:4284-1645732800-1645745400@opnc.org
SUMMARY:Homless Count
DESCRIPTION:The Homeless Count for our area will be conducted on Thursday\, February 24\, from 8-11pm at Television City\, 7800 Beverly Blvd. \n160 volunteers are needed. \nSign up to volunteer for the count: https://www.theycountwillyou.org/ \nPlease sign up for a virtual training session at your convenience: \nTuesday\, January 18th\, at 7 PM\nThursday\, January 20th\, at 12 PM\nSaturday\, January 22nd\, at 11 AM\nMonday\, January 24th\, at 6 PM \nOnce you click on the above link you will be able to select your preferred date for the training webinar\, please save the link and join the event at the preferred time and date listed above. \nThe virtual trainings will be approximately 1 hour long. They will provide the nuts and bolts on how to count\, guidelines on utilizing the new Homeless Count mobile app “Akido Connect”\, and tips to stay safe within your team. There will be an opportunity to ask questions during each session.
URL:https://opnc.org/event/homless-count/
CATEGORIES:Events
END:VEVENT
END:VCALENDAR