
BEGIN:VCALENDAR
VERSION:2.0
PRODID:-//Olympic Park Neighborhood Council - ECPv6.15.17.1//NONSGML v1.0//EN
CALSCALE:GREGORIAN
METHOD:PUBLISH
X-WR-CALNAME:Olympic Park Neighborhood Council
X-ORIGINAL-URL:https://opnc.org
X-WR-CALDESC:Events for Olympic Park Neighborhood Council
REFRESH-INTERVAL;VALUE=DURATION:PT1H
X-Robots-Tag:noindex
X-PUBLISHED-TTL:PT1H
BEGIN:VTIMEZONE
TZID:America/Los_Angeles
BEGIN:DAYLIGHT
TZOFFSETFROM:-0800
TZOFFSETTO:-0700
TZNAME:PDT
DTSTART:20240310T100000
END:DAYLIGHT
BEGIN:STANDARD
TZOFFSETFROM:-0700
TZOFFSETTO:-0800
TZNAME:PST
DTSTART:20241103T090000
END:STANDARD
BEGIN:DAYLIGHT
TZOFFSETFROM:-0800
TZOFFSETTO:-0700
TZNAME:PDT
DTSTART:20250309T100000
END:DAYLIGHT
BEGIN:STANDARD
TZOFFSETFROM:-0700
TZOFFSETTO:-0800
TZNAME:PST
DTSTART:20251102T090000
END:STANDARD
BEGIN:DAYLIGHT
TZOFFSETFROM:-0800
TZOFFSETTO:-0700
TZNAME:PDT
DTSTART:20260308T100000
END:DAYLIGHT
BEGIN:STANDARD
TZOFFSETFROM:-0700
TZOFFSETTO:-0800
TZNAME:PST
DTSTART:20261101T090000
END:STANDARD
END:VTIMEZONE
BEGIN:VEVENT
DTSTART;TZID=America/Los_Angeles:20251025T160000
DTEND;TZID=America/Los_Angeles:20251025T200000
DTSTAMP:20260421T185938
CREATED:20251021T193653Z
LAST-MODIFIED:20251021T193819Z
UID:9672-1761408000-1761422400@opnc.org
SUMMARY:Halloween at Queen Anne Recreation Center
DESCRIPTION:Food And Entertainment\, Music\, Games\, Fun\, Prizes
URL:https://opnc.org/event/halloween-at-queen-anne-recreation-center/
LOCATION:Queen Anne Recreation Center\, 1240 West Blvd\, Los Angeles\, 90019
CATEGORIES:Events
GEO:34.0508042;-118.332572
X-APPLE-STRUCTURED-LOCATION;VALUE=URI;X-ADDRESS=Queen Anne Recreation Center 1240 West Blvd Los Angeles 90019;X-APPLE-RADIUS=500;X-TITLE=1240 West Blvd:geo:-118.332572,34.0508042
END:VEVENT
BEGIN:VEVENT
DTSTART;TZID=America/Los_Angeles:20251019T100000
DTEND;TZID=America/Los_Angeles:20251019T220000
DTSTAMP:20260421T185938
CREATED:20251002T203737Z
LAST-MODIFIED:20251002T203737Z
UID:9645-1760868000-1760911200@opnc.org
SUMMARY:Los Angeles Korean Festival
DESCRIPTION:The Olympic Park Neighborhood Council is proud to be a sponsor of the Los Angeles Korean Festival
URL:https://opnc.org/event/los-angeles-korean-festival-2/2025-10-19/
CATEGORIES:Events
END:VEVENT
BEGIN:VEVENT
DTSTART;TZID=America/Los_Angeles:20251018T100000
DTEND;TZID=America/Los_Angeles:20251018T220000
DTSTAMP:20260421T185938
CREATED:20251002T203737Z
LAST-MODIFIED:20251002T203737Z
UID:9644-1760781600-1760824800@opnc.org
SUMMARY:Los Angeles Korean Festival
DESCRIPTION:The Olympic Park Neighborhood Council is proud to be a sponsor of the Los Angeles Korean Festival
URL:https://opnc.org/event/los-angeles-korean-festival-2/2025-10-18/
CATEGORIES:Events
END:VEVENT
BEGIN:VEVENT
DTSTART;TZID=America/Los_Angeles:20251017T100000
DTEND;TZID=America/Los_Angeles:20251017T220000
DTSTAMP:20260421T185938
CREATED:20251002T203737Z
LAST-MODIFIED:20251002T203737Z
UID:9643-1760695200-1760738400@opnc.org
SUMMARY:Los Angeles Korean Festival
DESCRIPTION:The Olympic Park Neighborhood Council is proud to be a sponsor of the Los Angeles Korean Festival
URL:https://opnc.org/event/los-angeles-korean-festival-2/2025-10-17/
CATEGORIES:Events
END:VEVENT
BEGIN:VEVENT
DTSTART;TZID=America/Los_Angeles:20251016T170000
DTEND;TZID=America/Los_Angeles:20251016T200000
DTSTAMP:20260421T185938
CREATED:20250924T185226Z
LAST-MODIFIED:20250924T185226Z
UID:9629-1760634000-1760644800@opnc.org
SUMMARY:Korean Festival Opening Ceremony
DESCRIPTION:
URL:https://opnc.org/event/korean-festival-opening-ceremony/
CATEGORIES:Events
END:VEVENT
BEGIN:VEVENT
DTSTART;TZID=America/Los_Angeles:20251016T100000
DTEND;TZID=America/Los_Angeles:20251016T220000
DTSTAMP:20260421T185938
CREATED:20251002T203737Z
LAST-MODIFIED:20251002T203737Z
UID:9639-1760608800-1760652000@opnc.org
SUMMARY:Los Angeles Korean Festival
DESCRIPTION:The Olympic Park Neighborhood Council is proud to be a sponsor of the Los Angeles Korean Festival
URL:https://opnc.org/event/los-angeles-korean-festival-2/2025-10-16/
CATEGORIES:Events
END:VEVENT
BEGIN:VEVENT
DTSTART;TZID=America/Los_Angeles:20251012T090000
DTEND;TZID=America/Los_Angeles:20251012T160000
DTSTAMP:20260421T185938
CREATED:20251002T204110Z
LAST-MODIFIED:20251002T204110Z
UID:9647-1760259600-1760284800@opnc.org
SUMMARY:CicLAvia: Heart of LA
DESCRIPTION:Join us for our 63rd Los Angeles Open Streets Event: CicLAvia—Heart of LA! This CicLAvia is presented by Metro. \nDate: Sunday\, October 12\, 2025 / domingo 12 de octubre 2025 \nTime: 9am-4pm \nLocation: Connecting Westlake\, Downtown LA\, Chinatown\, Little Tokyo\, Arts District\, and Boyle Heights
URL:https://opnc.org/event/ciclavia-heart-of-la-3/
CATEGORIES:Events
END:VEVENT
BEGIN:VEVENT
DTSTART;TZID=America/Los_Angeles:20251006T190000
DTEND;TZID=America/Los_Angeles:20251006T210000
DTSTAMP:20260421T185938
CREATED:20241122T225144Z
LAST-MODIFIED:20251110T234630Z
UID:9179-1759777200-1759784400@opnc.org
SUMMARY:Board Meeting
DESCRIPTION:Join us for the next OPNC Meeting on Monday\, October 6\, 7pm at LAPD Wilshire Division Community Room\, 4861 Venice Blvd. \nOn our agenda: \n\nGrant for OBA Foundation\nGrant for Peace Over Violence
URL:https://opnc.org/event/board-meeting-10-2025-10-06/
LOCATION:LAPD Wilshire\, 4861 Venice Blvd
CATEGORIES:Board,Meetings
END:VEVENT
BEGIN:VEVENT
DTSTART;TZID=America/Los_Angeles:20250927T080000
DTEND;TZID=America/Los_Angeles:20250927T170000
DTSTAMP:20260421T185938
CREATED:20250829T195714Z
LAST-MODIFIED:20250829T195714Z
UID:9577-1758960000-1758992400@opnc.org
SUMMARY:Congress of Neighborhoods
DESCRIPTION:Registration is Now Open  \nJoin hundreds of your fellow NC members for: \n\n20+ workshops on leadership\, advocacy\, and community-building\n30 exhibitors with valuable resources\nOpportunities to meet with city leaders and fellow advocates\nComplimentary lunch and networking opportunities\n\nWhen: Saturday\, September 27\, 2025 from 8 am – 5 pm\nWhere: Los Angeles City Hall\nCost: Free and open to all
URL:https://opnc.org/event/congress-of-neighborhoods-9/
LOCATION:City Hall
CATEGORIES:Events
GEO:34.0537126;-118.2428145
END:VEVENT
BEGIN:VEVENT
DTSTART;VALUE=DATE:20250919
DTEND;VALUE=DATE:20250922
DTSTAMP:20260421T185938
CREATED:20250903T174613Z
LAST-MODIFIED:20250903T174613Z
UID:9582-1758240000-1758499199@opnc.org
SUMMARY:LAPD Wilshire Division Carnival
DESCRIPTION:Wilshire Division Carnival | September 19–21\, 2025\nJoin the Wilshire Station Boosters and LAPD Wilshire Division for a fun-filled weekend at the annual Carnival. Enjoy rides\, games\, delicious food\, and live entertainment for the whole family. \nLocation: Venice Boulevard between La Brea Avenue and Rimpau Boulevard\nDate: Friday\, September 19 – Sunday\, September 21\, 2025\nPresale Tickets: Available at the Wilshire Division Police Station; same-day tickets are available as well.
URL:https://opnc.org/event/lapd-wilshire-division-carnival/
CATEGORIES:Events
END:VEVENT
BEGIN:VEVENT
DTSTART;TZID=America/Los_Angeles:20250913T170000
DTEND;TZID=America/Los_Angeles:20250913T230000
DTSTAMP:20260421T185938
CREATED:20250903T180730Z
LAST-MODIFIED:20250903T180730Z
UID:9588-1757782800-1757804400@opnc.org
SUMMARY:El Grito
DESCRIPTION:Saturday September 13th from 5 PM – 11 PM\, you are invited to City Hall (200 N Spring St) at Gloria Molina Grand Park for one of Los Angeles’ most beloved traditions: El Grito de Dolores. For over 30 years\, the Celebration of El Grito at City Hall has brought thousands together. During a time when many in our Mexican and Latino communities continue to face uncertainty\, El Grito 2025: ¡Viva La Resistencia! is a call to uplift tradition\, celebrate resilience\, and come together in joy and solidarity. Gloria Molina Grand Park will be activated for this free community event with live music\, Lucha Libre\, food\, and family-friendly fun.
URL:https://opnc.org/event/el-grito-4/
LOCATION:Grand Park\, 200 N. Grand Ave\, 90012
CATEGORIES:Events
END:VEVENT
BEGIN:VEVENT
DTSTART;TZID=America/Los_Angeles:20250908T190000
DTEND;TZID=America/Los_Angeles:20250908T210000
DTSTAMP:20260421T185938
CREATED:20241122T225144Z
LAST-MODIFIED:20251010T174923Z
UID:9178-1757358000-1757365200@opnc.org
SUMMARY:Board Meeting
DESCRIPTION:Join us for the next Olympic Park Neighborhood Council Meeting Monday\, September 8\, 7pm at LAPD Wilshire\, 4861 Venice Blvd. \nOn our agenda: \n\nGrant for LA Korean Festival\nGrant for Peace over Violence Non Profit\nGrant for Labelle Foundation
URL:https://opnc.org/event/board-meeting-10-2025-09-01/
LOCATION:LAPD Wilshire\, 4861 Venice Blvd
CATEGORIES:Board,Meetings
END:VEVENT
BEGIN:VEVENT
DTSTART;TZID=America/Los_Angeles:20250828T100000
DTEND;TZID=America/Los_Angeles:20250828T150000
DTSTAMP:20260421T185938
CREATED:20250812T225018Z
LAST-MODIFIED:20250812T225018Z
UID:9564-1756375200-1756393200@opnc.org
SUMMARY:Free Naloxone Trainings
DESCRIPTION:In honor of International Overdose Awareness Day (IOAD) the Health Equity in Access to Behavioral Health Recovery Services (HEAR US) team at Koreatown Youth & Community Center will be hosting TWO (2) Free Naloxone Trainings in the month of August. We would like to invite you to share our flyer with your program participants and staff. \nWorkshop One: Naloxone Training (SPANISH)Date:Thursday\, August 28\, 2025Time:10:00AM – 12:00PM\nLocation:520 S. Lafayette Park Place Suite 560 Los Angeles\, CA 90057Registration Link: https://form.jotform.com/252095686424161 \nWorkshop Two: Naloxone Training (ENGLISH)Date:Thursday\, August 28\, 2025Time:1:00PM – 3:00PM\nLocation:520 S. Lafayette Park Place Suite 560 Los Angeles\, CA 90057Registration Link: https://form.jotform.com/252095649768171 \nThose who participate in this training will: • Learn about the opioid crisis and resources in our community • Identify how to identify signs of an overdose • Receive training in administering naloxone – a life-saving medication that reverses opioid overdoses • Receive harm reduction tools (free naloxone kit and fentanyl test strips) • Receive training certification • \nAll participants will also have the opportunity to enter a raffle to receive a gift card for their participation.\nIf you have any questions\, comments\, or concerns about this training\, please do not hesitate to contact  jgaray@kyccla.org.
URL:https://opnc.org/event/free-naloxone-trainings/
CATEGORIES:Events
END:VEVENT
BEGIN:VEVENT
DTSTART;TZID=America/Los_Angeles:20250817T090000
DTEND;TZID=America/Los_Angeles:20250817T160000
DTSTAMP:20260421T185938
CREATED:20250707T225654Z
LAST-MODIFIED:20250707T225654Z
UID:9487-1755421200-1755446400@opnc.org
SUMMARY:CicLAvia: Culver City Meets Venice
DESCRIPTION:Join us for our 61st Los Angeles Open Streets Event: CicLAvia—Culver City meets Venice! This CicLAvia is presented by Metro. \nDate: Sunday\, August 17\, 2025 / domingo 17 de agosto 2025 \nTime: 9am-4pm \nLocation: Connecting Culver City\, Mar Vista\, and Venice
URL:https://opnc.org/event/ciclavia-culver-city-meets-venice/
CATEGORIES:Events
END:VEVENT
BEGIN:VEVENT
DTSTART;TZID=America/Los_Angeles:20250815T180000
DTEND;TZID=America/Los_Angeles:20250815T213000
DTSTAMP:20260421T185938
CREATED:20250718T211937Z
LAST-MODIFIED:20250728T134045Z
UID:9516-1755280800-1755293400@opnc.org
SUMMARY:Movies in the Park
DESCRIPTION:Summer means it’s time for Movies in The Park! \nJoin us as we host Free Movie Nights across the various park spaces in CD10 all summer long \nCheck out our upcoming dates and locations! \nAugust 8th: Obama Sports Complex – Shark Tale\nAugust 15th: Shatto Recreation Center – The Wild Robot
URL:https://opnc.org/event/movies-in-the-park-7/2025-08-15/
CATEGORIES:Events
END:VEVENT
BEGIN:VEVENT
DTSTART;TZID=America/Los_Angeles:20250811T190000
DTEND;TZID=America/Los_Angeles:20250811T203000
DTSTAMP:20260421T185938
CREATED:20250807T164621Z
LAST-MODIFIED:20250807T164636Z
UID:9558-1754938800-1754944200@opnc.org
SUMMARY:Planning and Land Use Committee Meeting
DESCRIPTION:Join us online for a Planning and Land Use Committee Meeting August 11\, 7pm. \nDiscussion and possible approval of submitting a community impact statement opposing\nMotion 15-0989-S47 \nZoom Meeting Online or By Telephone\nhttps://us02web.zoom.us/j/8386991801\nOr Dial +16469313860\nThen Enter This Webinar ID 8386991801 and Press #
URL:https://opnc.org/event/planning-and-land-use-committee-meeting-4/
CATEGORIES:Meetings,Planning and Land Use
END:VEVENT
BEGIN:VEVENT
DTSTART;TZID=America/Los_Angeles:20250809T103000
DTEND;TZID=America/Los_Angeles:20250809T153000
DTSTAMP:20260421T185938
CREATED:20250711T211731Z
LAST-MODIFIED:20250711T211731Z
UID:9501-1754735400-1754753400@opnc.org
SUMMARY:Career Fair
DESCRIPTION:The Office of Assemblymember Isaac Bryan will be hosting a Career Fair on Saturday\, August 9th\, 2025 from 10:30 AM – 3:30 PM. This event is being hosted at and in partnership with West LA College.
URL:https://opnc.org/event/career-fair/
LOCATION:West Los Angeles College\, 9000 Overland Ave\, Los Angeles\, 90230
CATEGORIES:Events
END:VEVENT
BEGIN:VEVENT
DTSTART;TZID=America/Los_Angeles:20250808T180000
DTEND;TZID=America/Los_Angeles:20250808T213000
DTSTAMP:20260421T185938
CREATED:20250718T211937Z
LAST-MODIFIED:20250728T134044Z
UID:9511-1754676000-1754688600@opnc.org
SUMMARY:Movies in the Park
DESCRIPTION:Summer means it’s time for Movies in The Park! \nJoin us as we host Free Movie Nights across the various park spaces in CD10 all summer long \nCheck out our upcoming dates and locations! \nAugust 8th: Obama Sports Complex – Shark Tale\nAugust 15th: Shatto Recreation Center – The Wild Robot
URL:https://opnc.org/event/movies-in-the-park-7/2025-08-08/
CATEGORIES:Events
END:VEVENT
BEGIN:VEVENT
DTSTART;TZID=America/Los_Angeles:20250806T160000
DTEND;TZID=America/Los_Angeles:20250806T180000
DTSTAMP:20260421T185938
CREATED:20250715T201102Z
LAST-MODIFIED:20250715T210937Z
UID:9507-1754496000-1754503200@opnc.org
SUMMARY:LA in Color
DESCRIPTION:LA IN COLOR:\nQueer stories. Racial truths. Collective joy.\nWednesday\, August 6 | 4:00 – 6:00 pm \nThe Historic Catch One\n4067 W. Pico Blvd.\nLos Angeles CA 90019 \nJoin us for a community discussion on the intersectionality of racial and LGBTQIA+ justice. This event will include on-site resources\, reflections on excerpts from the book Brown and Gay in LA\, and a poetry performance by Helena Lourdes Donato-Sapp. \nFor questions\, please contact 2DS-Events@bos.lacounty.gov.
URL:https://opnc.org/event/la-in-color/
LOCATION:Catch One\, 4067 W. Pico Blvd\, Los Angeles\, 90019
CATEGORIES:Events
GEO:34.047775;-118.3241134
X-APPLE-STRUCTURED-LOCATION;VALUE=URI;X-ADDRESS=Catch One 4067 W. Pico Blvd Los Angeles 90019;X-APPLE-RADIUS=500;X-TITLE=4067 W. Pico Blvd:geo:-118.3241134,34.047775
END:VEVENT
BEGIN:VEVENT
DTSTART;TZID=America/Los_Angeles:20250805T180000
DTEND;TZID=America/Los_Angeles:20250805T200000
DTSTAMP:20260421T185938
CREATED:20250719T024936Z
LAST-MODIFIED:20250719T024936Z
UID:9521-1754416800-1754424000@opnc.org
SUMMARY:National Night Out
DESCRIPTION:
URL:https://opnc.org/event/national-night-out-6/
LOCATION:LAPD Olympic Station\, 1130 S. Vermont Ave.\, Los Angeles\, 90006
CATEGORIES:Events
GEO:34.050229;-118.2911404
X-APPLE-STRUCTURED-LOCATION;VALUE=URI;X-ADDRESS=LAPD Olympic Station 1130 S. Vermont Ave. Los Angeles 90006;X-APPLE-RADIUS=500;X-TITLE=1130 S. Vermont Ave.:geo:-118.2911404,34.050229
END:VEVENT
BEGIN:VEVENT
DTSTART;TZID=America/Los_Angeles:20250804T190000
DTEND;TZID=America/Los_Angeles:20250804T210000
DTSTAMP:20260421T185938
CREATED:20241122T225144Z
LAST-MODIFIED:20250910T162804Z
UID:9177-1754334000-1754341200@opnc.org
SUMMARY:Board Meeting
DESCRIPTION:Join us for the next Olympic Park Neighborhood Council Meeting Monday\, August 4\, 7pm at the LAPD Wilshire Station\, 4861 Venice Blvd.
URL:https://opnc.org/event/board-meeting-10-2025-08-04/
LOCATION:LAPD Wilshire\, 4861 Venice Blvd
CATEGORIES:Board,Meetings
END:VEVENT
BEGIN:VEVENT
DTSTART;TZID=America/Los_Angeles:20250801T180000
DTEND;TZID=America/Los_Angeles:20250801T200000
DTSTAMP:20260421T185938
CREATED:20250728T133750Z
LAST-MODIFIED:20250728T133822Z
UID:9526-1754071200-1754078400@opnc.org
SUMMARY:Movies in the Park: Encanto
DESCRIPTION:
URL:https://opnc.org/event/movies-in-the-park-encanto-2/
CATEGORIES:Events
END:VEVENT
BEGIN:VEVENT
DTSTART;TZID=America/Los_Angeles:20250723T140000
DTEND;TZID=America/Los_Angeles:20250723T150000
DTSTAMP:20260421T185938
CREATED:20250711T211340Z
LAST-MODIFIED:20250711T211340Z
UID:9498-1753279200-1753282800@opnc.org
SUMMARY:Earthquake Resilience Webinar
DESCRIPTION:The virtual session will highlight grant opportunities for single-family homeowners looking to strengthen their homes against earthquake damage. We’re especially interested in partnering with you to help reach residents who are most at risk and least likely to access available resources on their own. \nWebinar link: https://us02web.zoom.us/j/87832294601
URL:https://opnc.org/event/earthquake-resilience-webinar/
CATEGORIES:Events
END:VEVENT
BEGIN:VEVENT
DTSTART;TZID=America/Los_Angeles:20250713T120000
DTEND;TZID=America/Los_Angeles:20250713T200000
DTSTAMP:20260421T185938
CREATED:20250711T205601Z
LAST-MODIFIED:20250711T205601Z
UID:9496-1752408000-1752436800@opnc.org
SUMMARY:Lotus Festival
DESCRIPTION:44th Annual Lotus Festival • Echo Park Lake • LA City recreation & Parks \n44th Annual Lotus Festival\, hosted by the City of Los Angeles Department of Recreation and Parks\, along with Los Angeles Lotus Festival\, Inc. and the Korean Cultural Center\, Los Angeles (KCCLA) on Saturday\, July 12\, 2025 from Noon to 10:00 p.m. and Sunday\, July 13\, 2025 from Noon to 8:00 p.m.
URL:https://opnc.org/event/lotus-festival-4/2025-07-13/
CATEGORIES:Events
END:VEVENT
BEGIN:VEVENT
DTSTART;TZID=America/Los_Angeles:20250712T120000
DTEND;TZID=America/Los_Angeles:20250712T220000
DTSTAMP:20260421T185938
CREATED:20250711T205601Z
LAST-MODIFIED:20250711T205601Z
UID:9493-1752321600-1752357600@opnc.org
SUMMARY:Lotus Festival
DESCRIPTION:44th Annual Lotus Festival • Echo Park Lake • LA City recreation & Parks \n44th Annual Lotus Festival\, hosted by the City of Los Angeles Department of Recreation and Parks\, along with Los Angeles Lotus Festival\, Inc. and the Korean Cultural Center\, Los Angeles (KCCLA) on Saturday\, July 12\, 2025 from Noon to 10:00 p.m. and Sunday\, July 13\, 2025 from Noon to 8:00 p.m.
URL:https://opnc.org/event/lotus-festival-4/2025-07-12/
CATEGORIES:Events
END:VEVENT
BEGIN:VEVENT
DTSTART;TZID=America/Los_Angeles:20250707T190000
DTEND;TZID=America/Los_Angeles:20250707T210000
DTSTAMP:20260421T185938
CREATED:20241122T225144Z
LAST-MODIFIED:20250910T180755Z
UID:9176-1751914800-1751922000@opnc.org
SUMMARY:Board Meeting
DESCRIPTION:Join us for the next OPNC Meeting on Monday\, July 7\, 7pm at the LAPD Wilshire Community Room\, 4861 Venice Blvd. \nWe will seat the new Board\, elect officers and make committee assignments. \n \n 
URL:https://opnc.org/event/board-meeting-10-2025-07-07/
LOCATION:LAPD Wilshire\, 4861 Venice Blvd
CATEGORIES:Board,Meetings
END:VEVENT
BEGIN:VEVENT
DTSTART;TZID=America/Los_Angeles:20250704T160000
DTEND;TZID=America/Los_Angeles:20250704T213000
DTSTAMP:20260421T185938
CREATED:20250626T205921Z
LAST-MODIFIED:20250704T144126Z
UID:9452-1751644800-1751664600@opnc.org
SUMMARY:Grand Park 4th of July Block Party-Cancelled
DESCRIPTION:Join Gloria Molina Grand Park’s 4th of July Block Party! \nA celebration of community\, resilience and joy shared among Angelenos who want to build connections\, solidarity\, allyship and mutual support. This year’s event features arts activities\, sports games\, live music\, and dance\, with dozens of LA’s favorite food trucks and DJs spanning genres from hip-hop to reggaeton\, funk\, and more. Enjoy the return of the Gloria Molina Grand Park Ferris Wheel and an innovative drone show by Grizzly Entertainment. \nCome celebrate with us and experience the true spirit of community.
URL:https://opnc.org/event/grand-park-4th-of-july-block-party/
LOCATION:Grand Park\, 200 N. Grand Ave\, 90012
CATEGORIES:Events
END:VEVENT
BEGIN:VEVENT
DTSTART;TZID=America/Los_Angeles:20250628T080000
DTEND;TZID=America/Los_Angeles:20250628T120000
DTSTAMP:20260421T185938
CREATED:20250626T212144Z
LAST-MODIFIED:20250626T215251Z
UID:9455-1751097600-1751112000@opnc.org
SUMMARY:Shine LA
DESCRIPTION:Are you outraged and appalled by bad actors who have vandalized and harmed our Downtown L.A. neighborhood?\n\n\nThat’s why we are coming together this weekend to beautify and restore our neighborhood.\n\n\nShine LA: Downtown LA\nSaturday\, June 28\nEl Pueblo de Los Ángeles & Spring Street Park\n9AM-12PM: Barnsdall Park\, 4800 Hollywood Blvd.\, Los Angeles\, 90027\n\n8AM-11AM: Spring Street Park (DTLA)\, 428 S Spring St\, Los Angeles\, CA 90013
URL:https://opnc.org/event/shine-la/
CATEGORIES:Events
END:VEVENT
BEGIN:VEVENT
DTSTART;TZID=America/Los_Angeles:20250627T180000
DTEND;TZID=America/Los_Angeles:20250627T213000
DTSTAMP:20260421T185938
CREATED:20250626T212859Z
LAST-MODIFIED:20250626T212859Z
UID:9458-1751047200-1751059800@opnc.org
SUMMARY:Movies in the Park
DESCRIPTION:This Friday\, June 28th at Benny Potter Park for a free screening of Mufasa: The Lion King \nThis is a family friendly event\, with delicious treats such as popcorn\, soda\, shaved ice\, and snack packs will all be provided free of charge.
URL:https://opnc.org/event/movies-in-the-park-6/
LOCATION:Benny Potter Park\, 2413 2nd Ave\, Los Angeles\, 90018
CATEGORIES:Events
GEO:34.0348156;-118.319346
X-APPLE-STRUCTURED-LOCATION;VALUE=URI;X-ADDRESS=Benny Potter Park 2413 2nd Ave Los Angeles 90018;X-APPLE-RADIUS=500;X-TITLE=2413 2nd Ave:geo:-118.319346,34.0348156
END:VEVENT
BEGIN:VEVENT
DTSTART;TZID=America/Los_Angeles:20250621T073000
DTEND;TZID=America/Los_Angeles:20250621T123000
DTSTAMP:20260421T185938
CREATED:20250426T011256Z
LAST-MODIFIED:20250529T213917Z
UID:9383-1750491000-1750509000@opnc.org
SUMMARY:Budget Day
DESCRIPTION:The Neighborhood Council Budget Advocates invites all residents\, community leaders\, and stakeholders to attend Budget Day 2025 on Saturday\, June 21 at City Hall\, beginning with a complimentary breakfast at 7:30 AM and a full program starting at 9:00 AM. \nWith the City facing an unprecedented financial crisis—including record-high deficits\, the potential for department layoffs\, and proposed reductions to public services—this year’s Budget Day is more urgent than ever. Community members are strongly encouraged to participate\, ask questions\, and advocate for their neighborhoods. \n“The City’s budget is more than numbers—it determines the services and quality of life Angelenos experience every day\,” said “At a time of significant cuts and hard choices\, public input is essential.” \nConfirmed speakers include: \n\nMayor Karen Bass\nMarquis Harris Dawson- City Council President\nMatt Szabo\, City Administrative Officer\nCouncilmember Katy Yaroslavsky\, Chair of the Budget & Finance Committee\nCity Controller Kenneth Mejia\nCarmen Chang\, Department Manager Empower L.A.\nJoy Atkinson- President of BONC\nRick Cole\, Office of the City Comptroller\nStephen Cheung\, President & CEO\, Los Angeles County Economic Development Corporation (LAEDC)
URL:https://opnc.org/event/budget-day-8/
LOCATION:City Hall
CATEGORIES:Events
GEO:34.0537126;-118.2428145
END:VEVENT
END:VCALENDAR