
BEGIN:VCALENDAR
VERSION:2.0
PRODID:-//Olympic Park Neighborhood Council - ECPv6.15.17.1//NONSGML v1.0//EN
CALSCALE:GREGORIAN
METHOD:PUBLISH
X-WR-CALNAME:Olympic Park Neighborhood Council
X-ORIGINAL-URL:https://opnc.org
X-WR-CALDESC:Events for Olympic Park Neighborhood Council
REFRESH-INTERVAL;VALUE=DURATION:PT1H
X-Robots-Tag:noindex
X-PUBLISHED-TTL:PT1H
BEGIN:VTIMEZONE
TZID:America/Los_Angeles
BEGIN:DAYLIGHT
TZOFFSETFROM:-0800
TZOFFSETTO:-0700
TZNAME:PDT
DTSTART:20210314T100000
END:DAYLIGHT
BEGIN:STANDARD
TZOFFSETFROM:-0700
TZOFFSETTO:-0800
TZNAME:PST
DTSTART:20211107T090000
END:STANDARD
BEGIN:DAYLIGHT
TZOFFSETFROM:-0800
TZOFFSETTO:-0700
TZNAME:PDT
DTSTART:20220313T100000
END:DAYLIGHT
BEGIN:STANDARD
TZOFFSETFROM:-0700
TZOFFSETTO:-0800
TZNAME:PST
DTSTART:20221106T090000
END:STANDARD
BEGIN:DAYLIGHT
TZOFFSETFROM:-0800
TZOFFSETTO:-0700
TZNAME:PDT
DTSTART:20230312T100000
END:DAYLIGHT
BEGIN:STANDARD
TZOFFSETFROM:-0700
TZOFFSETTO:-0800
TZNAME:PST
DTSTART:20231105T090000
END:STANDARD
BEGIN:DAYLIGHT
TZOFFSETFROM:-0800
TZOFFSETTO:-0700
TZNAME:PDT
DTSTART:20240310T100000
END:DAYLIGHT
BEGIN:STANDARD
TZOFFSETFROM:-0700
TZOFFSETTO:-0800
TZNAME:PST
DTSTART:20241103T090000
END:STANDARD
END:VTIMEZONE
BEGIN:VEVENT
DTSTART;TZID=America/Los_Angeles:20230325T110000
DTEND;TZID=America/Los_Angeles:20230325T150000
DTSTAMP:20260423T140208
CREATED:20230322T184504Z
LAST-MODIFIED:20230322T184504Z
UID:6150-1679742000-1679756400@opnc.org
SUMMARY:Pop Up Farmers Market
DESCRIPTION:Enjoy this “On Our Block” event. Come out this Saturday at 11am to 4566 Pickford St.\, LA. The event will have our food\, music and community resources including Calfresh enrollment and banking resources.\nhttp://ProsperityMarketLA.com
URL:https://opnc.org/event/pop-up-farmers-market/
CATEGORIES:Events
END:VEVENT
BEGIN:VEVENT
DTSTART;VALUE=DATE:20230319
DTEND;VALUE=DATE:20230320
DTSTAMP:20260423T140208
CREATED:20230225T043313Z
LAST-MODIFIED:20230225T043313Z
UID:5943-1679184000-1679270399@opnc.org
SUMMARY:Los Angeles Marathon
DESCRIPTION:2023 LAM Course Flyer
URL:https://opnc.org/event/los-angeles-marathon/
CATEGORIES:Events
END:VEVENT
BEGIN:VEVENT
DTSTART;TZID=America/Los_Angeles:20230316T190000
DTEND;TZID=America/Los_Angeles:20230316T203000
DTSTAMP:20260423T140208
CREATED:20230311T005411Z
LAST-MODIFIED:20230311T005411Z
UID:6047-1678993200-1678998600@opnc.org
SUMMARY:Outreach Committee Meeting
DESCRIPTION:Join us for our next OPNC Outreach Committee Meeting March 16\, 7pm. \nZoom Meeting Online or By Telephone\nhttps://us02web.zoom.us/j/83933528685\nDial +1669 900 6833 to Join the Meeting\nThen Enter This Webinar ID: 839 3352 8685 and Press #
URL:https://opnc.org/event/outreach-committee-meeting-14/
CATEGORIES:Outreach
END:VEVENT
BEGIN:VEVENT
DTSTART;TZID=America/Los_Angeles:20230314T190000
DTEND;TZID=America/Los_Angeles:20230314T193000
DTSTAMP:20260423T140208
CREATED:20230311T215714Z
LAST-MODIFIED:20230607T170103Z
UID:6054-1678820400-1678822200@opnc.org
SUMMARY:Special Meeting
DESCRIPTION:Join us for the next Olympic Park Neighborhood Council Meeting March 14\, 7pm. \nZoom Meeting Online or By Telephone\nhttps://us02web.zoom.us/j/83932413655\nDial +1669 900 6833 to Join the Meeting\nThen Enter This Webinar ID: 83932413655 and Press #
URL:https://opnc.org/event/special-meeting-5/
CATEGORIES:Board
END:VEVENT
BEGIN:VEVENT
DTSTART;TZID=America/Los_Angeles:20230306T190000
DTEND;TZID=America/Los_Angeles:20230306T210000
DTSTAMP:20260423T140208
CREATED:20221128T191427Z
LAST-MODIFIED:20230322T182505Z
UID:5373-1678129200-1678136400@opnc.org
SUMMARY:Board Meeting
DESCRIPTION:Join us for our next Olympic Park Neighborhood Council Meeting on Monday\, March 6\, 7pm. \nOn our agenda: \n\nHybrid Meetings\n1215 Irolo St: 11 Units\n\nZoom Meeting Online or By Telephone\nhttps://us02web.zoom.us/j/83932413655\nDial +1669 900 6833 to Join the Meeting\nThen Enter This Webinar ID: 83932413655 and Press #
URL:https://opnc.org/event/board-meeting-5-2023-03-06/
CATEGORIES:Board,Meetings
END:VEVENT
BEGIN:VEVENT
DTSTART;TZID=America/Los_Angeles:20230215T170000
DTEND;TZID=America/Los_Angeles:20230215T180000
DTSTAMP:20260423T140208
CREATED:20230215T191646Z
LAST-MODIFIED:20230215T191646Z
UID:5895-1676480400-1676484000@opnc.org
SUMMARY:Matters of the Heart: Women & Heart Health Community Conversation
DESCRIPTION:It’s Heart Health Awareness Month and complications from heart disease are the number one killer of Black women. Watch this important panel of experts and patients to learn what you need to know to prevent heart health conditions \nOn Facebook Live: https://www.facebook.com/events/713804477040310
URL:https://opnc.org/event/matters-of-the-heart-women-heart-health-community-conversation/
CATEGORIES:Events
END:VEVENT
BEGIN:VEVENT
DTSTART;TZID=America/Los_Angeles:20230213T193000
DTEND;TZID=America/Los_Angeles:20230213T210000
DTSTAMP:20260423T140208
CREATED:20230211T053559Z
LAST-MODIFIED:20230213T192157Z
UID:5877-1676316600-1676322000@opnc.org
SUMMARY:Special Meeting
DESCRIPTION:Join us for a specially scheduled meeting on February 13\, 7:30pm. \nOn our agenda: \n\nBudget Update\nIn Person Meetings\n\nZoom Meeting Online or By Telephone\nhttps://us02web.zoom.us/j/83932413655\nDial +1669 900 6833 to Join the Meeting\nThen Enter This Webinar ID: 83932413655 and Press #
URL:https://opnc.org/event/special-meeting-4/
CATEGORIES:Board
END:VEVENT
BEGIN:VEVENT
DTSTART;TZID=America/Los_Angeles:20230211T123000
DTEND;TZID=America/Los_Angeles:20230211T143000
DTSTAMP:20260423T140208
CREATED:20230211T055037Z
LAST-MODIFIED:20230211T055037Z
UID:5883-1676118600-1676125800@opnc.org
SUMMARY:Town Hall on DONE’s Budget Request
DESCRIPTION:Come learn about the Department of Neighborhood Empowerment’s Proposed FY 2023-24 Budget with DONE General Manager Raquel Beltrán and the Neighborhood Council Budget Advocates. The Town Hall will begin with a budget presentation from GM Beltrán and a question and answer period will follow. To make the most of our limited time we respectfully ask that all questions for General Manager Beltrán about the proposed budget be submitted in advance via event registration or email to info@budgetadvocates.org by February 6th. \nRegister: https://www.eventbrite.com/e/town-hall-on-empowerlas-fiscal-year-2023-24-budget-proposal-tickets-518296156757
URL:https://opnc.org/event/town-hall-on-dones-budget-request/
CATEGORIES:Events
END:VEVENT
BEGIN:VEVENT
DTSTART;TZID=America/Los_Angeles:20230206T190000
DTEND;TZID=America/Los_Angeles:20230206T210000
DTSTAMP:20260423T140208
CREATED:20221128T191427Z
LAST-MODIFIED:20230201T002044Z
UID:5371-1675710000-1675717200@opnc.org
SUMMARY:Board Meeting
DESCRIPTION:Join us for our Olympic Park Neighborhood Council Meeting on Monday\, February 6\, 7pm. \nOn our agenda: \n\nClean California Community Day\nSafe Clean Water Program of Heal the Bay\nCouncil File 21-0064 eliminating use of Polystyrene & single use plastic bags\nWaymo self driving car presentation\nGrant for Homeboy Industries\n\nZoom Meeting Online or By Telephone\nhttps://us02web.zoom.us/j/83932413655\nDial +1669 900 6833 to Join the Meeting\nThen Enter This Webinar ID: 83932413655 and Press #
URL:https://opnc.org/event/board-meeting-5/
CATEGORIES:Board,Meetings
END:VEVENT
BEGIN:VEVENT
DTSTART;TZID=America/Los_Angeles:20230128T100000
DTEND;TZID=America/Los_Angeles:20230128T170000
DTSTAMP:20260423T140208
CREATED:20221227T183325Z
LAST-MODIFIED:20221227T183325Z
UID:5557-1674900000-1674925200@opnc.org
SUMMARY:Black College Fair
DESCRIPTION:Seniors and Juniors and College Transfer Students meet one on one with over 40 HBCUs and over 150 other colleges and universities . Get ALL you need to know to WIN! Get Educational Resources. EVERYONE is Welcome…it’s for Students of ALL Ages…Plus… \nGet Accepted on the SPOT\, students you must bring your transcripts and test scores (12th graders and some colleges may accept 11th graders) \nCollege Transfer Students this is a great opportunity for you to get accepted on the spot! Bring your transcripts from all colleges that you have attended. FREE for College Students just show your ID.
URL:https://opnc.org/event/black-college-fair/
LOCATION:Los Angeles Convention Center
CATEGORIES:Events
END:VEVENT
BEGIN:VEVENT
DTSTART;TZID=America/Los_Angeles:20230126T200000
DTEND;TZID=America/Los_Angeles:20230126T230000
DTSTAMP:20260423T140208
CREATED:20221227T183145Z
LAST-MODIFIED:20221227T183145Z
UID:5554-1674763200-1674774000@opnc.org
SUMMARY:Homeless Count
DESCRIPTION:Volunteer for the 2023 Greater Los Angeles Homeless Count. We encourage you to register to volunteer for the 2023 Greater Los Angeles Homeless Count: \n• In Olympic Park/Mid City West\, the 2023 Homeless Count is planned for Thursday\, January 26\, from 8PM to 11PM. \n• Our location needs 131 volunteers. \nWe count to help the thousands of men\, women\, and families that are sleeping without a permanent home across Los Angeles County every night. \nThe data collected is an essential component in understanding the scope and nature of homelessness in Los Angeles County and helps Los Angeles Homeless Services Authority (LAHSA) and its partners deliver services where they are needed most to support the needs of our unhoused neighbors. \nHomelessness is a humanitarian crisis that takes the support of our entire community to end. \nTo register or for additional information\, visit http://theycountwillyou.org
URL:https://opnc.org/event/homeless-count-4/
CATEGORIES:Events
END:VEVENT
BEGIN:VEVENT
DTSTART;TZID=America/Los_Angeles:20230119T190000
DTEND;TZID=America/Los_Angeles:20230119T203000
DTSTAMP:20260423T140208
CREATED:20230117T192327Z
LAST-MODIFIED:20230120T002044Z
UID:5706-1674154800-1674160200@opnc.org
SUMMARY:Outreach Committee Meeting
DESCRIPTION:Join us for a specially scheduled OPNC Outreach Committee Meeting on January 19\, 7pm. \nZoom Meeting Online or By Telephone\nhttps://us02web.zoom.us/j/83933528685\nDial +1669 900 6833 to Join the Meeting\nThen Enter This Webinar ID: 839 3352 8685 and Press #
URL:https://opnc.org/event/outreach-committee-meeting-13/
CATEGORIES:Outreach
END:VEVENT
BEGIN:VEVENT
DTSTART;TZID=America/Los_Angeles:20230109T190000
DTEND;TZID=America/Los_Angeles:20230109T210000
DTSTAMP:20260423T140208
CREATED:20221128T191331Z
LAST-MODIFIED:20230106T000759Z
UID:5369-1673290800-1673298000@opnc.org
SUMMARY:Board Meeting
DESCRIPTION:Join us for the first OPNC meeting of the year on January 9\, 7pm. \nOn our agenda: \n\nClean California Community Day\nCouncil Ordinance eliminating polystyrene & single use plastic bags\nHomeboy Industries Grant\n\nZoom Meeting Online or By Telephone https://us02web.zoom.us/j/83932413655\nDial +1669 900 6833 to Join the Meeting Then Enter This Webinar ID: 83932413655 and Press #
URL:https://opnc.org/event/board-meeting-4/
CATEGORIES:Board,Meetings
END:VEVENT
BEGIN:VEVENT
DTSTART;TZID=America/Los_Angeles:20230109T180000
DTEND;TZID=America/Los_Angeles:20230109T200000
DTSTAMP:20260423T140208
CREATED:20221227T190415Z
LAST-MODIFIED:20221227T190415Z
UID:5611-1673287200-1673294400@opnc.org
SUMMARY:Candidate Info Sessions
DESCRIPTION:Run for local office! Candidate Info Sessions start Saturday 12/10. Attend a Candidate Info Session and learn how you can run for local office on your LA Neighborhood Council! \nLearn how to create a successful campaign using free and low-cost outreach strategies and how to fill out your candidate application\, with the City of Los Angeles Department of Neighborhood Empowerment and the LA City Clerk’s Elections Division. \n*** \nWHAT YOU’LL LEARN \nHow to connect with voters\nHow to advocate for issues you’re passionate about\nTips for writing your personal statement + talking points\nHow & when to file as a candidate \n*** \nRSVP NOW \nAll sessions are on Zoom. Details to join online or by phone will be in your confirmation email. Presentation materials will be mobile-friendly. \nRSVP at http://tiny.cc/CandidateInfoSessions \n*** \nSCHEDULE \nWeekday January 9 (6pm)\nSaturday January 21 (10am – 12pm)\nSaturday February 4 (10am – 12pm)\nWednesday February 18 (10am-12pm)\nSaturday February 18 (10am – 12pm)\nSaturday March 4 (10am – 12pm)\nSaturday March 18 (10am – 12pm) \nTranslation in Spanish and Korean will be provided. Please indicate any additional languages or other accommodations needed when you RSVP. \nAfter attending\, you will receive candidate support resources via email to the address you used for RSVP. You may unsubscribe at any time.
URL:https://opnc.org/event/candidate-info-sessions/2023-01-09/
CATEGORIES:Events
END:VEVENT
BEGIN:VEVENT
DTSTART;VALUE=DATE:20221225
DTEND;VALUE=DATE:20221226
DTSTAMP:20260423T140208
CREATED:20221215T024619Z
LAST-MODIFIED:20221215T024619Z
UID:5510-1671926400-1672012799@opnc.org
SUMMARY:Merry Christmas
DESCRIPTION:
URL:https://opnc.org/event/merry-christmas/
CATEGORIES:Events
END:VEVENT
BEGIN:VEVENT
DTSTART;VALUE=DATE:20221218
DTEND;VALUE=DATE:20221219
DTSTAMP:20260423T140208
CREATED:20221215T024340Z
LAST-MODIFIED:20221217T001813Z
UID:5507-1671321600-1671407999@opnc.org
SUMMARY:Happy Hanukkah
DESCRIPTION:
URL:https://opnc.org/event/happy-hanukkah/
CATEGORIES:Events
END:VEVENT
BEGIN:VEVENT
DTSTART;TZID=America/Los_Angeles:20221216T180000
DTEND;TZID=America/Los_Angeles:20221216T210000
DTSTAMP:20260423T140209
CREATED:20221202T202443Z
LAST-MODIFIED:20221202T202443Z
UID:5411-1671213600-1671224400@opnc.org
SUMMARY:Snow in Leimert
DESCRIPTION:
URL:https://opnc.org/event/snow-in-leimert/
CATEGORIES:Events
END:VEVENT
BEGIN:VEVENT
DTSTART;TZID=America/Los_Angeles:20221215T190000
DTEND;TZID=America/Los_Angeles:20221215T203000
DTSTAMP:20260423T140209
CREATED:20221215T022604Z
LAST-MODIFIED:20221215T022604Z
UID:5498-1671130800-1671136200@opnc.org
SUMMARY:Special Outreach Committee Meeting
DESCRIPTION:Join us for a specially scheduled meeting of the Outreach Committee December 15\, 7pm. \nZoom Meeting Online or By Telephone\nhttps://us02web.zoom.us/j/83933528685\nDial +1669 900 6833 to Join the Meeting\nThen Enter This Webinar ID: 839 3352 8685 and Press #
URL:https://opnc.org/event/special-outreach-committee-meeting/
CATEGORIES:Meetings,Outreach
END:VEVENT
BEGIN:VEVENT
DTSTART;TZID=America/Los_Angeles:20221212T190000
DTEND;TZID=America/Los_Angeles:20221212T210000
DTSTAMP:20260423T140209
CREATED:20221208T174317Z
LAST-MODIFIED:20221215T025148Z
UID:5444-1670871600-1670878800@opnc.org
SUMMARY:Special Meeting
DESCRIPTION:Join us for a specially scheduled meeting of the Olympic Park Neighborhood Council on December 12\, 7pm. \nDecember 12\, 2022 Special Board Agenda \nZoom Meeting Online or By Telephone https://us02web.zoom.us/j/83932413655\nDial +1669 900 6833 to Join the Meeting Then Enter This Webinar ID: 83932413655 and Press #
URL:https://opnc.org/event/special-meeting-3/
CATEGORIES:Board,Meetings
END:VEVENT
BEGIN:VEVENT
DTSTART;TZID=America/Los_Angeles:20221212T180000
DTEND;TZID=America/Los_Angeles:20221212T193000
DTSTAMP:20260423T140209
CREATED:20221128T192138Z
LAST-MODIFIED:20221128T192138Z
UID:5388-1670868000-1670873400@opnc.org
SUMMARY:Fair Housing Meeting
DESCRIPTION:Join the Los Angeles Housing Department at a virtual community meeting as they present City’s 2023-2028 Assessment of Fair Housing (AFH) process and to receive feedback from the public regarding their fair housing concerns and experiences to shape future programming and goals. A total of seven meetings will be held starting on Thursday\, December 1\, 2022 through Thursday\, December 15\, 2022. All meetings will take place from 6:00pm to 7:30pm. \nJoin the meeting: http://bit.ly/LosAngelesAFH_CentralLA \nMore about this effort: https://housing.lacity.org/residents/assessment-of-fair-housing \nTake the Fair Housing Survey: https://www.surveymonkey.com/r/LA-FairHousing-PublicSurvey
URL:https://opnc.org/event/fair-housing-meeting/
CATEGORIES:Events
END:VEVENT
BEGIN:VEVENT
DTSTART;TZID=America/Los_Angeles:20221205T190000
DTEND;TZID=America/Los_Angeles:20221205T210000
DTSTAMP:20260423T140209
CREATED:20211025T224244Z
LAST-MODIFIED:20221202T201436Z
UID:4206-1670266800-1670274000@opnc.org
SUMMARY:Board Meeting
DESCRIPTION:Join us for the Olympic Park Neighborhood Council Meeting on Monday\, December 5\, 7pm. \nDecember 5\, 2022 Board Agenda \nZoom Meeting Online or By Telephone\nhttps://us02web.zoom.us/j/83932413655\nDial +1669 900 6833 to Join the Meeting\nThen Enter This Webinar ID: 83932413655 and Press #
URL:https://opnc.org/event/board-meeting-2022-12-05/
CATEGORIES:Board,Meetings
END:VEVENT
BEGIN:VEVENT
DTSTART;TZID=America/Los_Angeles:20221203T080000
DTEND;TZID=America/Los_Angeles:20221203T130000
DTSTAMP:20260423T140209
CREATED:20221202T201931Z
LAST-MODIFIED:20221202T201931Z
UID:5408-1670054400-1670072400@opnc.org
SUMMARY:Gun Buyback
DESCRIPTION:
URL:https://opnc.org/event/gun-buyback-2/
CATEGORIES:Events
END:VEVENT
BEGIN:VEVENT
DTSTART;TZID=America/Los_Angeles:20221202T160000
DTEND;TZID=America/Los_Angeles:20221202T200000
DTSTAMP:20260423T140209
CREATED:20221128T190952Z
LAST-MODIFIED:20221128T192341Z
UID:5367-1669996800-1670011200@opnc.org
SUMMARY:Los Angeles High School's Friday Night Hoops
DESCRIPTION:You are cordially invited to Los Angeles High School’s Friday Night Hoops. \nThe Los Angele High basketball team will host this community event on Friday\, December 2. The mighty Romans will face the Morningside HS Monarchs for a doubleheader at 4 PM (Girls) and 6 PM (Boys). \nOur Student Leadership members will sell food\, LA High Roman apparel\, Letterman’s jackets\, and 50/50 raffle tickets. Several clubs and student interest groups (e.g.\, Academic Decathalon\, Mathematics\, Engineering\, Science Achievement\, SALEF\, BSU\, etc.) will have recruitment materials and information for current and future students. \nWe will also celebrate the life of Coach John Watson\, a longtime football coach at LA High. There will be a presentation to the Watson family during halftime of the boys’ game.
URL:https://opnc.org/event/los-angeles-high-schools-friday-night-hoops/
LOCATION:LA High School\, 4650 W. Olympic Blvd.\, Los Angeles\, 90019\, United States
CATEGORIES:Events
GEO:34.055405;-118.3329852
X-APPLE-STRUCTURED-LOCATION;VALUE=URI;X-ADDRESS=LA High School 4650 W. Olympic Blvd. Los Angeles 90019 United States;X-APPLE-RADIUS=500;X-TITLE=4650 W. Olympic Blvd.:geo:-118.3329852,34.055405
END:VEVENT
BEGIN:VEVENT
DTSTART;TZID=America/Los_Angeles:20221201T090000
DTEND;TZID=America/Los_Angeles:20221201T160000
DTSTAMP:20260423T140209
CREATED:20221128T191722Z
LAST-MODIFIED:20221128T191722Z
UID:5385-1669885200-1669910400@opnc.org
SUMMARY:Public Works Career Fair
DESCRIPTION:The Department of Public Works is partnering with the Personnel Department to hold our first department-wide Career Fair to help us fill positions throughout the city. Those who attend will learn about the various careers in Public Works\, how to apply and gain insight information on City employment opportunities. \nBring copies of your resume\, contact information\, certificates\, diplomas\, licenses\, California Drivers License\, copy of clean driving record\, etc. \nThursday\, December 1\, 2022 | 9AM – 4PM \nLos Angeles Trade Tech College* \n*FREE PARKING LOCATED AT THREE SCHOOL LOTS: Grand Ave and 23rd St. | Olive St. and Grand Ave | Flower St. and Washington Blvd
URL:https://opnc.org/event/public-works-career-fair/
CATEGORIES:Events
END:VEVENT
BEGIN:VEVENT
DTSTART;TZID=America/Los_Angeles:20221117T190000
DTEND;TZID=America/Los_Angeles:20221117T203000
DTSTAMP:20260423T140209
CREATED:20220111T191120Z
LAST-MODIFIED:20221115T191850Z
UID:4316-1668711600-1668717000@opnc.org
SUMMARY:Outreach Committee Meeting
DESCRIPTION:Join us for the Olympic Park Neighborhood Council Outreach Committee Meeting on November 17\, 7pm. \nNovember 17\, 2022 Outreach Agenda \nZoom Meeting Online or By Telephone\nhttps://us02web.zoom.us/j/83933528685\nDial +1669 900 6833 to Join the Meeting\nThen Enter This Webinar ID: 839 3352 8685 and Press #
URL:https://opnc.org/event/outreach-committee-meeting-11-2022-11-16/
CATEGORIES:Meetings,Outreach
END:VEVENT
BEGIN:VEVENT
DTSTART;TZID=America/Los_Angeles:20221113T100000
DTEND;TZID=America/Los_Angeles:20221113T160000
DTSTAMP:20260423T140209
CREATED:20221026T201123Z
LAST-MODIFIED:20221026T201123Z
UID:5183-1668333600-1668355200@opnc.org
SUMMARY:Safety & Preparedness Fair
DESCRIPTION:This event is located in the Green Lot at Exposition Park which is easily accessible from the Expo Line as well as various bus routes. \nAngelenos of all ages are welcome. Admission to the event is free\, as are the presentations\, the hands-on training opportunities\, and the kids’ bike safety course/bike rodeo. We will be giving away free basic emergency preparedness/first aid supplies to attendees on a first come\, first served basis\, one set per household while supplies last. Attendees will have the opportunity to purchase lunch or snacks from food trucks and to buy additional emergency preparedness supplies from on-site vendors. \nPlease pre-register for the event so the organizers know how many household preparedness kits to order.
URL:https://opnc.org/event/safety-preparedness-fair/
CATEGORIES:Events
END:VEVENT
BEGIN:VEVENT
DTSTART;TZID=America/Los_Angeles:20221108T070000
DTEND;TZID=America/Los_Angeles:20221108T200000
DTSTAMP:20260423T140209
CREATED:20221026T205258Z
LAST-MODIFIED:20221026T205258Z
UID:5202-1667890800-1667937600@opnc.org
SUMMARY:Elections
DESCRIPTION:VOTE! \nOctober 29 – November 7: 10 AM – 7 PM\nElection Day\, November 8: 7 AM – 8 PM \nFind Ballot Drop Boxes or a Vote Center
URL:https://opnc.org/event/elections-2/
CATEGORIES:Events
END:VEVENT
BEGIN:VEVENT
DTSTART;TZID=America/Los_Angeles:20221107T190000
DTEND;TZID=America/Los_Angeles:20221107T210000
DTSTAMP:20260423T140209
CREATED:20211025T224244Z
LAST-MODIFIED:20221208T175150Z
UID:4205-1667847600-1667854800@opnc.org
SUMMARY:Board Meeting
DESCRIPTION:Join us for the Olympic Park Neighborhood Council Meeting on November 7\, 7pm. \nZoom Meeting Online or By Telephone\nhttps://us02web.zoom.us/j/83932413655\nDial +1669 900 6833 to Join the Meeting\nThen Enter This Webinar ID: 83932413655 and Press #
URL:https://opnc.org/event/board-meeting-2022-11-07/
CATEGORIES:Board,Meetings
END:VEVENT
BEGIN:VEVENT
DTSTART;TZID=America/Los_Angeles:20221105T090000
DTEND;TZID=America/Los_Angeles:20221105T130000
DTSTAMP:20260423T140209
CREATED:20221026T211336Z
LAST-MODIFIED:20221026T225156Z
UID:5207-1667638800-1667653200@opnc.org
SUMMARY:Arts Fair and Vendor Market
DESCRIPTION:Contact: Amy Clarke or Tanisha Davis\, Co-Chairs of the GALA Arts Guild Committee arts@fogala.org \nGIRLS ACADEMIC LEADERSHIP ACADEMY (GALA) HOSTS\nan ARTS FAIR and VENDOR MARKET\non SAT\, NOV 5\, 2022 from 9AM-1PM\noutside on the GALA Field\,\n1067 West Blvd\, Los Angeles\, CA 90019 \nThe Girls Academic Leadership Academy (GALA) Arts Guild Committee and the GALA Associated Student Body are pleased to announce their first annual Arts Fair and Vendor Market on Saturday\, November 5\, 2022 from 9AM-1PM\, outside on the GALA field. The event will feature performances by the GALA Music Department\, a GALA Architecture & Graphic Design showcase\, representatives from student clubs and groups\, and an eclectic collection of parent & community artisan vendors selling custom wares. \nFunds raised from sales will benefit the school. \nFeatured artisans include:\nRecyclicious (www.recyclicious.com)\,\nChocolate and Steel (www.chocolateandsteel.com)\,\nPondicherry Dry Goods (www.pondicherrydrygoods.com)\,\nBalthazar & Rose (www.balthazarandrose.com)\,\nEmily’s Space Craft (http://Etsy.com/shop/elakdawalla)\,\nKazjewels by Karen (https://kazjewelsbykaren.com/) \nand more! \nAdmission to the event is free. Entrance to the Arts Fair will be at the South Gate\, at the intersection of West Blvd and Edgewood Pl. \nPlease contact arts@fogala.org with any questions about the event. \n“GALA is the first all-girls STEM focused school within LAUSD offering a unique learning option for our families and providing a clear pathway to college and STEM careers for girls in Los Angeles. We are honored to be supported by the entire LA School Board\, Senator Holly Mitchell\, Amy Wakeland and Mayor Garcetti.” Liz Hicks\, Founder and Principal of Girls Academic Leadership Academy. \nLocated in the heart of Los Angeles\, GALA’s student body (6th – 12th grades) is a highly diverse student body of girls that draws from 112 different schools and 79 unique zip codes within Los Angeles\, representing a richly varied ethnic and socio-economic community.
URL:https://opnc.org/event/arts-fair-and-vendor-market/
CATEGORIES:Events
END:VEVENT
BEGIN:VEVENT
DTSTART;TZID=America/Los_Angeles:20221101T170000
DTEND;TZID=America/Los_Angeles:20221101T190000
DTSTAMP:20260423T140209
CREATED:20221008T000110Z
LAST-MODIFIED:20221008T000110Z
UID:5090-1667322000-1667329200@opnc.org
SUMMARY:Black College Summit
DESCRIPTION:
URL:https://opnc.org/event/black-college-summit-2/
LOCATION:Holman United Methodist Church\, 3320 West Adams Blvd\, Los Angeles\, 90018
CATEGORIES:Events
GEO:34.032388;-118.320776
X-APPLE-STRUCTURED-LOCATION;VALUE=URI;X-ADDRESS=Holman United Methodist Church 3320 West Adams Blvd Los Angeles 90018;X-APPLE-RADIUS=500;X-TITLE=3320 West Adams Blvd:geo:-118.320776,34.032388
END:VEVENT
END:VCALENDAR