
BEGIN:VCALENDAR
VERSION:2.0
PRODID:-//Olympic Park Neighborhood Council - ECPv6.15.17.1//NONSGML v1.0//EN
CALSCALE:GREGORIAN
METHOD:PUBLISH
X-WR-CALNAME:Olympic Park Neighborhood Council
X-ORIGINAL-URL:https://opnc.org
X-WR-CALDESC:Events for Olympic Park Neighborhood Council
REFRESH-INTERVAL;VALUE=DURATION:PT1H
X-Robots-Tag:noindex
X-PUBLISHED-TTL:PT1H
BEGIN:VTIMEZONE
TZID:America/Los_Angeles
BEGIN:DAYLIGHT
TZOFFSETFROM:-0800
TZOFFSETTO:-0700
TZNAME:PDT
DTSTART:20220313T100000
END:DAYLIGHT
BEGIN:STANDARD
TZOFFSETFROM:-0700
TZOFFSETTO:-0800
TZNAME:PST
DTSTART:20221106T090000
END:STANDARD
BEGIN:DAYLIGHT
TZOFFSETFROM:-0800
TZOFFSETTO:-0700
TZNAME:PDT
DTSTART:20230312T100000
END:DAYLIGHT
BEGIN:STANDARD
TZOFFSETFROM:-0700
TZOFFSETTO:-0800
TZNAME:PST
DTSTART:20231105T090000
END:STANDARD
BEGIN:DAYLIGHT
TZOFFSETFROM:-0800
TZOFFSETTO:-0700
TZNAME:PDT
DTSTART:20240310T100000
END:DAYLIGHT
BEGIN:STANDARD
TZOFFSETFROM:-0700
TZOFFSETTO:-0800
TZNAME:PST
DTSTART:20241103T090000
END:STANDARD
END:VTIMEZONE
BEGIN:VEVENT
DTSTART;TZID=America/Los_Angeles:20231113T190000
DTEND;TZID=America/Los_Angeles:20231113T210000
DTSTAMP:20260423T033912
CREATED:20221128T191547Z
LAST-MODIFIED:20231110T201551Z
UID:5383-1699902000-1699909200@opnc.org
SUMMARY:Board Meeting-Canceled
DESCRIPTION:
URL:https://opnc.org/event/board-meeting-7-2023-11-06/
CATEGORIES:Board,Meetings
END:VEVENT
BEGIN:VEVENT
DTSTART;TZID=America/Los_Angeles:20231106T190000
DTEND;TZID=America/Los_Angeles:20231106T210000
DTSTAMP:20260423T033912
CREATED:20231103T192158Z
LAST-MODIFIED:20231103T192158Z
UID:7764-1699297200-1699304400@opnc.org
SUMMARY:Meeting Canceled
DESCRIPTION:
URL:https://opnc.org/event/meeting-canceled/
CATEGORIES:Board,Meetings
END:VEVENT
BEGIN:VEVENT
DTSTART;TZID=America/Los_Angeles:20231028T100000
DTEND;TZID=America/Los_Angeles:20231028T130000
DTSTAMP:20260423T033912
CREATED:20230929T201404Z
LAST-MODIFIED:20230929T201404Z
UID:7461-1698487200-1698498000@opnc.org
SUMMARY:The Radical Power of Dance: United by the Beat
DESCRIPTION:SAVE THE DATE: SATURDAY\, OCT 28\nThe Radical Power of Dance: United by the Beat \nSaturday\, October 28\, 2023 | 10:00 am – 1:00 pm\nLos Angeles \nJoin Los Angeles County Supervisor Holly J. Mitchell for a FREE event celebrating culture through dance. All are welcomed to attend. RSVP is required to attend.
URL:https://opnc.org/event/the-radical-power-of-dance-united-by-the-beat/
CATEGORIES:Events
END:VEVENT
BEGIN:VEVENT
DTSTART;TZID=America/Los_Angeles:20231015T120000
DTEND;TZID=America/Los_Angeles:20231015T160000
DTSTAMP:20260423T033912
CREATED:20230825T154211Z
LAST-MODIFIED:20230929T200937Z
UID:7151-1697371200-1697385600@opnc.org
SUMMARY:2023 Operations-West Bureau/Wilshire Open House
DESCRIPTION:The open house is an opportunity for the community to tour their local police station and to meet and interact with officers to build stronger relationships. \nThere will be static displays from various units within the Department as well as various community groups. In addition there will be live entertainment\, food from local restaurants and games for the kids.
URL:https://opnc.org/event/2023-operations-west-bureau-wilshire-open-house/
LOCATION:Wilshire Community Police Station\, 4861 West Venice Blvd
CATEGORIES:Events
END:VEVENT
BEGIN:VEVENT
DTSTART;TZID=America/Los_Angeles:20231002T190000
DTEND;TZID=America/Los_Angeles:20231002T210000
DTSTAMP:20260423T033912
CREATED:20221128T191547Z
LAST-MODIFIED:20231002T164408Z
UID:5381-1696273200-1696280400@opnc.org
SUMMARY:Board Meeting
DESCRIPTION:Join us for the next Olympic Park Neighborhood Council Meeting on October 2\, 7pm at Los Angeles High School\, 4650 W. Olympic Blvd. \n 
URL:https://opnc.org/event/board-meeting-7/
LOCATION:Los Angeles High School\, 4650 W. Olympic Blvd\, Los Angeles\, 90019
CATEGORIES:Board,Meetings
GEO:34.055405;-118.3329852
X-APPLE-STRUCTURED-LOCATION;VALUE=URI;X-ADDRESS=Los Angeles High School 4650 W. Olympic Blvd Los Angeles 90019;X-APPLE-RADIUS=500;X-TITLE=4650 W. Olympic Blvd:geo:-118.3329852,34.055405
END:VEVENT
BEGIN:VEVENT
DTSTART;TZID=America/Los_Angeles:20230930T090000
DTEND;TZID=America/Los_Angeles:20230930T120000
DTSTAMP:20260423T033912
CREATED:20230929T203752Z
LAST-MODIFIED:20230929T203752Z
UID:7465-1696064400-1696075200@opnc.org
SUMMARY:Day of Service
DESCRIPTION:
URL:https://opnc.org/event/day-of-service/
CATEGORIES:Events
END:VEVENT
BEGIN:VEVENT
DTSTART;TZID=America/Los_Angeles:20230915T170000
DTEND;TZID=America/Los_Angeles:20230915T230000
DTSTAMP:20260423T033912
CREATED:20230825T154418Z
LAST-MODIFIED:20230825T154418Z
UID:7154-1694797200-1694818800@opnc.org
SUMMARY:El Grito
DESCRIPTION:Get ready for the free family event of the season – El Grito on September 15! Join us to kick off Latino Heritage Month with our annual El Grito Celebration & Civic Ceremony commemorating the fight for Mexico’s Independence. This event has something for the entire family to enjoy – visit our tiendita activation by the Goddess Mercado\, food trucks\, silent disco and an incredible lineup of musical acts from 5-11 pm in front of the historic City Hall steps!
URL:https://opnc.org/event/el-grito-3/
LOCATION:City Hall
CATEGORIES:Events
END:VEVENT
BEGIN:VEVENT
DTSTART;TZID=America/Los_Angeles:20230911T190000
DTEND;TZID=America/Los_Angeles:20230911T210000
DTSTAMP:20260423T033912
CREATED:20230906T214423Z
LAST-MODIFIED:20230906T214423Z
UID:7265-1694458800-1694466000@opnc.org
SUMMARY:Board Meeting 2
DESCRIPTION:Join us for our next Olympic Park Neighborhood Council Meeting on Monday\, September 11\, 7pm at Los Angeles High School\, 4650 W. Olympic Blvd. \nWe have two agendas for our special meetings which will be held one after another. \n\nSeptember 11\, 2023 Special Agenda 1\nSeptember 11\, 2023 Board Agenda 2\n\nIn the first meeting we will focus on adding 3 board members to reach quorum. \nIn the second meeting we will elect officers and conduct business.
URL:https://opnc.org/event/board-meeting-2-2/
LOCATION:Los Angeles High School\, 4650 W. Olympic Blvd\, Los Angeles\, 90019
CATEGORIES:Board,Meetings
GEO:34.055405;-118.3329852
X-APPLE-STRUCTURED-LOCATION;VALUE=URI;X-ADDRESS=Los Angeles High School 4650 W. Olympic Blvd Los Angeles 90019;X-APPLE-RADIUS=500;X-TITLE=4650 W. Olympic Blvd:geo:-118.3329852,34.055405
END:VEVENT
BEGIN:VEVENT
DTSTART;TZID=America/Los_Angeles:20230911T190000
DTEND;TZID=America/Los_Angeles:20230911T210000
DTSTAMP:20260423T033912
CREATED:20221128T191503Z
LAST-MODIFIED:20230906T214433Z
UID:5379-1694458800-1694466000@opnc.org
SUMMARY:Board Meeting
DESCRIPTION:Join us for our next Olympic Park Neighborhood Council Meeting on Monday\, September 11\, 7pm at Los Angeles High School\, 4650 W. Olympic Blvd. \nWe have two agendas for our special meetings which will be held one after another. \n\nSeptember 11\, 2023 Special Agenda 1\nSeptember 11\, 2023 Board Agenda 2\n\nIn the first meeting we will focus on adding 3 board members to reach quorum. \nIn the second meeting we will elect officers and conduct business.
URL:https://opnc.org/event/board-meeting-6/
LOCATION:Los Angeles High School\, 4650 W. Olympic Blvd\, Los Angeles\, 90019
CATEGORIES:Board,Meetings
GEO:34.055405;-118.3329852
X-APPLE-STRUCTURED-LOCATION;VALUE=URI;X-ADDRESS=Los Angeles High School 4650 W. Olympic Blvd Los Angeles 90019;X-APPLE-RADIUS=500;X-TITLE=4650 W. Olympic Blvd:geo:-118.3329852,34.055405
END:VEVENT
BEGIN:VEVENT
DTSTART;TZID=America/Los_Angeles:20230826T110000
DTEND;TZID=America/Los_Angeles:20230826T210000
DTSTAMP:20260423T033912
CREATED:20230719T182732Z
LAST-MODIFIED:20230719T182732Z
UID:6974-1693047600-1693083600@opnc.org
SUMMARY:Leimert Park Jazz Festival
DESCRIPTION:
URL:https://opnc.org/event/leimert-park-jazz-festival/
CATEGORIES:Events
END:VEVENT
BEGIN:VEVENT
DTSTART;TZID=America/Los_Angeles:20230818T180000
DTEND;TZID=America/Los_Angeles:20230818T213000
DTSTAMP:20260423T033912
CREATED:20230808T190757Z
LAST-MODIFIED:20230808T190935Z
UID:7094-1692381600-1692394200@opnc.org
SUMMARY:Movies in the Park
DESCRIPTION:OPNC is proud to partner to bring you Movies in the Park at Queen Anne Recreation Center. Come for an evening of fun watching the movie Encanto. \nEnjoy tacos (chicken and asada)\, paletas (Oaxacan ice cream from Mateo’s Ice Cream)\, and pre-bagged popcorn (from a nearby theater). There will also be 300 backpacks with school supplies inside and a raffle of two bikes and skateboards with a safety helmet.
URL:https://opnc.org/event/movies-in-the-park-5/
LOCATION:Queen Anne Recreation Center\, 1240 West Blvd\, Los Angeles\, 90019
CATEGORIES:Events
GEO:34.0508042;-118.332572
X-APPLE-STRUCTURED-LOCATION;VALUE=URI;X-ADDRESS=Queen Anne Recreation Center 1240 West Blvd Los Angeles 90019;X-APPLE-RADIUS=500;X-TITLE=1240 West Blvd:geo:-118.332572,34.0508042
END:VEVENT
BEGIN:VEVENT
DTSTART;TZID=America/Los_Angeles:20230818T180000
DTEND;TZID=America/Los_Angeles:20230818T213000
DTSTAMP:20260423T033912
CREATED:20230719T182024Z
LAST-MODIFIED:20230720T172656Z
UID:6970-1692381600-1692394200@opnc.org
SUMMARY:Movies in the Park: Encanto
DESCRIPTION:OPNC is proud to sponsor this Movies in the Park event. See you there.
URL:https://opnc.org/event/movies-in-the-park-encanto/
LOCATION:Queen Anne Recreation Center\, 1240 West Blvd\, Los Angeles\, 90019
CATEGORIES:Events
GEO:34.0508042;-118.332572
X-APPLE-STRUCTURED-LOCATION;VALUE=URI;X-ADDRESS=Queen Anne Recreation Center 1240 West Blvd Los Angeles 90019;X-APPLE-RADIUS=500;X-TITLE=1240 West Blvd:geo:-118.332572,34.0508042
END:VEVENT
BEGIN:VEVENT
DTSTART;TZID=America/Los_Angeles:20230807T190000
DTEND;TZID=America/Los_Angeles:20230807T210000
DTSTAMP:20260423T033912
CREATED:20221128T191427Z
LAST-MODIFIED:20230804T215923Z
UID:5378-1691434800-1691442000@opnc.org
SUMMARY:Board Meeting-Cancelled
DESCRIPTION:
URL:https://opnc.org/event/board-meeting-5-2023-08-07/
CATEGORIES:Board,Meetings
END:VEVENT
BEGIN:VEVENT
DTSTART;TZID=America/Los_Angeles:20230801T180000
DTEND;TZID=America/Los_Angeles:20230801T200000
DTSTAMP:20260423T033912
CREATED:20230728T174638Z
LAST-MODIFIED:20230728T175554Z
UID:6980-1690912800-1690920000@opnc.org
SUMMARY:National Night Out
DESCRIPTION:Come celebrate National Night Out 2023 at the Olympic Community Police Station\, 1130 S. Vermont Ave August 1\, 6-8 pm. This is a fun evening for family\, friends and neighbors to build police-community partnerships. Enjoy  jumpers\, entertainment\, food\, drinks\, games and more.
URL:https://opnc.org/event/national-night-out-3/
LOCATION:LAPD Olympic Station\, 1130 S. Vermont Ave.\, Los Angeles\, 90006
CATEGORIES:Events
GEO:34.050229;-118.2911404
X-APPLE-STRUCTURED-LOCATION;VALUE=URI;X-ADDRESS=LAPD Olympic Station 1130 S. Vermont Ave. Los Angeles 90006;X-APPLE-RADIUS=500;X-TITLE=1130 S. Vermont Ave.:geo:-118.2911404,34.050229
END:VEVENT
BEGIN:VEVENT
DTSTART;TZID=America/Los_Angeles:20230728T180000
DTEND;TZID=America/Los_Angeles:20230728T213000
DTSTAMP:20260423T033912
CREATED:20230728T181045Z
LAST-MODIFIED:20230728T181045Z
UID:6984-1690567200-1690579800@opnc.org
SUMMARY:Movies in the Park
DESCRIPTION:Enjoy a free night of community and fun.
URL:https://opnc.org/event/movies-in-the-park-4/
LOCATION:Reynier Park\, 2803 Reynier Ave\, Los Angeles
CATEGORIES:Events
END:VEVENT
BEGIN:VEVENT
DTSTART;TZID=America/Los_Angeles:20230715T120000
DTEND;TZID=America/Los_Angeles:20230715T200000
DTSTAMP:20260423T033912
CREATED:20230706T164747Z
LAST-MODIFIED:20230706T164747Z
UID:6872-1689422400-1689451200@opnc.org
SUMMARY:South LA Pride
DESCRIPTION:
URL:https://opnc.org/event/south-la-pride/
CATEGORIES:Events
END:VEVENT
BEGIN:VEVENT
DTSTART;TZID=America/Los_Angeles:20230710T190000
DTEND;TZID=America/Los_Angeles:20230710T210000
DTSTAMP:20260423T033912
CREATED:20221128T191427Z
LAST-MODIFIED:20230706T160153Z
UID:5377-1689015600-1689022800@opnc.org
SUMMARY:Board Meeting-Cancelled
DESCRIPTION:
URL:https://opnc.org/event/board-meeting-5-2023-07-03/
CATEGORIES:Board,Meetings
END:VEVENT
BEGIN:VEVENT
DTSTART;VALUE=DATE:20230704
DTEND;VALUE=DATE:20230705
DTSTAMP:20260423T033912
CREATED:20230629T194422Z
LAST-MODIFIED:20230629T194422Z
UID:6801-1688428800-1688515199@opnc.org
SUMMARY:Fireworks Shows
DESCRIPTION:
URL:https://opnc.org/event/fireworks-shows/
CATEGORIES:Events
END:VEVENT
BEGIN:VEVENT
DTSTART;TZID=America/Los_Angeles:20230629T090000
DTEND;TZID=America/Los_Angeles:20230629T150000
DTSTAMP:20260423T033912
CREATED:20230617T062437Z
LAST-MODIFIED:20230617T062437Z
UID:6716-1688029200-1688050800@opnc.org
SUMMARY:City of Los Angeles Career Fair
DESCRIPTION:Learn about the various careers in Public Works and other City departments as well as how to apply and gain insightful information on City employment opportunities. We have both full-time and part-time positions available. Come speak with our staff to learn more about the positions you’re interested in\, receive on-site assistance with an online application (we’ll have computers available for you to use)\, and even take an employment exam. \nRSVP: https://cityoflacareerfair.eventbrite.com/ \nThe following full-time City positions are available. Apply online or on-site at the Career Fair. We’ll have staff available to answer questions about the positions. \nPublic Work Depts:\nCivil Engineering Associate\nEnvironmental Compliance Inspector\nGardener Caretaker\nInstrument Mechanic\nProgrammer Analyst\nRoofer\nTree Surgeon Assistant\nSystems Analyst\nProject Assistant \nLAPD:\n911 Dispatcher\nPolice Officer\nDetention Officer \nLAFD:\nFirefighter \nMedical:\nAdvance Practice Provider\nCorrectional Nurse\nLicensed Vocational Nurse \nLADOT (Transportation):\nCrossing Guards\nCommunity Admin Workers\nTransportation Engineering Aides \nRec and Parks:\nSpecial Program Assistant II\nInstructors\nLifeguards\nPark Rangers \nTarget Local Hire (TLH):\nOffice Trainee\nVocational Workers\nGardener Caretaker\nWarehouse & Toolroom Worker\nCustodian\nMaintenance Labor \nBridge to Jobs (BTJ):\nAccounting Clerk Trainee\nCommunications Information\nRepresentative Trainee \nFREE CAREER WORKSHOPS: \n9:30 AM\nCIVIL SERVICE AND THE CITY’S HIRING PROCESS\nOur team will explain what civil service means\, what exams are like\, and the City’s hiring process. \n10:30 AM\nTIPS FOR APPLICATIONS\, RESUMES\, AND COVER LETTERS\nWe’ll teach you the right words to use and some simple tricks for showcasing your skills and experience in the best possible way on paper. \n11:30 AM\nINTERVIEWING 101\nPreparing for an interview is easier than you think. Learn about best practices and simple guidelines for making a professional first impression. \n12:30 PM\nFINDING A JOB WITH THE CITY OF LOS ANGELES\nWe’ll explain common city terms\, the salary ranges\, and the application process. \n1:30 PM\nDRESS FOR SUCCESS\nA suit isn’t always required for interviews. Sometimes business casual is acceptable for an interview. We’ll provide some helpful guidelines.
URL:https://opnc.org/event/city-of-los-angeles-career-fair/
CATEGORIES:Events
END:VEVENT
BEGIN:VEVENT
DTSTART;TZID=America/Los_Angeles:20230618T090000
DTEND;TZID=America/Los_Angeles:20230618T160000
DTSTAMP:20260423T033912
CREATED:20230617T062218Z
LAST-MODIFIED:20230617T062218Z
UID:6712-1687078800-1687104000@opnc.org
SUMMARY:Juneteenth CicLAvia
DESCRIPTION:On Sunday\, June 18\, we’re opening up streets in South Los Angeles so you can jog\, ride\, bike\, skate\, run\, walk\, skateboard\, spectate\, and enjoy the route however you want. Our routes are welcoming to people of all ages and abilities! \nCicLAvia—South LA is presented by Metro. This event will feature the 3rd annual Juneteenth Celebration and Resource Fair brought to you by Los Angeles County Supervisor Holly J. Mitchell. This year it’s taking place at CicLAvia in South LA\, on Century Blvd & Western Avenue near Jesse Owens Park.
URL:https://opnc.org/event/juneteenth-ciclavia/
CATEGORIES:Events
END:VEVENT
BEGIN:VEVENT
DTSTART;TZID=America/Los_Angeles:20230617T093000
DTEND;TZID=America/Los_Angeles:20230617T130000
DTSTAMP:20260423T033912
CREATED:20230617T061958Z
LAST-MODIFIED:20230617T061958Z
UID:6709-1686994200-1687006800@opnc.org
SUMMARY:Budget Day
DESCRIPTION:Budget Day is June 17 from 9:30 a.m. to 1:00 p.m. There will be a keynote address from Mayor Bass. Please register now at tiny.cc/budgetday23.
URL:https://opnc.org/event/budget-day-6/
CATEGORIES:Events
END:VEVENT
BEGIN:VEVENT
DTSTART;TZID=America/Los_Angeles:20230612T100000
DTEND;TZID=America/Los_Angeles:20230612T120000
DTSTAMP:20260423T033912
CREATED:20230420T010017Z
LAST-MODIFIED:20230420T010017Z
UID:6332-1686564000-1686571200@opnc.org
SUMMARY:Reform LA: Commission Support Systems
DESCRIPTION:The Ad Hoc Committee on Governance Reform has begun its listening sessions on potential reforms to our city’s redistricting process. This is a historic effort which is being led by the Council President and the more public participation the better\, as reforms recommended by the committee will need to go to the full City Council and the voters for adoption\, as many reforms would require changes to the City Charter. \nListening sessions will take place over the next few weeks and into the summer. The committee will make its recommendations to the full City Council in late summer and\, if approved\, will head to voters for their consideration in either March or November of 2024. \nRegister your thoughts on redistricting reform: https://cityclerk.lacity.org/publiccomment/ Council File #22-1196-S1
URL:https://opnc.org/event/reform-la-commission-support-systems/
LOCATION:City Hall
CATEGORIES:Events
END:VEVENT
BEGIN:VEVENT
DTSTART;TZID=America/Los_Angeles:20230605T190000
DTEND;TZID=America/Los_Angeles:20230605T210000
DTSTAMP:20260423T033912
CREATED:20221128T191427Z
LAST-MODIFIED:20230601T145208Z
UID:5376-1685991600-1685998800@opnc.org
SUMMARY:Board Meeting
DESCRIPTION:Join us for the next Olympic Park Neighborhood Council Meeting June 5\, 7pm at Catch One\, 4067 W Pico Blvd.
URL:https://opnc.org/event/board-meeting-2023-06-05/
CATEGORIES:Board,Meetings
END:VEVENT
BEGIN:VEVENT
DTSTART;TZID=America/Los_Angeles:20230601T100000
DTEND;TZID=America/Los_Angeles:20230601T120000
DTSTAMP:20260423T033912
CREATED:20230420T005912Z
LAST-MODIFIED:20230420T005912Z
UID:6327-1685613600-1685620800@opnc.org
SUMMARY:Reform LA: Commission Instructions
DESCRIPTION:The Ad Hoc Committee on Governance Reform has begun its listening sessions on potential reforms to our city’s redistricting process. This is a historic effort which is being led by the Council President and the more public participation the better\, as reforms recommended by the committee will need to go to the full City Council and the voters for adoption\, as many reforms would require changes to the City Charter. \nListening sessions will take place over the next few weeks and into the summer. The committee will make its recommendations to the full City Council in late summer and\, if approved\, will head to voters for their consideration in either March or November of 2024. \nRegister your thoughts on redistricting reform: https://cityclerk.lacity.org/publiccomment/ Council File #22-1196-S1
URL:https://opnc.org/event/reform-la-commission-instructions/
LOCATION:Cheviot Hills Recreation Center\, 2551 Motor Ave\, Los Angeles\, 90064
CATEGORIES:Events
END:VEVENT
BEGIN:VEVENT
DTSTART;TZID=America/Los_Angeles:20230522T100000
DTEND;TZID=America/Los_Angeles:20230522T120000
DTSTAMP:20260423T033912
CREATED:20230420T005635Z
LAST-MODIFIED:20230420T010221Z
UID:6323-1684749600-1684756800@opnc.org
SUMMARY:Reform LA: Commission Selection
DESCRIPTION:The Ad Hoc Committee on Governance Reform has begun its listening sessions on potential reforms to our city’s redistricting process. This is a historic effort which is being led by the Council President and the more public participation the better\, as reforms recommended by the committee will need to go to the full City Council and the voters for adoption\, as many reforms would require changes to the City Charter. \nListening sessions will take place over the next few weeks and into the summer. The committee will make its recommendations to the full City Council in late summer and\, if approved\, will head to voters for their consideration in either March or November of 2024. \nRegister your thoughts on redistricting reform: https://cityclerk.lacity.org/publiccomment/ Council File #22-1196-S1
URL:https://opnc.org/event/reform-la-commission-selection/
LOCATION:Van Nuys City Hall\, 14410 Sylvan Street\, Van Nuys\, 91401
CATEGORIES:Events
END:VEVENT
BEGIN:VEVENT
DTSTART;TZID=America/Los_Angeles:20230521T110000
DTEND;TZID=America/Los_Angeles:20230521T160000
DTSTAMP:20260423T033912
CREATED:20230517T161536Z
LAST-MODIFIED:20230517T161536Z
UID:6537-1684666800-1684684800@opnc.org
SUMMARY:I Love Myself Festival
DESCRIPTION:Save the date for @projectpit’s I Love Myself festival on May 21st at @baldwinhillscrenshaw mall! The event is filled with performances\, conversations\, and activities centered around mental health. \n 
URL:https://opnc.org/event/i-love-myself-festival/
LOCATION:Baldwin Hills Chrenshaw Plaza\, 4005 S. Crenshaw Blvd.\, Los Angeles
CATEGORIES:Events
GEO:34.0118176;-118.3357846
X-APPLE-STRUCTURED-LOCATION;VALUE=URI;X-ADDRESS=Baldwin Hills Chrenshaw Plaza 4005 S. Crenshaw Blvd. Los Angeles;X-APPLE-RADIUS=500;X-TITLE=4005 S. Crenshaw Blvd.:geo:-118.3357846,34.0118176
END:VEVENT
BEGIN:VEVENT
DTSTART;TZID=America/Los_Angeles:20230520T140000
DTEND;TZID=America/Los_Angeles:20230520T180000
DTSTAMP:20260423T033912
CREATED:20230512T163915Z
LAST-MODIFIED:20230512T173831Z
UID:6522-1684591200-1684605600@opnc.org
SUMMARY:Longwood Area Neighborhood Block Party
DESCRIPTION:Longwood Area Neighborhood Association celebrates its 40th Anniversary! \nNovember 1983 in the Living Room of my family’s home\, the Longwood Area Neighborhood Association (LANA) was founded by my Mother\, Marie Gaines. LANA was first known as the Longwood Avenue/Place Neighborhood Watch Group and was one of the larger groups at the time consisting of 1000\, 1100\, and 1200 Blocks of Longwood Avenue and all of Longwood Place. By 1985\, the group included residents from Highland Avenue and Tremaine so the need for a more inclusive name was selected. By 1990\, the boundaries of the group grew to include Olmypic to the North\, Pico to the South\, La Brea to the West\, and Rimpau to the East LANA has addressed many community issues aside from crime over the years. Homelessness in the area\, Gang Violence\, Violence in the Schools\, Traffic Mitigation\, and Development of both residential and commercial areas. The main goal of LANA has always been for neighbors to know one another and create a true sense of community. The slogan now is A Neighborhood Where Neighbors Say Hi! I am pleased to announce the 40th Anniversary Block Party to be held on Edgewood Place between Longwood and Keniston on Saturday\, May 20\, 2023\, from 2 pm to 6 pm/. As one of the founding members\, it warms my heart to know that such an incredible group of neighbors has kept the group alive\, well\, and viable! Continuing the tradition started 40 years ago to give EVERYONE a voice in the community – renter or property owner. This event is a celebration of their work and dedication to the Longwood Community! We look forward to seeing you on May 20th so we can say Hi to you! \nYours for the Best in the Community\nMilton H. Gaines\nFounding Member of LANA
URL:https://opnc.org/event/longwood-area-neighborhood-block-party/
CATEGORIES:Events
END:VEVENT
BEGIN:VEVENT
DTSTART;TZID=America/Los_Angeles:20230508T190000
DTEND;TZID=America/Los_Angeles:20230508T210000
DTSTAMP:20260423T033912
CREATED:20230505T002348Z
LAST-MODIFIED:20230607T165944Z
UID:6469-1683572400-1683579600@opnc.org
SUMMARY:Special Board Meeting
DESCRIPTION:Join us for a specially scheduled meeting of the Olympic Park Neighborhood Council on May 8\, 7pm at Catch One\, 4067 W. Pico Blvd. \nOn our agenda: \n\n1215 S. Irolo Multi Family Building\nAppoint new Board Members\nMovie night at Queen Anne Park
URL:https://opnc.org/event/special-board-meeting-5/
LOCATION:Catch One\, 4067 W. Pico Blvd\, Los Angeles\, 90019
CATEGORIES:Board,Meetings
GEO:34.047775;-118.3241134
X-APPLE-STRUCTURED-LOCATION;VALUE=URI;X-ADDRESS=Catch One 4067 W. Pico Blvd Los Angeles 90019;X-APPLE-RADIUS=500;X-TITLE=4067 W. Pico Blvd:geo:-118.3241134,34.047775
END:VEVENT
BEGIN:VEVENT
DTSTART;TZID=America/Los_Angeles:20230501T190000
DTEND;TZID=America/Los_Angeles:20230501T210000
DTSTAMP:20260423T033912
CREATED:20221128T191427Z
LAST-MODIFIED:20230427T221435Z
UID:5375-1682967600-1682974800@opnc.org
SUMMARY:Board Meeting-Cancelled
DESCRIPTION:We are sorry to report that our regularly scheduled May 1 meeting is cancelled. Stay tuned as we find a date where we can meet quorum.
URL:https://opnc.org/event/board-meeting-5-2023-05-01/
CATEGORIES:Board,Meetings
END:VEVENT
BEGIN:VEVENT
DTSTART;TZID=America/Los_Angeles:20230429T110000
DTEND;TZID=America/Los_Angeles:20230429T150000
DTSTAMP:20260423T033912
CREATED:20230420T005520Z
LAST-MODIFIED:20230420T005520Z
UID:6320-1682766000-1682780400@opnc.org
SUMMARY:Pull Up At The Wall
DESCRIPTION:Destination Crenshaw will host an event to celebrate our iconic landmark\, the Crenshaw Wall. \nPull Up @ The Wall on Saturday\, April 29th\, to meet artists from the RTN Crew that created the iconic landmark and learn how Destination Crenshaw will work with them to create the next phase! \nThe event will also feature a 5k community run with Keep It Run Hundred and we’ll have food vendors from the Crenshaw Farmers Market\, Black Women Vend\, kids activities and more! \nRSVP for April 29th right now to get more event details in the coming weeks.
URL:https://opnc.org/event/pull-up-at-the-wall/
CATEGORIES:Events
END:VEVENT
END:VCALENDAR