
BEGIN:VCALENDAR
VERSION:2.0
PRODID:-//Olympic Park Neighborhood Council - ECPv6.15.17.1//NONSGML v1.0//EN
CALSCALE:GREGORIAN
METHOD:PUBLISH
X-WR-CALNAME:Olympic Park Neighborhood Council
X-ORIGINAL-URL:https://opnc.org
X-WR-CALDESC:Events for Olympic Park Neighborhood Council
REFRESH-INTERVAL;VALUE=DURATION:PT1H
X-Robots-Tag:noindex
X-PUBLISHED-TTL:PT1H
BEGIN:VTIMEZONE
TZID:America/Los_Angeles
BEGIN:DAYLIGHT
TZOFFSETFROM:-0800
TZOFFSETTO:-0700
TZNAME:PDT
DTSTART:20240310T100000
END:DAYLIGHT
BEGIN:STANDARD
TZOFFSETFROM:-0700
TZOFFSETTO:-0800
TZNAME:PST
DTSTART:20241103T090000
END:STANDARD
BEGIN:DAYLIGHT
TZOFFSETFROM:-0800
TZOFFSETTO:-0700
TZNAME:PDT
DTSTART:20250309T100000
END:DAYLIGHT
BEGIN:STANDARD
TZOFFSETFROM:-0700
TZOFFSETTO:-0800
TZNAME:PST
DTSTART:20251102T090000
END:STANDARD
BEGIN:DAYLIGHT
TZOFFSETFROM:-0800
TZOFFSETTO:-0700
TZNAME:PDT
DTSTART:20260308T100000
END:DAYLIGHT
BEGIN:STANDARD
TZOFFSETFROM:-0700
TZOFFSETTO:-0800
TZNAME:PST
DTSTART:20261101T090000
END:STANDARD
BEGIN:DAYLIGHT
TZOFFSETFROM:-0800
TZOFFSETTO:-0700
TZNAME:PDT
DTSTART:20270314T100000
END:DAYLIGHT
BEGIN:STANDARD
TZOFFSETFROM:-0700
TZOFFSETTO:-0800
TZNAME:PST
DTSTART:20271107T090000
END:STANDARD
END:VTIMEZONE
BEGIN:VEVENT
DTSTART;TZID=America/Los_Angeles:20260426T090000
DTEND;TZID=America/Los_Angeles:20260426T160000
DTSTAMP:20260421T084815
CREATED:20260415T192630Z
LAST-MODIFIED:20260415T192630Z
UID:9936-1777194000-1777219200@opnc.org
SUMMARY:CicLAvia West LA
DESCRIPTION:Join us for our upcoming Los Angeles Open Streets Event: CicLAvia—West LA! \nDate: Sunday\, April 26\, 2026 / domingo 26 de abril 2026 \nTime: 9am–4pm \nLocation: Connecting Santa Monica Blvd and Westwood Blvd \nWhat: CicLAvia is a nonprofit organization that has been opening streets throughout LA County since 2010. Come experience car-free open streets at our upcoming event\, CicLAvia—West LA.
URL:https://opnc.org/event/ciclavia-west-la/
CATEGORIES:Events
END:VEVENT
BEGIN:VEVENT
DTSTART;TZID=America/Los_Angeles:20260418T100000
DTEND;TZID=America/Los_Angeles:20260418T150000
DTSTAMP:20260421T084815
CREATED:20260415T191516Z
LAST-MODIFIED:20260415T191516Z
UID:9930-1776506400-1776524400@opnc.org
SUMMARY:Leimert Park Community Brunch
DESCRIPTION:Join the community for a fun-filled\, family-friendly day in the heart of Leimert Park! \n🍳 Free Breakfast\nEnjoy a complimentary meal with neighbors and friends. \n🧘 Wellness Activities\nRelax and recharge with health-focused activities. \n🎈 Kid’s Corner\nFun and engaging entertainment for kids. \n🦎 Reptile Petting Zoo\nExperience a hands-on encounter with amazing reptiles. \nWhen: Saturday\, April 18\, 2026 10:00 AM – 3:00 PM\nWhere: Garthwaite Ave & Stocker St (4201 Garthwaite)
URL:https://opnc.org/event/leimert-park-community-brunch/
CATEGORIES:Events
END:VEVENT
BEGIN:VEVENT
DTSTART;TZID=America/Los_Angeles:20260416T110000
DTEND;TZID=America/Los_Angeles:20260416T140000
DTSTAMP:20260421T084815
CREATED:20260415T192107Z
LAST-MODIFIED:20260415T192107Z
UID:9933-1776337200-1776348000@opnc.org
SUMMARY:JCOD DOORS LA Second Chance Month Resource Fair
DESCRIPTION:Thursday\, April 16 | 11:00 a.m. – 2:00 p.m. \n3965 S. Vermont Ave\, Los Angeles\, CA 90037 \nConnect with trusted providers\, local resources\, reentry support services\, employment\, legal assistance\, and more.
URL:https://opnc.org/event/jcod-doors-la-second-chance-month-resource-fair/
CATEGORIES:Events
END:VEVENT
BEGIN:VEVENT
DTSTART;TZID=America/Los_Angeles:20260413T190000
DTEND;TZID=America/Los_Angeles:20260413T203000
DTSTAMP:20260421T084815
CREATED:20260304T001425Z
LAST-MODIFIED:20260304T001425Z
UID:9867-1776106800-1776112200@opnc.org
SUMMARY:Planning and Land Use Committee Meeting
DESCRIPTION:Join us online: \nZoom Meeting Online or By Telephone\nhttps://us02web.zoom.us/j/8386991801\nOr Dial +16469313860\nThen Enter This Webinar ID 8386991801 and Press # \nOn our agenda: \nDiscussion and possible approval of a letter of support to be recommended for consideration\nby the full OPNC board regardarding Case No. CPC-2025-5194-HD-CU2-PR-ZC
URL:https://opnc.org/event/planning-and-land-use-committee-meeting-5/
CATEGORIES:Meetings,Planning and Land Use
END:VEVENT
BEGIN:VEVENT
DTSTART;TZID=America/Los_Angeles:20260412T090000
DTEND;TZID=America/Los_Angeles:20260412T130000
DTSTAMP:20260421T084815
CREATED:20260220T010331Z
LAST-MODIFIED:20260220T010331Z
UID:9826-1775984400-1775998800@opnc.org
SUMMARY:Prom Closet Extravaganza
DESCRIPTION:
URL:https://opnc.org/event/prom-closet-extravaganza/
LOCATION:Olympic Station\, 1130 S. Vermont Ave
CATEGORIES:Events
END:VEVENT
BEGIN:VEVENT
DTSTART;TZID=America/Los_Angeles:20260411T140000
DTEND;TZID=America/Los_Angeles:20260411T170000
DTSTAMP:20260421T084815
CREATED:20260331T173107Z
LAST-MODIFIED:20260331T173107Z
UID:9921-1775916000-1775926800@opnc.org
SUMMARY:PICO Shredding Event
DESCRIPTION:Free Shredding Event! Mark your calendars. Two weeks and counting to get ready for our FREE Community Shredding Event — time to tackle that paper pile. Join P.I.C.O. Neighborhood Council on Saturday\, April 11\, 2026 from 2:00–5:00 PM at the Southern California Counseling Center parking lot (5615 W. Pico Blvd\, corner of Stanley Ave). Please enter through the alley on Stanley Ave. Bring your old files\, clear the clutter\, and safely shred your confidential documents. It’s quick\, easy\, and open to the public\, so invite a neighbor and spread the word. Let’s clean up those stacks together.
URL:https://opnc.org/event/pico-shredding-event/
LOCATION:Southern California Counseling Center Parking Lot\, 5615 W. Pico
CATEGORIES:Events
END:VEVENT
BEGIN:VEVENT
DTSTART;VALUE=DATE:20260410
DTEND;VALUE=DATE:20260413
DTSTAMP:20260421T084815
CREATED:20260331T172848Z
LAST-MODIFIED:20260331T172848Z
UID:9918-1775779200-1776038399@opnc.org
SUMMARY:LAPD Wilshire Carnival
DESCRIPTION:LAPD Wilshire Division for Carnival 2026\nCarnival is coming to Mid-City! 🎡🎠\nJoin the Wilshire Station Boosters and — three days of fun for the whole family!\nFriday\, April 10\nSaturday\, April 11\nSunday\, April 12\nLocation: Venice Blvd between La Brea & Rimpau\nEnjoy:\nGames • Rides • Food • Entertainment\nBring your friends\, your family\, and your appetite — it’s going to be a great weekend in the neighborhood!\nPresale tickets available at the Wilshire Division Police Station.
URL:https://opnc.org/event/lapd-wilshire-carnival/
CATEGORIES:Events
END:VEVENT
BEGIN:VEVENT
DTSTART;TZID=America/Los_Angeles:20260406T190000
DTEND;TZID=America/Los_Angeles:20260406T210000
DTSTAMP:20260421T084815
CREATED:20251121T192835Z
LAST-MODIFIED:20260401T234827Z
UID:9695-1775502000-1775509200@opnc.org
SUMMARY:Board Meeting
DESCRIPTION:Join us Monday\, April 6\, 7pm at the LAPD Wilshire Community Room for our next OPNC Meeting. \nWe will consider a grant request for the LA Korean Festival Foundation World Cup Match Watch Party. \nYou may also join online\nZoom Meeting Online or By Telephone\nhttps://us02web.zoom.us/j/8386991801\nOr Dial +16469313860\nThen Enter This Webinar ID 8386991801 and Press #
URL:https://opnc.org/event/board-meeting-11-2026-04-06/
LOCATION:LAPD Wilshire\, 4861 Venice Blvd
CATEGORIES:Board,Meetings
END:VEVENT
BEGIN:VEVENT
DTSTART;TZID=America/Los_Angeles:20260404T120000
DTEND;TZID=America/Los_Angeles:20260404T140000
DTSTAMP:20260421T084815
CREATED:20260311T193405Z
LAST-MODIFIED:20260311T193405Z
UID:9891-1775304000-1775311200@opnc.org
SUMMARY:Egg Hunt
DESCRIPTION:Egg Hunt\, Arts & Crafts\, Prizes\, Games\, Refreshments\, Music\, face painting \nSpring Events – 2026
URL:https://opnc.org/event/egg-hunt-2/
LOCATION:Queen Anne Recreation Center\, 1240 West Blvd\, Los Angeles\, 90019
CATEGORIES:Events
GEO:34.0508042;-118.332572
X-APPLE-STRUCTURED-LOCATION;VALUE=URI;X-ADDRESS=Queen Anne Recreation Center 1240 West Blvd Los Angeles 90019;X-APPLE-RADIUS=500;X-TITLE=1240 West Blvd:geo:-118.332572,34.0508042
END:VEVENT
BEGIN:VEVENT
DTSTART;TZID=America/Los_Angeles:20260323T180000
DTEND;TZID=America/Los_Angeles:20260323T200000
DTSTAMP:20260421T084815
CREATED:20260318T195109Z
LAST-MODIFIED:20260318T195109Z
UID:9901-1774288800-1774296000@opnc.org
SUMMARY:Small Business Contracting Workshop
DESCRIPTION:The Small Business Procurement Workshop is coming to Koreatown on March 23. \nThank you to KAFLA\, the Korean Chamber of Commerce of Los Angeles\, and the City of Los Angeles Bureau of Contract Administration for helping connect our local businesses with the tools and opportunities they need to compete for city contracts as our city prepares to host major global events.
URL:https://opnc.org/event/small-business-contracting-workshop-2/
LOCATION:981 S. Western Ave #100\, 981 S. Western Ave #100\, Los Angeles\, 90006
CATEGORIES:Events
ATTACH;FMTTYPE=image/jpeg:https://opnc.org/wp-content/uploads/2026/03/Koreatown-workshop.jpg
END:VEVENT
BEGIN:VEVENT
DTSTART;TZID=America/Los_Angeles:20260315T140000
DTEND;TZID=America/Los_Angeles:20260315T170000
DTSTAMP:20260421T084815
CREATED:20260220T012502Z
LAST-MODIFIED:20260220T012502Z
UID:9837-1773583200-1773594000@opnc.org
SUMMARY:The Love Hutt
DESCRIPTION:Join the Office of Council District 10 on March 15th for their 3rd Annual Love Hutt: Women’s Empowerment event. This event will bring together the incredible women of LA for a day dedicated to connection\, unity\, and radical self-love. \nWhat to look forward to:\n• Flow: Morning Yoga (stay tuned for details!)\n• Fuel: Free food & beverages.\n• Create: Empowerment-centered activities & activations.\n• Party: Music\, dancing\, and karaoke! \nDon’t miss out on the magic! Click this link to register. (copy and past this link to register or scan the QR code: https://docs.google.com/forms/d/e/1FAIpQLSem-f31rsytcPx5owKbRSiYSnLeyvG15ey09bXh_18euF3-ug/viewform?fbzx=26913343666530706286m
URL:https://opnc.org/event/the-love-hutt/
LOCATION:2922 Crenshaw Blvd\, 2922 Crenshaw Blvd
CATEGORIES:Events
END:VEVENT
BEGIN:VEVENT
DTSTART;TZID=America/Los_Angeles:20260314T090000
DTEND;TZID=America/Los_Angeles:20260314T150000
DTSTAMP:20260421T084815
CREATED:20260224T004510Z
LAST-MODIFIED:20260224T004510Z
UID:9847-1773478800-1773500400@opnc.org
SUMMARY:Tacos & Taxes
DESCRIPTION:
URL:https://opnc.org/event/tacos-taxes/
LOCATION:Black Women for Wellness\, 4340 11th Ave\, Los Angeles\, 90008
CATEGORIES:Events
END:VEVENT
BEGIN:VEVENT
DTSTART;TZID=America/Los_Angeles:20260302T190000
DTEND;TZID=America/Los_Angeles:20260302T210000
DTSTAMP:20260421T084815
CREATED:20251121T192835Z
LAST-MODIFIED:20260226T170139Z
UID:9694-1772478000-1772485200@opnc.org
SUMMARY:Board Meeting
DESCRIPTION:Join us for the next Olympic Park Neighborhood Council Meeting Monday\, March 2\, 7pm at LAPD Wilshire Division Community Room\, 4861 Venice Blvd. \nParking is available to the east of the station in the Olive Garden parking lot. \nRefreshments will be served. \nOn our agenda: \n\nLADOT presentation on Pico Blvd Safety Projects Update\nCity Charter Reform\n\nYou may also join this hybrid meeting online: \nZoom Meeting Online or By Telephone\nhttps://us02web.zoom.us/j/8386991801\nOr Dial +16469313860\nThen Enter This Webinar ID 8386991801 and Press #
URL:https://opnc.org/event/board-meeting-11-2026-03-02/
LOCATION:LAPD Wilshire\, 4861 Venice Blvd
CATEGORIES:Board,Meetings
END:VEVENT
BEGIN:VEVENT
DTSTART;TZID=America/Los_Angeles:20260221T153000
DTEND;TZID=America/Los_Angeles:20260221T180000
DTSTAMP:20260421T084815
CREATED:20260220T010047Z
LAST-MODIFIED:20260220T010047Z
UID:9822-1771687800-1771696800@opnc.org
SUMMARY:Black History Month Musical Celebration
DESCRIPTION:
URL:https://opnc.org/event/black-history-month-musical-celebration/
LOCATION:Olvera Street\, 125 Paseo de la Plaza\, Los Angeles\, 90012
CATEGORIES:Events
END:VEVENT
BEGIN:VEVENT
DTSTART;TZID=America/Los_Angeles:20260221T123000
DTEND;TZID=America/Los_Angeles:20260221T173000
DTSTAMP:20260421T084815
CREATED:20260220T005625Z
LAST-MODIFIED:20260220T005752Z
UID:9817-1771677000-1771695000@opnc.org
SUMMARY:Bus Trip to El Pueblo de Los Angeles Historical Monument
DESCRIPTION:Please join us on Saturday\, February 21\, 2026\, for a bus trip to Downtown Los Angeles to celebrate the Black settlers who founded our city. This is an opportunity to learn how Black history is integral to the inception of the City of Angels. \nThe bus trip is free.
URL:https://opnc.org/event/bus-trip-to-el-pueblo-de-los-angeles-historical-monument/
CATEGORIES:Events
END:VEVENT
BEGIN:VEVENT
DTSTART;TZID=America/Los_Angeles:20260214T163000
DTEND;TZID=America/Los_Angeles:20260214T193000
DTSTAMP:20260421T084815
CREATED:20260130T004641Z
LAST-MODIFIED:20260130T004641Z
UID:9795-1771086600-1771097400@opnc.org
SUMMARY:ATTUNE Light + Sound Art Exhibition
DESCRIPTION:Residents are invited to experience Attune\, a unique sound and light activation taking place at Leimert Park and Barnsdall Park. Produced by NXT Art Foundation\, this immersive exhibition uses sound as a shared\, relational experience\, connecting artists and audiences through listening\, presence\, and subtle environmental resonance. \nAttune encourages visitors to slow down\, reflect\, and engage with their surroundings in a new way\, offering a free\, accessible experience that highlights community\, creativity\, and connection. \nAttune will take place on February 14 from 4:30pm to 7:30pm at various locations throughout the county. Visitors are encouraged to stop by\, linger\, and engage with this free\, accessible community experience. \nEventbrite Tickets
URL:https://opnc.org/event/attune-light-sound-art-exhibition/
CATEGORIES:Events
END:VEVENT
BEGIN:VEVENT
DTSTART;TZID=America/Los_Angeles:20260202T190000
DTEND;TZID=America/Los_Angeles:20260202T210000
DTSTAMP:20260421T084815
CREATED:20251121T192835Z
LAST-MODIFIED:20260310T201923Z
UID:9693-1770058800-1770066000@opnc.org
SUMMARY:Board Meeting
DESCRIPTION:Join us for the next Olympic Park Neighborhood Council Meeting on Monday\, February 2\, 7pm at the LAPD Wilshire Community Room\, 4861 Venice Blvd. \nParking is available to the east of the station in the Olive Garden parking lot. \nRefreshments will be served. \nOn our agenda: \n\nAppoint new members\nMapCzar presentation\nKoreatown Youth and Community Center Grant\n4201 Pico discussion\n\nYou may also join online for this hybrid meeting:\nZoom Meeting Online or By Telephone\nhttps://us02web.zoom.us/j/8386991801\nOr Dial +16469313860\nThen Enter This Webinar ID 838 699 1801 and Press #
URL:https://opnc.org/event/board-meeting-11-2026-02-02/
CATEGORIES:Board,Meetings
END:VEVENT
BEGIN:VEVENT
DTSTART;TZID=America/Los_Angeles:20260124T100000
DTEND;TZID=America/Los_Angeles:20260124T140000
DTSTAMP:20260421T084815
CREATED:20260121T175624Z
LAST-MODIFIED:20260121T175624Z
UID:9782-1769248800-1769263200@opnc.org
SUMMARY:LACC Spring Enrollment Fair
DESCRIPTION:Spring Enrollment Fair event on Saturday January 24\, 2026 from 10am-2pm and get help with your spring semester at LACC
URL:https://opnc.org/event/lacc-spring-enrollment-fair/
CATEGORIES:Events
END:VEVENT
BEGIN:VEVENT
DTSTART;TZID=America/Los_Angeles:20260120T200000
DTEND;TZID=America/Los_Angeles:20260120T230000
DTSTAMP:20260421T084815
CREATED:20260103T054736Z
LAST-MODIFIED:20260103T054736Z
UID:9767-1768939200-1768950000@opnc.org
SUMMARY:Homeless Count
DESCRIPTION:Sign up to participate in the 2026 Homeless Count
URL:https://opnc.org/event/homeless-count-8/
CATEGORIES:Events
END:VEVENT
BEGIN:VEVENT
DTSTART;TZID=America/Los_Angeles:20260110T100000
DTEND;TZID=America/Los_Angeles:20260110T113000
DTSTAMP:20260421T084815
CREATED:20260104T222813Z
LAST-MODIFIED:20260104T222813Z
UID:9773-1768039200-1768044600@opnc.org
SUMMARY:La Brea Bus Priority Lanes Project Listening Session
DESCRIPTION:Biking While Black\, in partnership with Metro\, is hosting two community listening sessions to hear directly from those who live\, ride\, and move along La Brea Av. Metro is proposing a second phase of bus priority lanes between Olympic Bl and Coliseum St to improve bus speed\, frequency\, and reliability on weekdays from 7-10am and 3-7pm. \nMetro initially added bus priority lanes on La Brea Av between Sunset Bl and Olympic Bl\, operating on weekdays from 7-9am and 4-7pm. The next phase would extend these lanes to Coliseum St on the southern segment of La Brea Av\, helping move more people without adding more infrastructure. \nJoin us to learn more and share your experiences as a rider\, neighbor\, or community member who relies on La Brea Av. \nWednesday\, January 7\, 2026\n6pm\nRegister Here: bit.ly/4qUBCk2\nWebinar ID: 894 6248 4239\nCall in Number: 213.338.8477 \nSaturday\, January 10\, 2026\n10am\nRSVP Here: bit.ly/4q1yce1\nGleicher/Chen Health Center Annex\,\nBaldwin Hills\n3741 S La Brea Av\nLos Angeles\, CA 90016\nEnjoy complimentary refreshments and join us for a guided walking tour! \n 
URL:https://opnc.org/event/la-brea-bus-priority-lanes-project-listening-session/2026-01-10/
CATEGORIES:Events
END:VEVENT
BEGIN:VEVENT
DTSTART;TZID=America/Los_Angeles:20260107T180000
DTEND;TZID=America/Los_Angeles:20260107T193000
DTSTAMP:20260421T084815
CREATED:20260104T222813Z
LAST-MODIFIED:20260104T222813Z
UID:9771-1767808800-1767814200@opnc.org
SUMMARY:La Brea Bus Priority Lanes Project Listening Session
DESCRIPTION:Biking While Black\, in partnership with Metro\, is hosting two community listening sessions to hear directly from those who live\, ride\, and move along La Brea Av. Metro is proposing a second phase of bus priority lanes between Olympic Bl and Coliseum St to improve bus speed\, frequency\, and reliability on weekdays from 7-10am and 3-7pm. \nMetro initially added bus priority lanes on La Brea Av between Sunset Bl and Olympic Bl\, operating on weekdays from 7-9am and 4-7pm. The next phase would extend these lanes to Coliseum St on the southern segment of La Brea Av\, helping move more people without adding more infrastructure. \nJoin us to learn more and share your experiences as a rider\, neighbor\, or community member who relies on La Brea Av. \nWednesday\, January 7\, 2026\n6pm\nRegister Here: bit.ly/4qUBCk2\nWebinar ID: 894 6248 4239\nCall in Number: 213.338.8477 \nSaturday\, January 10\, 2026\n10am\nRSVP Here: bit.ly/4q1yce1\nGleicher/Chen Health Center Annex\,\nBaldwin Hills\n3741 S La Brea Av\nLos Angeles\, CA 90016\nEnjoy complimentary refreshments and join us for a guided walking tour! \n 
URL:https://opnc.org/event/la-brea-bus-priority-lanes-project-listening-session/2026-01-07/
CATEGORIES:Events
END:VEVENT
BEGIN:VEVENT
DTSTART;TZID=America/Los_Angeles:20260105T190000
DTEND;TZID=America/Los_Angeles:20260105T210000
DTSTAMP:20260421T084815
CREATED:20251121T192835Z
LAST-MODIFIED:20260211T192123Z
UID:9692-1767639600-1767646800@opnc.org
SUMMARY:Board Meeting
DESCRIPTION:Join us the first Monday of the year for our next meeting on January 5\, 7pm at LAPD Wilshire Community Room\, 4861 Venice Blvd. \nWhere to park: Parking is available in the lot to the east of LAPD and the Traffic Bureau behind Olive Garden. \nRefreshments will be served. \nOn our agenda: \n\nPresentation on MapCzar\nApproval to sign onto a letter written by the Oxford Square Neighborhood regarding the proposed development at 4201 W. Pico Blvd\, CPC-2025-1087-DB-VHCA. ENV-2025-1088-HES\n\nMore information: https://la.urbanize.city/post/mixed-use-development-pitched-4201-w-pico-boulevard\nhttps://www.theneemagroup.com/wp-content/uploads/2021/03/4201-Pico-OM-web.pdf \n\n\n\nor join on Zoom: \nZoom Meeting Online or By Telephone\nhttps://us02web.zoom.us/j/8386991801\nOr Dial +16469313860\nThen Enter This Webinar ID 8386991801 and Press #
URL:https://opnc.org/event/board-meeting-11/
LOCATION:LAPD Wilshire\, 4861 Venice Blvd
CATEGORIES:Board,Meetings
END:VEVENT
BEGIN:VEVENT
DTSTART;TZID=America/Los_Angeles:20251218T090000
DTEND;TZID=America/Los_Angeles:20251218T120000
DTSTAMP:20260421T084815
CREATED:20251210T233840Z
LAST-MODIFIED:20251210T233840Z
UID:9742-1766048400-1766059200@opnc.org
SUMMARY:Turkey & Food Box Giveaway
DESCRIPTION:
URL:https://opnc.org/event/turkey-food-box-giveaway/
CATEGORIES:Events
END:VEVENT
BEGIN:VEVENT
DTSTART;TZID=America/Los_Angeles:20251215T150000
DTEND;TZID=America/Los_Angeles:20251215T200000
DTSTAMP:20260421T084815
CREATED:20251128T180113Z
LAST-MODIFIED:20251128T180113Z
UID:9728-1765810800-1765828800@opnc.org
SUMMARY:Reynier Park Snow Night
DESCRIPTION:
URL:https://opnc.org/event/reynier-park-snow-night/
CATEGORIES:Events
END:VEVENT
BEGIN:VEVENT
DTSTART;TZID=America/Los_Angeles:20251212T170000
DTEND;TZID=America/Los_Angeles:20251212T210000
DTSTAMP:20260421T084815
CREATED:20251128T175715Z
LAST-MODIFIED:20251128T175715Z
UID:9721-1765558800-1765573200@opnc.org
SUMMARY:Snow Night
DESCRIPTION:
URL:https://opnc.org/event/snow-night/
LOCATION:Leimert Plaza Park\, 4395 Leimert Park Plaza\, Los Angeles\, 90008\, United States
CATEGORIES:Events
END:VEVENT
BEGIN:VEVENT
DTSTART;TZID=America/Los_Angeles:20251206T140000
DTEND;TZID=America/Los_Angeles:20251206T200000
DTSTAMP:20260421T084815
CREATED:20251128T175927Z
LAST-MODIFIED:20251128T175927Z
UID:9724-1765029600-1765051200@opnc.org
SUMMARY:Westside Park Snow Day
DESCRIPTION:
URL:https://opnc.org/event/westside-park-snow-day/
LOCATION:Westside Park\, 3085 ClydeAve\, Los Angeles\, 90008
CATEGORIES:Events
END:VEVENT
BEGIN:VEVENT
DTSTART;TZID=America/Los_Angeles:20251201T190000
DTEND;TZID=America/Los_Angeles:20251201T210000
DTSTAMP:20260421T084815
CREATED:20241122T225144Z
LAST-MODIFIED:20260126T222907Z
UID:9182-1764615600-1764622800@opnc.org
SUMMARY:Board Meeting
DESCRIPTION:Join us for the last Olympic Park Neighborhood Council Meeting of the year on Monday\, December 1\, 7pm at LAPD Wilshire Blvd\, 4861 Venice Blvd. \nWhere to park: Parking is available in the lot to the east of LAPD and the Traffic Bureau behind Olive Garden. \nOur meeting will feature food from Trejos Tacos. \nYou may also join online or By Telephone\nhttps://us02web.zoom.us/j/8386991801\nOr Dial +16469313860\nThen Enter This Webinar ID 8386991801 and Press #
URL:https://opnc.org/event/board-meeting-10-2025-12-01/
LOCATION:LAPD Wilshire\, 4861 Venice Blvd
CATEGORIES:Board,Meetings
END:VEVENT
BEGIN:VEVENT
DTSTART;TZID=America/Los_Angeles:20251123T090000
DTEND;TZID=America/Los_Angeles:20251123T150000
DTSTAMP:20260421T084815
CREATED:20251121T203337Z
LAST-MODIFIED:20251121T203337Z
UID:9706-1763888400-1763910000@opnc.org
SUMMARY:CicLAvia Melrose
DESCRIPTION:
URL:https://opnc.org/event/ciclavia-melrose-2/
CATEGORIES:Events
END:VEVENT
BEGIN:VEVENT
DTSTART;TZID=America/Los_Angeles:20251103T190000
DTEND;TZID=America/Los_Angeles:20251103T210000
DTSTAMP:20260421T084815
CREATED:20241122T225144Z
LAST-MODIFIED:20251215T184433Z
UID:9180-1762196400-1762203600@opnc.org
SUMMARY:Board Meeting
DESCRIPTION:The Olympic Park Neighborhood Council will meet Monday\, November 3\, 7pm at LAPD Wilshire\, 4861 Venice Blvd. \nOn our agenda: \n\nGrant for Operation Shoes for Santa\nGrant for Peace Over Violence\nBeautify LA
URL:https://opnc.org/event/board-meeting-10-2025-11-03/
LOCATION:LAPD Wilshire\, 4861 Venice Blvd
CATEGORIES:Board,Meetings
END:VEVENT
BEGIN:VEVENT
DTSTART;TZID=America/Los_Angeles:20251101T120000
DTEND;TZID=America/Los_Angeles:20251101T200000
DTSTAMP:20260421T084815
CREATED:20250903T175125Z
LAST-MODIFIED:20250903T175125Z
UID:9585-1761998400-1762027200@opnc.org
SUMMARY:Dia de los Muertos Festival
DESCRIPTION:Enjoy the 3rd annual West Adams Dia De Los Muertos Festival Block party in partnership with councilwoman Heather Hutt CD10!!\nGet ready for TWO stages\, free carnival rides and games\, free workshops\, an immersive community altar\, an art gallery\, shop the mercadito\, food trucks\, and enjoy live music and dance performances! Free entry\, family & pet friendly! Don’t miss out. November 1st from 12-8pm! See y’all there!!!
URL:https://opnc.org/event/dia-de-los-muertos-festival-2/
CATEGORIES:Events
END:VEVENT
END:VCALENDAR