
BEGIN:VCALENDAR
VERSION:2.0
PRODID:-//Olympic Park Neighborhood Council - ECPv6.15.17.1//NONSGML v1.0//EN
CALSCALE:GREGORIAN
METHOD:PUBLISH
X-WR-CALNAME:Olympic Park Neighborhood Council
X-ORIGINAL-URL:https://opnc.org
X-WR-CALDESC:Events for Olympic Park Neighborhood Council
REFRESH-INTERVAL;VALUE=DURATION:PT1H
X-Robots-Tag:noindex
X-PUBLISHED-TTL:PT1H
BEGIN:VTIMEZONE
TZID:America/Los_Angeles
BEGIN:DAYLIGHT
TZOFFSETFROM:-0800
TZOFFSETTO:-0700
TZNAME:PDT
DTSTART:20180311T100000
END:DAYLIGHT
BEGIN:STANDARD
TZOFFSETFROM:-0700
TZOFFSETTO:-0800
TZNAME:PST
DTSTART:20181104T090000
END:STANDARD
BEGIN:DAYLIGHT
TZOFFSETFROM:-0800
TZOFFSETTO:-0700
TZNAME:PDT
DTSTART:20190310T100000
END:DAYLIGHT
BEGIN:STANDARD
TZOFFSETFROM:-0700
TZOFFSETTO:-0800
TZNAME:PST
DTSTART:20191103T090000
END:STANDARD
BEGIN:DAYLIGHT
TZOFFSETFROM:-0800
TZOFFSETTO:-0700
TZNAME:PDT
DTSTART:20200308T100000
END:DAYLIGHT
BEGIN:STANDARD
TZOFFSETFROM:-0700
TZOFFSETTO:-0800
TZNAME:PST
DTSTART:20201101T090000
END:STANDARD
BEGIN:DAYLIGHT
TZOFFSETFROM:-0800
TZOFFSETTO:-0700
TZNAME:PDT
DTSTART:20210314T100000
END:DAYLIGHT
BEGIN:STANDARD
TZOFFSETFROM:-0700
TZOFFSETTO:-0800
TZNAME:PST
DTSTART:20211107T090000
END:STANDARD
END:VTIMEZONE
BEGIN:VEVENT
DTSTART;TZID=America/Los_Angeles:20201102T190000
DTEND;TZID=America/Los_Angeles:20201102T210000
DTSTAMP:20260422T152146
CREATED:20191206T210537Z
LAST-MODIFIED:20201030T223043Z
UID:3020-1604343600-1604350800@opnc.org
SUMMARY:OPNC Board Meeting
DESCRIPTION:Join us Monday\, November 2\, 7pm for our next Olympic Park Neighborhood Council Meeting. \nCall 669 900 6833 enter 828 6009 7908 and then press # to join the meeting. Instructions on how to sign up for public comment will be given to listeners at the start of the meeting. \nWe will plan our upcoming OPNC elections. \n2020-1102 Agenda \nMeets first Monday of the month.
URL:https://opnc.org/event/opnc-board-meeting-10-2020-11-02/
CATEGORIES:Meetings
END:VEVENT
BEGIN:VEVENT
DTSTART;TZID=America/Los_Angeles:20201005T190000
DTEND;TZID=America/Los_Angeles:20201005T210000
DTSTAMP:20260422T152146
CREATED:20191206T210537Z
LAST-MODIFIED:20201002T175812Z
UID:3019-1601924400-1601931600@opnc.org
SUMMARY:OPNC Board Meeting
DESCRIPTION:Join us for our next Olympic Park Neighborhood Council Meeting on Monday\, October 5\, 7pm. \nCall +1 669 900 6833 enter 828 6009 7908 and then press # to join the meeting. \nOn our agenda: \n\nAppoint new Board Member\nForm election committee\n\nOctober 5\, 2020 Agenda
URL:https://opnc.org/event/opnc-board-meeting-10-2020-10-05/
LOCATION:Catch One\, 4067 W. Pico Blvd\, Los Angeles\, 90019
CATEGORIES:Meetings
GEO:34.047775;-118.3241134
X-APPLE-STRUCTURED-LOCATION;VALUE=URI;X-ADDRESS=Catch One 4067 W. Pico Blvd Los Angeles 90019;X-APPLE-RADIUS=500;X-TITLE=4067 W. Pico Blvd:geo:-118.3241134,34.047775
END:VEVENT
BEGIN:VEVENT
DTSTART;TZID=America/Los_Angeles:20200908T190000
DTEND;TZID=America/Los_Angeles:20200908T210000
DTSTAMP:20260422T152146
CREATED:20191206T210537Z
LAST-MODIFIED:20200904T225732Z
UID:3018-1599591600-1599598800@opnc.org
SUMMARY:OPNC Board Meeting
DESCRIPTION:Join us for our Olympic Park Neighborhood Council Meeting on Tuesday\, September 8\, 7pm. \nCall +1 669 900 6833 enter 982 0965 9322 and then press # to join the meeting. \nWe will have a presentation on the upcoming Congress of Neighborhoods. \nSeptember 8\, 2020 Board Agenda
URL:https://opnc.org/event/opnc-board-meeting-10-2020-09-07/
LOCATION:Catch One\, 4067 W. Pico Blvd\, Los Angeles\, 90019
CATEGORIES:Meetings
GEO:34.047775;-118.3241134
X-APPLE-STRUCTURED-LOCATION;VALUE=URI;X-ADDRESS=Catch One 4067 W. Pico Blvd Los Angeles 90019;X-APPLE-RADIUS=500;X-TITLE=4067 W. Pico Blvd:geo:-118.3241134,34.047775
END:VEVENT
BEGIN:VEVENT
DTSTART;TZID=America/Los_Angeles:20200820T190000
DTEND;TZID=America/Los_Angeles:20200820T200000
DTSTAMP:20260422T152146
CREATED:20200817T184403Z
LAST-MODIFIED:20200820T163941Z
UID:3494-1597950000-1597953600@opnc.org
SUMMARY:Outreach Committee Meeting
DESCRIPTION:Join us for our next Olympic Park Neighborhood Council Outreach Committee Meeting on Thursday\, August 20\, 7pm as we prepare for upcoming Neighborhood Council elections. \nTo join the meeting dial +1 669 900 6833 enter 919 4440 4987 and then press # to join the meeting. \nAugust 20\, 2020 Outreach Agenda \n 
URL:https://opnc.org/event/outreach-committee-meeting-6/
CATEGORIES:Meetings
END:VEVENT
BEGIN:VEVENT
DTSTART;TZID=America/Los_Angeles:20200803T190000
DTEND;TZID=America/Los_Angeles:20200803T210000
DTSTAMP:20260422T152146
CREATED:20191206T210537Z
LAST-MODIFIED:20200731T224316Z
UID:3017-1596481200-1596488400@opnc.org
SUMMARY:OPNC Board Meeting
DESCRIPTION:Join us for our next Olympic Park Neighborhood Council Meeting on Monday\, August 3\, 7pm. \nWe plan to seat new Board Members \nTo join the meeting call +1 669 900 6833 enter 929 8141 3124\nand then press #\nAugust 3\, 2020 Board Agenda
URL:https://opnc.org/event/opnc-board-meeting-10-2020-08-03/
CATEGORIES:Meetings
END:VEVENT
BEGIN:VEVENT
DTSTART;TZID=America/Los_Angeles:20200706T190000
DTEND;TZID=America/Los_Angeles:20200706T210000
DTSTAMP:20260422T152146
CREATED:20191206T210537Z
LAST-MODIFIED:20200706T180206Z
UID:3016-1594062000-1594069200@opnc.org
SUMMARY:OPNC Board Meeting
DESCRIPTION:Join us for our next Olympic Park Neighborhood Council Meeting on Monday\, July 6\, 7pm. We have open seats (4 in the East and 2 in the West) and invite you to join the board. \nWe plan to approve Neighborhood Purposes Grants for World Harvest Charities and Family Services\, the Strider Education Foundation and Neighborhood Housing Services of Los Angeles County. \nMeeting documents: \n\nJuly 6\, 2020 Board Agenda\nMER – OPNC February 2020\nMER – OPNC May 2020\nMER – OPNC June 2020\n2020-21 OPNC Proposed Budget\n\nTo join the meeting by phone: \nCall +1 669 900 6833 enter 929 8141 3124 and then press #. Instructions on how to sign up for public comment will be given to listeners at the start of the meeting
URL:https://opnc.org/event/opnc-board-meeting-10-2020-07-06/
LOCATION:Catch One\, 4067 W. Pico Blvd\, Los Angeles\, 90019
CATEGORIES:Meetings
GEO:34.047775;-118.3241134
X-APPLE-STRUCTURED-LOCATION;VALUE=URI;X-ADDRESS=Catch One 4067 W. Pico Blvd Los Angeles 90019;X-APPLE-RADIUS=500;X-TITLE=4067 W. Pico Blvd:geo:-118.3241134,34.047775
END:VEVENT
BEGIN:VEVENT
DTSTART;TZID=America/Los_Angeles:20200601T190000
DTEND;TZID=America/Los_Angeles:20200601T210000
DTSTAMP:20260422T152146
CREATED:20191206T210537Z
LAST-MODIFIED:20200529T225423Z
UID:3015-1591038000-1591045200@opnc.org
SUMMARY:OPNC Board Meeting
DESCRIPTION:Join us for our Olympic Park Neighborhood Council Meeting Monday\, June 1\, 7pm. \nWe plan to approve Neighborhood Purpose Grants\, request mobility and open space for safer social distancing while walking and biking. \nTo join the meeting: \ndial +1 669 900 6833 enter 970 3343 7252\nand then press # to join the meeting. Instructions on how to sign up for public comment will be given to listeners at the start of the meeting. \nJune 1\, 2020 Board Agenda \n 
URL:https://opnc.org/event/opnc-board-meeting-10-2020-06-01/
CATEGORIES:Meetings
END:VEVENT
BEGIN:VEVENT
DTSTART;TZID=America/Los_Angeles:20200504T190000
DTEND;TZID=America/Los_Angeles:20200504T210000
DTSTAMP:20260422T152146
CREATED:20191206T210537Z
LAST-MODIFIED:20200501T213644Z
UID:3014-1588618800-1588626000@opnc.org
SUMMARY:OPNC Board Meeting
DESCRIPTION:The Olympic Park Neighborhood Council meetings have been on hold due to the pandemic. We are now able to resume meetings and our next meeting will be by phone on Monday\, May 4\, 7pm. \nTo attend the meeting and possibly address the Neighborhood Council please dial +1 346 248 7799 enter 862 4329 5455 and then press # to join the meeting. Instructions on how to sign up for public comment will be given to listeners at the start of the meeting. \nWe will have a presentation by Aaron Belliston of BMR Enterprises Vesting Tentative Tract Map to allow for a new 20 unit condominium at 1251 S West Blvd. We will then consider sending a letter of either support\, opposition\, or no position to the Department of City Planning on case number VTT-82630-CN. \nMay 5\, 2020 Board Agenda
URL:https://opnc.org/event/opnc-board-meeting-10-2020-05-04/
CATEGORIES:Meetings
END:VEVENT
BEGIN:VEVENT
DTSTART;TZID=America/Los_Angeles:20200406T190000
DTEND;TZID=America/Los_Angeles:20200406T210000
DTSTAMP:20260422T152146
CREATED:20191206T210537Z
LAST-MODIFIED:20200331T014643Z
UID:3013-1586199600-1586206800@opnc.org
SUMMARY:OPNC Board Meeting-Cancelled
DESCRIPTION:Meets first Monday of the month.
URL:https://opnc.org/event/opnc-board-meeting-10-2020-04-06/
LOCATION:Catch One\, 4067 W. Pico Blvd\, Los Angeles\, 90019
CATEGORIES:Meetings
GEO:34.047775;-118.3241134
X-APPLE-STRUCTURED-LOCATION;VALUE=URI;X-ADDRESS=Catch One 4067 W. Pico Blvd Los Angeles 90019;X-APPLE-RADIUS=500;X-TITLE=4067 W. Pico Blvd:geo:-118.3241134,34.047775
END:VEVENT
BEGIN:VEVENT
DTSTART;TZID=America/Los_Angeles:20200302T190000
DTEND;TZID=America/Los_Angeles:20200302T210000
DTSTAMP:20260422T152146
CREATED:20191206T210537Z
LAST-MODIFIED:20200228T214618Z
UID:3012-1583175600-1583182800@opnc.org
SUMMARY:OPNC Board Meeting
DESCRIPTION:Join us for our next Olympic Park Neighborhood Council meeting on Monday\, March 2\, 7pm at 4067 W. Pico Blvd \nWe will hear the following presentations: \n\nMySafe:LA – Cara Meyers\nCicLAvia – Rachel Burke\n\nMarch 2\, 2020 Board Agenda \nMeets first Monday of the month. \n 
URL:https://opnc.org/event/opnc-board-meeting-10-2020-03-02/
LOCATION:Catch One\, 4067 W. Pico Blvd\, Los Angeles\, 90019
CATEGORIES:Meetings
GEO:34.047775;-118.3241134
X-APPLE-STRUCTURED-LOCATION;VALUE=URI;X-ADDRESS=Catch One 4067 W. Pico Blvd Los Angeles 90019;X-APPLE-RADIUS=500;X-TITLE=4067 W. Pico Blvd:geo:-118.3241134,34.047775
END:VEVENT
BEGIN:VEVENT
DTSTART;TZID=America/Los_Angeles:20200220T190000
DTEND;TZID=America/Los_Angeles:20200220T203000
DTSTAMP:20260422T152146
CREATED:20200214T230426Z
LAST-MODIFIED:20200217T201448Z
UID:3150-1582225200-1582230600@opnc.org
SUMMARY:Traffic & Safety\, Planning & Land Use Committee Meeting
DESCRIPTION:Join us for our Traffic & Safety and Planning & Land Use Committee Meeting on Thursday\, February 20\, 7pm at Starbucks Community Room\, 1250 South La Brea Ave. \nOn our agenda \n\nCrosswalk at Pico/Kenmore\nCross traffic at San Vicente/Longwood & Tremaine\nTraffic light timing San Vicente east bound at Pico and Venice\nSprouts parking lot\n\nFebruary 20\, 2020 Traffic & Safety and Planning & Land Use Committee Agenda
URL:https://opnc.org/event/traffic-safety-planning-land-use-committee-meeting/
LOCATION:Starbucks La Brea\, 1250 S. La Brea\, Los Angeles\, CA\, 90019\, United States
CATEGORIES:Meetings
END:VEVENT
BEGIN:VEVENT
DTSTART;TZID=America/Los_Angeles:20200203T190000
DTEND;TZID=America/Los_Angeles:20200203T210000
DTSTAMP:20260422T152146
CREATED:20191206T210537Z
LAST-MODIFIED:20200131T045443Z
UID:3011-1580756400-1580763600@opnc.org
SUMMARY:OPNC Board Meeting
DESCRIPTION:Join us for our next Olympic Park Neighborhood Council Meeting on Monday\, February 3\, 7pm at Catch One\, 4067 W. Pico Blvd. \nWe plan to consider changes to the Bylaws and recommendations from the Transportation Committee regarding crosswalk improvements at Olympic/Keniston\, Edgwood/Citrus and Pico/Rimpau. \nFebruary 3\, 2020 Agenda \nMeets first Monday of the month.
URL:https://opnc.org/event/opnc-board-meeting-10-2020-02-03/
LOCATION:Catch One\, 4067 W. Pico Blvd\, Los Angeles\, 90019
CATEGORIES:Meetings
GEO:34.047775;-118.3241134
X-APPLE-STRUCTURED-LOCATION;VALUE=URI;X-ADDRESS=Catch One 4067 W. Pico Blvd Los Angeles 90019;X-APPLE-RADIUS=500;X-TITLE=4067 W. Pico Blvd:geo:-118.3241134,34.047775
END:VEVENT
BEGIN:VEVENT
DTSTART;TZID=America/Los_Angeles:20200116T190000
DTEND;TZID=America/Los_Angeles:20200116T210000
DTSTAMP:20260422T152146
CREATED:20200111T032227Z
LAST-MODIFIED:20200111T032227Z
UID:3098-1579201200-1579208400@opnc.org
SUMMARY:Traffic & Safety\, PLUM\, Bylaws Committee Meeting
DESCRIPTION:Join us for our committee meeting of Traffic & Safety\, Planning and Land Use Management and Bylaws on Thursday\, January 16\, 7pm at Starbucks Community Room\, 1250 S. La Brea Ave. \nJanuary 16\, 2020 Traffic & Safety\, PLUM\, Bylaws Agenda
URL:https://opnc.org/event/traffic-safety-plum-bylaws-committee-meeting/
LOCATION:Starbucks La Brea\, 1250 S. La Brea\, Los Angeles\, CA\, 90019\, United States
CATEGORIES:Meetings
END:VEVENT
BEGIN:VEVENT
DTSTART;TZID=America/Los_Angeles:20200109T190000
DTEND;TZID=America/Los_Angeles:20200109T203000
DTSTAMP:20260422T152146
CREATED:20200102T181512Z
LAST-MODIFIED:20200102T181512Z
UID:3040-1578596400-1578601800@opnc.org
SUMMARY:Outreach Committee Meeting
DESCRIPTION:The public is invited to our OPNC outreach meeting on Thursday\, January 9\, 7pm at the LAPD Wilshire Community Room\, 4861 Venice Blvd. \nJanuary 9\, 2020 Outreach Agenda
URL:https://opnc.org/event/outreach-committee-meeting-5/
LOCATION:LAPD Community Room\, 4861 W. Venice Blvd\, Los Angeles\, 90019
CATEGORIES:Meetings
END:VEVENT
BEGIN:VEVENT
DTSTART;TZID=America/Los_Angeles:20200106T190000
DTEND;TZID=America/Los_Angeles:20200106T210000
DTSTAMP:20260422T152146
CREATED:20191206T210537Z
LAST-MODIFIED:20200102T194456Z
UID:3009-1578337200-1578344400@opnc.org
SUMMARY:OPNC Board Meeting
DESCRIPTION:Join us for our first Olympic Park Neighborhood Council meeting of 2020 on Monday\, January 6\,  7pm at Catch One\, 4067 W. Pico Blvd. Please enter through the parking lot. We plan to appoint new Board Members. If you are interested in impacting your community in 2020\, please come and see what we are about! \nPresentations: \n\nMetro Crenshaw Line\nSmall lot development for 1246 S. Bronson\, case number ZA-2018-7499-ZAA\nCensus Bureau\n\nJanuary 6\, 2019 Board Agenda
URL:https://opnc.org/event/opnc-board-meeting-10/
LOCATION:Catch One\, 4067 W. Pico Blvd\, Los Angeles\, 90019
CATEGORIES:Meetings
GEO:34.047775;-118.3241134
X-APPLE-STRUCTURED-LOCATION;VALUE=URI;X-ADDRESS=Catch One 4067 W. Pico Blvd Los Angeles 90019;X-APPLE-RADIUS=500;X-TITLE=4067 W. Pico Blvd:geo:-118.3241134,34.047775
END:VEVENT
BEGIN:VEVENT
DTSTART;TZID=America/Los_Angeles:20191202T190000
DTEND;TZID=America/Los_Angeles:20191202T210000
DTSTAMP:20260422T152146
CREATED:20190104T230559Z
LAST-MODIFIED:20191129T185802Z
UID:2638-1575313200-1575320400@opnc.org
SUMMARY:OPNC Board Meeting
DESCRIPTION:Join us for our last Olympic Park Neighborhood Council Meeting of the year on Monday\, December 2\, 7pm at Catch One\, 4067 W. Pico Blvd. \nWe plan to appoint new Board Members. We have a number of vacancies and invite you to come to our meeting to share your interest in taking a seat on the board to benefit Olympic Park. We will also discuss supporting World Harvest Charities and Family Services and the Crenshaw Subway Coalition. \nDecember 2\, 2019 Board Agenda
URL:https://opnc.org/event/opnc-board-meeting-9-2019-12-02/
LOCATION:Catch One\, 4067 W. Pico Blvd\, Los Angeles\, 90019
CATEGORIES:Meetings
GEO:34.047775;-118.3241134
X-APPLE-STRUCTURED-LOCATION;VALUE=URI;X-ADDRESS=Catch One 4067 W. Pico Blvd Los Angeles 90019;X-APPLE-RADIUS=500;X-TITLE=4067 W. Pico Blvd:geo:-118.3241134,34.047775
END:VEVENT
BEGIN:VEVENT
DTSTART;TZID=America/Los_Angeles:20191112T193000
DTEND;TZID=America/Los_Angeles:20191112T203000
DTSTAMP:20260422T152146
CREATED:20191112T225459Z
LAST-MODIFIED:20191112T225459Z
UID:2990-1573587000-1573590600@opnc.org
SUMMARY:Special Meeting
DESCRIPTION:November 12\, 2019 Special Agenda
URL:https://opnc.org/event/special-meeting/
LOCATION:Catch One\, 4067 W. Pico Blvd\, Los Angeles\, 90019
CATEGORIES:Meetings
GEO:34.047775;-118.3241134
X-APPLE-STRUCTURED-LOCATION;VALUE=URI;X-ADDRESS=Catch One 4067 W. Pico Blvd Los Angeles 90019;X-APPLE-RADIUS=500;X-TITLE=4067 W. Pico Blvd:geo:-118.3241134,34.047775
END:VEVENT
BEGIN:VEVENT
DTSTART;TZID=America/Los_Angeles:20191104T190000
DTEND;TZID=America/Los_Angeles:20191104T210000
DTSTAMP:20260422T152146
CREATED:20190104T230559Z
LAST-MODIFIED:20191101T224910Z
UID:2637-1572894000-1572901200@opnc.org
SUMMARY:OPNC Board Meeting
DESCRIPTION:Join us for our next Olympic Park Neighborhood Council Meeting on Monday\, November 4\, 7pm at Catch One\, 4067 W Pico Blvd. \nOur agenda includes: \n\nResolution in opposition to the construction of a gas fired power plant on the site of the Intermountain Power Plant and in support of renewable energy.\nVarious traffic concerns for San Vicente\, Highland between Pico and San Vicente\, Sprouts/Target and more.\n\nNovember 4\, 2019 Board Agenda
URL:https://opnc.org/event/opnc-board-meeting-9-2019-11-04/
LOCATION:Catch One\, 4067 W. Pico Blvd\, Los Angeles\, 90019
CATEGORIES:Meetings
GEO:34.047775;-118.3241134
X-APPLE-STRUCTURED-LOCATION;VALUE=URI;X-ADDRESS=Catch One 4067 W. Pico Blvd Los Angeles 90019;X-APPLE-RADIUS=500;X-TITLE=4067 W. Pico Blvd:geo:-118.3241134,34.047775
END:VEVENT
BEGIN:VEVENT
DTSTART;TZID=America/Los_Angeles:20191007T190000
DTEND;TZID=America/Los_Angeles:20191007T210000
DTSTAMP:20260422T152146
CREATED:20190104T230559Z
LAST-MODIFIED:20191005T003628Z
UID:2635-1570474800-1570482000@opnc.org
SUMMARY:OPNC Board Meeting
DESCRIPTION:The Olympic Park Neighborhood Council invites you to join us for our next meeting on Monday\, October 7\, 7pm at Catch One\, 4067 W. Pico Blvd. \nPresentations: \n\nGrace Yoo candidate for CD-10 seat\nDomus Development presenting on Solaris project at 1141 S Crenshaw Blvd\n\nOctober 7\, 2019 Board Agenda \n 
URL:https://opnc.org/event/opnc-board-meeting-9/
LOCATION:Catch One\, 4067 W. Pico Blvd\, Los Angeles\, 90019
CATEGORIES:Meetings
GEO:34.047775;-118.3241134
X-APPLE-STRUCTURED-LOCATION;VALUE=URI;X-ADDRESS=Catch One 4067 W. Pico Blvd Los Angeles 90019;X-APPLE-RADIUS=500;X-TITLE=4067 W. Pico Blvd:geo:-118.3241134,34.047775
END:VEVENT
BEGIN:VEVENT
DTSTART;TZID=America/Los_Angeles:20190909T190000
DTEND;TZID=America/Los_Angeles:20190909T210000
DTSTAMP:20260422T152146
CREATED:20181117T040513Z
LAST-MODIFIED:20190909T215802Z
UID:2571-1568055600-1568062800@opnc.org
SUMMARY:OPNC Board Meeting-Cancelled
DESCRIPTION:Join us for our next Olympic Park Neighborhood Council meeting on Monday\, September 9\, 7pm at Catch One\, 4067 W. Pico Blvd. Please enter through the parking lot. \nWe will discuss a number of events the Outreach Committee has identified for the coming year. \nSeptember 10\, 2019 Cancellation Notice \nSeptember 9\, 2019 Special Meeting Agenda
URL:https://opnc.org/event/opnc-board-meeting-7-2019-09-02/
LOCATION:Catch One\, 4067 W. Pico Blvd\, Los Angeles\, 90019
CATEGORIES:Meetings
GEO:34.047775;-118.3241134
X-APPLE-STRUCTURED-LOCATION;VALUE=URI;X-ADDRESS=Catch One 4067 W. Pico Blvd Los Angeles 90019;X-APPLE-RADIUS=500;X-TITLE=4067 W. Pico Blvd:geo:-118.3241134,34.047775
END:VEVENT
BEGIN:VEVENT
DTSTART;TZID=America/Los_Angeles:20190808T190000
DTEND;TZID=America/Los_Angeles:20190808T210000
DTSTAMP:20260422T152146
CREATED:20190808T181230Z
LAST-MODIFIED:20190808T181230Z
UID:2867-1565290800-1565298000@opnc.org
SUMMARY:Outreach Committee Meeting
DESCRIPTION:Join us for our Joint Outreach Committee and Board Meeting on Thursday\, August 8\, 7pm at LAPD Wilshire Community Room\, 4861 Venice Blvd. \nWe will plan a Town Hall\, Winter Festival\, Candidate Forum and more. \nAugust 8\, 2019 Outreach Committee Agenda
URL:https://opnc.org/event/outreach-committee-meeting-4/
LOCATION:Wilshire West Community Room\, 4861 West Venice Blvd\, Los Angeles
CATEGORIES:Meetings
GEO:34.046891;-118.342915
X-APPLE-STRUCTURED-LOCATION;VALUE=URI;X-ADDRESS=Wilshire West Community Room 4861 West Venice Blvd Los Angeles;X-APPLE-RADIUS=500;X-TITLE=4861 West Venice Blvd:geo:-118.342915,34.046891
END:VEVENT
BEGIN:VEVENT
DTSTART;TZID=America/Los_Angeles:20190805T190000
DTEND;TZID=America/Los_Angeles:20190805T210000
DTSTAMP:20260422T152146
CREATED:20181117T040513Z
LAST-MODIFIED:20190802T184529Z
UID:2570-1565031600-1565038800@opnc.org
SUMMARY:OPNC Board Meeting
DESCRIPTION:Join us for our next Olympic Park Neighborhood Council Meeting Monday\, August 5\, 7pm at Catch One\, 4067 W. Pico Blvd. Enter through the parking lot. \nOur agenda includes: \n\nNeighborhood Purpose Grant for Queen Ann Park Garden\nCommunity Impact Statements on Council Files 11-1705\, 16-0243\nOne way traffic recommendation for Pico north to San Vicente\nParking lot and traffic safety issues for Sprouts/Target/Michaels\n\nAugust 5\, 2019 Board Agenda \nMeets the first Monday of the month.
URL:https://opnc.org/event/opnc-board-meeting-7-2019-08-05/
LOCATION:Catch One\, 4067 W. Pico Blvd\, Los Angeles\, 90019
CATEGORIES:Meetings
GEO:34.047775;-118.3241134
X-APPLE-STRUCTURED-LOCATION;VALUE=URI;X-ADDRESS=Catch One 4067 W. Pico Blvd Los Angeles 90019;X-APPLE-RADIUS=500;X-TITLE=4067 W. Pico Blvd:geo:-118.3241134,34.047775
END:VEVENT
BEGIN:VEVENT
DTSTART;TZID=America/Los_Angeles:20190717T190000
DTEND;TZID=America/Los_Angeles:20190717T190000
DTSTAMP:20260422T152146
CREATED:20190716T225045Z
LAST-MODIFIED:20190716T230200Z
UID:2834-1563390000-1563390000@opnc.org
SUMMARY:Traffic & Safety Committee Meeting
DESCRIPTION:Join us for Special Traffic & Safety Committee Meeting at Starbucks 1258 S. La Brea\, Los Angeles\, CA 90019 Community Conference Room \nView Agenda
URL:https://opnc.org/event/traffic-safety-committee-meeting/
LOCATION:Starbucks La Brea\, 1250 S. La Brea\, Los Angeles\, CA\, 90019\, United States
CATEGORIES:Meetings
END:VEVENT
BEGIN:VEVENT
DTSTART;TZID=America/Los_Angeles:20190701T190000
DTEND;TZID=America/Los_Angeles:20190701T210000
DTSTAMP:20260422T152146
CREATED:20181117T040513Z
LAST-MODIFIED:20190629T155824Z
UID:2569-1562007600-1562014800@opnc.org
SUMMARY:OPNC Board Meeting
DESCRIPTION:Join us for our next Olympic Park Neighborhood Council meeting on Monday\, July 1\, 7pm at Catch One\, 4067 W. Pico Blvd. Please enter through the parking lot. \n\nPresentation and position letter on Solaris Apartments: 1141-1145 Crenshaw\nPresentation and position letter on CUB Application Case No. ZA-2019-2098-CUB\nPresentation by David Gershwin of Clear Channel Outdoor re: Modernized Sign Ordinance\n\nJuly 1\, 2019 Board Agenda
URL:https://opnc.org/event/opnc-board-meeting-7-2019-07-01/
LOCATION:Catch One\, 4067 W. Pico Blvd\, Los Angeles\, 90019
CATEGORIES:Meetings
GEO:34.047775;-118.3241134
X-APPLE-STRUCTURED-LOCATION;VALUE=URI;X-ADDRESS=Catch One 4067 W. Pico Blvd Los Angeles 90019;X-APPLE-RADIUS=500;X-TITLE=4067 W. Pico Blvd:geo:-118.3241134,34.047775
END:VEVENT
BEGIN:VEVENT
DTSTART;TZID=America/Los_Angeles:20190603T190000
DTEND;TZID=America/Los_Angeles:20190603T210000
DTSTAMP:20260422T152146
CREATED:20181117T040513Z
LAST-MODIFIED:20190601T021102Z
UID:2568-1559588400-1559595600@opnc.org
SUMMARY:OPNC Board Meeting
DESCRIPTION:Join us for our next Olympic Park Neighborhood Council Meeting Monday\, June 3\, 7pm at Catch One\, 4067 W Pico Blvd. Please enter through the parking lot. \nOur agenda includes: \n\nApproving our budget\nAppointing a new Board Member\nParking difficulties on Crenshaw\nDirectional turn stop light at La Brea / San Vicente\nSolaris Apartments 1141-1145 Crenshaw\nAlcohol permit for  1114 S. Western Ave\nHospitality Training Academy\n\nPlease see the June 3\, 2019 Agenda for details. \nMeets the first Monday of the month.
URL:https://opnc.org/event/opnc-board-meeting-7-2019-06-03/
LOCATION:Catch One\, 4067 W. Pico Blvd\, Los Angeles\, 90019
CATEGORIES:Meetings
GEO:34.047775;-118.3241134
X-APPLE-STRUCTURED-LOCATION;VALUE=URI;X-ADDRESS=Catch One 4067 W. Pico Blvd Los Angeles 90019;X-APPLE-RADIUS=500;X-TITLE=4067 W. Pico Blvd:geo:-118.3241134,34.047775
END:VEVENT
BEGIN:VEVENT
DTSTART;TZID=America/Los_Angeles:20190506T190000
DTEND;TZID=America/Los_Angeles:20190506T210000
DTSTAMP:20260422T152146
CREATED:20181117T040513Z
LAST-MODIFIED:20190504T042614Z
UID:2567-1557169200-1557176400@opnc.org
SUMMARY:OPNC Board Meeting
DESCRIPTION:Join us for our next Olympic Park Neighborhood Council Board Meeting on Monday\, May 6\, 7pm at Catch One\, 4067 W. Pico Blvd. Enter the building from the parking lot. \nWe will install our newly elected Board Members and elect officers. We will discuss Neighborhood Purposes Grants for: \n\nLongwood Area Neighborhood Association for 12th Street alley maintenance or digital outreach\nKoreatown Youth Community Center for tree plating\, graffiti removal and clean up\nBudget Advocates and Neighborhood Council Congress\n\nMay 6\, 2019 Board Meeting Agenda \nMeets the first Monday of the month.
URL:https://opnc.org/event/opnc-board-meeting-7-2019-05-06/
LOCATION:Catch One\, 4067 W. Pico Blvd\, Los Angeles\, 90019
CATEGORIES:Meetings
GEO:34.047775;-118.3241134
X-APPLE-STRUCTURED-LOCATION;VALUE=URI;X-ADDRESS=Catch One 4067 W. Pico Blvd Los Angeles 90019;X-APPLE-RADIUS=500;X-TITLE=4067 W. Pico Blvd:geo:-118.3241134,34.047775
END:VEVENT
BEGIN:VEVENT
DTSTART;TZID=America/Los_Angeles:20190404T140000
DTEND;TZID=America/Los_Angeles:20190404T200000
DTSTAMP:20260422T152146
CREATED:20190307T200443Z
LAST-MODIFIED:20210208T172034Z
UID:2719-1554386400-1554408000@opnc.org
SUMMARY:OPNC Elections
DESCRIPTION:Come vote in our Elections! \nEast Area At-Large Representative (5 seats)\nAVI JHINGAN\nGEMMA JIMENEZ\nMITCH EDELSON\nJACQUELINE AGUSTIN\nARTURO IBARRA \nStudent At-Large Representative (1 seat)\nRAMSAY GOYAL \nWest Area At-Large Representative (4 seats)\nNATHAN FREEMAN\nSARAH SONG\nMIKEY LATNER\nMICHAEL HAGERTY\nDIMITRINA S. GOTZEVA\nMATTHEW DEVADAS \nTo vote\, you must be a stakeholder 16 years or older in our boundaries:
URL:https://opnc.org/event/opnc-elections-2/
LOCATION:Los Angeles High School\, 4650 W. Olympic Blvd\, Los Angeles\, 90019
CATEGORIES:Meetings
ATTACH;FMTTYPE=image/jpeg:https://opnc.org/wp-content/uploads/2018/12/vote2019.jpg
GEO:34.055405;-118.3329852
X-APPLE-STRUCTURED-LOCATION;VALUE=URI;X-ADDRESS=Los Angeles High School 4650 W. Olympic Blvd Los Angeles 90019;X-APPLE-RADIUS=500;X-TITLE=4650 W. Olympic Blvd:geo:-118.3329852,34.055405
END:VEVENT
BEGIN:VEVENT
DTSTART;TZID=America/Los_Angeles:20190401T190000
DTEND;TZID=America/Los_Angeles:20190401T210000
DTSTAMP:20260422T152146
CREATED:20181117T040513Z
LAST-MODIFIED:20190329T190755Z
UID:2566-1554145200-1554152400@opnc.org
SUMMARY:OPNC Board Meeting
DESCRIPTION:Join us for our next Olympic Park Neighborhood Council Meeting on Monday\, April 1\, 7pm at Catch One\, 4067 W. Pico Blvd. Please enter from the parking lot. \nWe will have the following presentations: \n\nPresentation and Board position on CUB application at 1144 S Western. Ave\nPresentation and Board position on proposed development at 4200 W Pico Blvd.\, affordable housing for formerly homeless seniors by Wakeland Housing and Development Corporation\n\nApril 1\, 2019 Agenda \nMeets the first Monday of the month.
URL:https://opnc.org/event/opnc-board-meeting-7-2019-04-01/
LOCATION:Catch One\, 4067 W. Pico Blvd\, Los Angeles\, 90019
CATEGORIES:Meetings
GEO:34.047775;-118.3241134
X-APPLE-STRUCTURED-LOCATION;VALUE=URI;X-ADDRESS=Catch One 4067 W. Pico Blvd Los Angeles 90019;X-APPLE-RADIUS=500;X-TITLE=4067 W. Pico Blvd:geo:-118.3241134,34.047775
END:VEVENT
BEGIN:VEVENT
DTSTART;TZID=America/Los_Angeles:20190304T190000
DTEND;TZID=America/Los_Angeles:20190304T210000
DTSTAMP:20260422T152146
CREATED:20181117T040513Z
LAST-MODIFIED:20190301T060053Z
UID:2565-1551726000-1551733200@opnc.org
SUMMARY:OPNC Candidate Forum & Board Meeting
DESCRIPTION:Come meet our OPNC Candidates! This forum will be an opportunity for each candidate to make a brief statement and meet members of the community. Our Candidate Forum and OPNC Board Meeting will be held at Catch One\, 4067 W Pico Blvd. on Monday\, March 4\, 7pm. Please enter from the parking lot. \nThe Candidate Forum starts at 7pm. The meeting will follow immediately after. Our new business includes a presentation and Board position on a Conditional Use Permit at 1144 S. Western. \nCandidate List \nMarch 4\, 2019 Board Meeting Agenda \nMeets the first Monday of the month.
URL:https://opnc.org/event/opnc-board-meeting-7-2019-03-04/
LOCATION:Catch One\, 4067 W. Pico Blvd\, Los Angeles\, 90019
CATEGORIES:Meetings
GEO:34.047775;-118.3241134
X-APPLE-STRUCTURED-LOCATION;VALUE=URI;X-ADDRESS=Catch One 4067 W. Pico Blvd Los Angeles 90019;X-APPLE-RADIUS=500;X-TITLE=4067 W. Pico Blvd:geo:-118.3241134,34.047775
END:VEVENT
BEGIN:VEVENT
DTSTART;TZID=America/Los_Angeles:20190204T190000
DTEND;TZID=America/Los_Angeles:20190204T210000
DTSTAMP:20260422T152146
CREATED:20181117T040513Z
LAST-MODIFIED:20190202T014118Z
UID:2564-1549306800-1549314000@opnc.org
SUMMARY:OPNC Board Meeting
DESCRIPTION:Join us Monday\, February 4\, 7pm at Catch One\, 4067 W. Pico Blvd for our next Olympic Park Neighborhood Council Meeting. \nOur agenda includes: \n\nPresentation by LA City Planning regarding Purple Line Transit Neighborhood Plan\nHerbalife Marathon presentation\nPlanning of Candidate Forum\n\nFebruary 4\, 2019 Board Meeting Agenda \nMeets the first Monday of the month.
URL:https://opnc.org/event/opnc-board-meeting-7-2019-02-04/
LOCATION:Catch One\, 4067 W. Pico Blvd\, Los Angeles\, 90019
CATEGORIES:Meetings
GEO:34.047775;-118.3241134
X-APPLE-STRUCTURED-LOCATION;VALUE=URI;X-ADDRESS=Catch One 4067 W. Pico Blvd Los Angeles 90019;X-APPLE-RADIUS=500;X-TITLE=4067 W. Pico Blvd:geo:-118.3241134,34.047775
END:VEVENT
END:VCALENDAR