
BEGIN:VCALENDAR
VERSION:2.0
PRODID:-//Olympic Park Neighborhood Council - ECPv6.15.17.1//NONSGML v1.0//EN
CALSCALE:GREGORIAN
METHOD:PUBLISH
X-WR-CALNAME:Olympic Park Neighborhood Council
X-ORIGINAL-URL:https://opnc.org
X-WR-CALDESC:Events for Olympic Park Neighborhood Council
REFRESH-INTERVAL;VALUE=DURATION:PT1H
X-Robots-Tag:noindex
X-PUBLISHED-TTL:PT1H
BEGIN:VTIMEZONE
TZID:America/Los_Angeles
BEGIN:DAYLIGHT
TZOFFSETFROM:-0800
TZOFFSETTO:-0700
TZNAME:PDT
DTSTART:20250309T100000
END:DAYLIGHT
BEGIN:STANDARD
TZOFFSETFROM:-0700
TZOFFSETTO:-0800
TZNAME:PST
DTSTART:20251102T090000
END:STANDARD
BEGIN:DAYLIGHT
TZOFFSETFROM:-0800
TZOFFSETTO:-0700
TZNAME:PDT
DTSTART:20260308T100000
END:DAYLIGHT
BEGIN:STANDARD
TZOFFSETFROM:-0700
TZOFFSETTO:-0800
TZNAME:PST
DTSTART:20261101T090000
END:STANDARD
BEGIN:DAYLIGHT
TZOFFSETFROM:-0800
TZOFFSETTO:-0700
TZNAME:PDT
DTSTART:20270314T100000
END:DAYLIGHT
BEGIN:STANDARD
TZOFFSETFROM:-0700
TZOFFSETTO:-0800
TZNAME:PST
DTSTART:20271107T090000
END:STANDARD
END:VTIMEZONE
BEGIN:VEVENT
DTSTART;TZID=America/Los_Angeles:20260302T190000
DTEND;TZID=America/Los_Angeles:20260302T210000
DTSTAMP:20260421T183151
CREATED:20251121T192835Z
LAST-MODIFIED:20260226T170139Z
UID:9694-1772478000-1772485200@opnc.org
SUMMARY:Board Meeting
DESCRIPTION:Join us for the next Olympic Park Neighborhood Council Meeting Monday\, March 2\, 7pm at LAPD Wilshire Division Community Room\, 4861 Venice Blvd. \nParking is available to the east of the station in the Olive Garden parking lot. \nRefreshments will be served. \nOn our agenda: \n\nLADOT presentation on Pico Blvd Safety Projects Update\nCity Charter Reform\n\nYou may also join this hybrid meeting online: \nZoom Meeting Online or By Telephone\nhttps://us02web.zoom.us/j/8386991801\nOr Dial +16469313860\nThen Enter This Webinar ID 8386991801 and Press #
URL:https://opnc.org/event/board-meeting-11-2026-03-02/
LOCATION:LAPD Wilshire\, 4861 Venice Blvd
CATEGORIES:Board,Meetings
END:VEVENT
BEGIN:VEVENT
DTSTART;TZID=America/Los_Angeles:20260406T190000
DTEND;TZID=America/Los_Angeles:20260406T210000
DTSTAMP:20260421T183151
CREATED:20251121T192835Z
LAST-MODIFIED:20260401T234827Z
UID:9695-1775502000-1775509200@opnc.org
SUMMARY:Board Meeting
DESCRIPTION:Join us Monday\, April 6\, 7pm at the LAPD Wilshire Community Room for our next OPNC Meeting. \nWe will consider a grant request for the LA Korean Festival Foundation World Cup Match Watch Party. \nYou may also join online\nZoom Meeting Online or By Telephone\nhttps://us02web.zoom.us/j/8386991801\nOr Dial +16469313860\nThen Enter This Webinar ID 8386991801 and Press #
URL:https://opnc.org/event/board-meeting-11-2026-04-06/
LOCATION:LAPD Wilshire\, 4861 Venice Blvd
CATEGORIES:Board,Meetings
END:VEVENT
BEGIN:VEVENT
DTSTART;TZID=America/Los_Angeles:20260413T190000
DTEND;TZID=America/Los_Angeles:20260413T203000
DTSTAMP:20260421T183151
CREATED:20260304T001425Z
LAST-MODIFIED:20260304T001425Z
UID:9867-1776106800-1776112200@opnc.org
SUMMARY:Planning and Land Use Committee Meeting
DESCRIPTION:Join us online: \nZoom Meeting Online or By Telephone\nhttps://us02web.zoom.us/j/8386991801\nOr Dial +16469313860\nThen Enter This Webinar ID 8386991801 and Press # \nOn our agenda: \nDiscussion and possible approval of a letter of support to be recommended for consideration\nby the full OPNC board regardarding Case No. CPC-2025-5194-HD-CU2-PR-ZC
URL:https://opnc.org/event/planning-and-land-use-committee-meeting-5/
CATEGORIES:Meetings,Planning and Land Use
END:VEVENT
BEGIN:VEVENT
DTSTART;TZID=America/Los_Angeles:20260504T190000
DTEND;TZID=America/Los_Angeles:20260504T210000
DTSTAMP:20260421T183151
CREATED:20251121T192835Z
LAST-MODIFIED:20260401T234304Z
UID:9696-1777921200-1777928400@opnc.org
SUMMARY:Board Meeting
DESCRIPTION:Join us the first Monday
URL:https://opnc.org/event/board-meeting-11-2026-05-04/2026-05-04/
CATEGORIES:Board,Meetings
END:VEVENT
BEGIN:VEVENT
DTSTART;TZID=America/Los_Angeles:20260601T190000
DTEND;TZID=America/Los_Angeles:20260601T210000
DTSTAMP:20260421T183151
CREATED:20251121T192835Z
LAST-MODIFIED:20260401T234304Z
UID:9697-1780340400-1780347600@opnc.org
SUMMARY:Board Meeting
DESCRIPTION:Join us the first Monday
URL:https://opnc.org/event/board-meeting-11-2026-05-04/2026-06-01/
CATEGORIES:Board,Meetings
END:VEVENT
BEGIN:VEVENT
DTSTART;TZID=America/Los_Angeles:20260706T190000
DTEND;TZID=America/Los_Angeles:20260706T210000
DTSTAMP:20260421T183151
CREATED:20251121T192835Z
LAST-MODIFIED:20260401T234304Z
UID:9698-1783364400-1783371600@opnc.org
SUMMARY:Board Meeting
DESCRIPTION:Join us the first Monday
URL:https://opnc.org/event/board-meeting-11-2026-05-04/2026-07-06/
CATEGORIES:Board,Meetings
END:VEVENT
BEGIN:VEVENT
DTSTART;TZID=America/Los_Angeles:20260803T190000
DTEND;TZID=America/Los_Angeles:20260803T210000
DTSTAMP:20260421T183151
CREATED:20251121T192835Z
LAST-MODIFIED:20260401T234304Z
UID:9699-1785783600-1785790800@opnc.org
SUMMARY:Board Meeting
DESCRIPTION:Join us the first Monday
URL:https://opnc.org/event/board-meeting-11-2026-05-04/2026-08-03/
CATEGORIES:Board,Meetings
END:VEVENT
BEGIN:VEVENT
DTSTART;TZID=America/Los_Angeles:20260908T190000
DTEND;TZID=America/Los_Angeles:20260908T210000
DTSTAMP:20260421T183151
CREATED:20251121T192835Z
LAST-MODIFIED:20251121T202636Z
UID:9700-1788894000-1788901200@opnc.org
SUMMARY:Board Meeting
DESCRIPTION:Join us the first Monday
URL:https://opnc.org/event/board-meeting-11-2026-09-07/
CATEGORIES:Board,Meetings
END:VEVENT
BEGIN:VEVENT
DTSTART;TZID=America/Los_Angeles:20261005T190000
DTEND;TZID=America/Los_Angeles:20261005T210000
DTSTAMP:20260421T183151
CREATED:20251121T192835Z
LAST-MODIFIED:20260401T234304Z
UID:9701-1791226800-1791234000@opnc.org
SUMMARY:Board Meeting
DESCRIPTION:Join us the first Monday
URL:https://opnc.org/event/board-meeting-11-2026-05-04/2026-10-05/
CATEGORIES:Board,Meetings
END:VEVENT
BEGIN:VEVENT
DTSTART;TZID=America/Los_Angeles:20261102T190000
DTEND;TZID=America/Los_Angeles:20261102T210000
DTSTAMP:20260421T183151
CREATED:20251121T192835Z
LAST-MODIFIED:20260401T234305Z
UID:9702-1793646000-1793653200@opnc.org
SUMMARY:Board Meeting
DESCRIPTION:Join us the first Monday
URL:https://opnc.org/event/board-meeting-11-2026-05-04/2026-11-02/
CATEGORIES:Board,Meetings
END:VEVENT
BEGIN:VEVENT
DTSTART;TZID=America/Los_Angeles:20261207T190000
DTEND;TZID=America/Los_Angeles:20261207T210000
DTSTAMP:20260421T183151
CREATED:20251121T192835Z
LAST-MODIFIED:20260401T234305Z
UID:9704-1796670000-1796677200@opnc.org
SUMMARY:Board Meeting
DESCRIPTION:Join us the first Monday
URL:https://opnc.org/event/board-meeting-11-2026-05-04/2026-12-07/
CATEGORIES:Board,Meetings
END:VEVENT
END:VCALENDAR