
BEGIN:VCALENDAR
VERSION:2.0
PRODID:-//Olympic Park Neighborhood Council - ECPv6.15.17.1//NONSGML v1.0//EN
CALSCALE:GREGORIAN
METHOD:PUBLISH
X-WR-CALNAME:Olympic Park Neighborhood Council
X-ORIGINAL-URL:https://opnc.org
X-WR-CALDESC:Events for Olympic Park Neighborhood Council
REFRESH-INTERVAL;VALUE=DURATION:PT1H
X-Robots-Tag:noindex
X-PUBLISHED-TTL:PT1H
BEGIN:VTIMEZONE
TZID:America/Los_Angeles
BEGIN:DAYLIGHT
TZOFFSETFROM:-0800
TZOFFSETTO:-0700
TZNAME:PDT
DTSTART:20200308T100000
END:DAYLIGHT
BEGIN:STANDARD
TZOFFSETFROM:-0700
TZOFFSETTO:-0800
TZNAME:PST
DTSTART:20201101T090000
END:STANDARD
BEGIN:DAYLIGHT
TZOFFSETFROM:-0800
TZOFFSETTO:-0700
TZNAME:PDT
DTSTART:20210314T100000
END:DAYLIGHT
BEGIN:STANDARD
TZOFFSETFROM:-0700
TZOFFSETTO:-0800
TZNAME:PST
DTSTART:20211107T090000
END:STANDARD
BEGIN:DAYLIGHT
TZOFFSETFROM:-0800
TZOFFSETTO:-0700
TZNAME:PDT
DTSTART:20220313T100000
END:DAYLIGHT
BEGIN:STANDARD
TZOFFSETFROM:-0700
TZOFFSETTO:-0800
TZNAME:PST
DTSTART:20221106T090000
END:STANDARD
BEGIN:DAYLIGHT
TZOFFSETFROM:-0800
TZOFFSETTO:-0700
TZNAME:PDT
DTSTART:20230312T100000
END:DAYLIGHT
BEGIN:STANDARD
TZOFFSETFROM:-0700
TZOFFSETTO:-0800
TZNAME:PST
DTSTART:20231105T090000
END:STANDARD
END:VTIMEZONE
BEGIN:VEVENT
DTSTART;TZID=America/Los_Angeles:20220517T190000
DTEND;TZID=America/Los_Angeles:20220517T200000
DTSTAMP:20260422T041435
CREATED:20220504T192243Z
LAST-MODIFIED:20220519T220614Z
UID:4514-1652814000-1652817600@opnc.org
SUMMARY:Environment and Health Subcommittee
DESCRIPTION:Join us for our next Environment and Health Committee Meeting May 17\, 7pm \nMay 17\, 2022 Environment & Health Committee Meeting Agenda \nZoom Meeting Online or By Telephone\nhttps://us02web.zoom.us/j/81520516647\nDial +1669 900 6833 to Join the Meeting\nThen Enter This Webinar ID: 815 20516647 and Press #
URL:https://opnc.org/event/environment-and-health-subcommittee/
CATEGORIES:Environment & Health,Meetings
END:VEVENT
BEGIN:VEVENT
DTSTART;TZID=America/Los_Angeles:20220509T190000
DTEND;TZID=America/Los_Angeles:20220509T210000
DTSTAMP:20260422T041435
CREATED:20220505T154418Z
LAST-MODIFIED:20220519T220412Z
UID:4522-1652122800-1652130000@opnc.org
SUMMARY:Special Meeting
DESCRIPTION:May 9\, 2022 Special Board Agenda \nhttps://us02web.zoom.us/j/82215212749\nDial +1669 900 6833 to Join the Meeting\nThen Enter This Webinar ID: 822 1521 2749 and Press #
URL:https://opnc.org/event/special-meeting-2/
CATEGORIES:Board,Meetings
END:VEVENT
BEGIN:VEVENT
DTSTART;TZID=America/Los_Angeles:20220502T190000
DTEND;TZID=America/Los_Angeles:20220502T210000
DTSTAMP:20260422T041435
CREATED:20211025T224244Z
LAST-MODIFIED:20220519T220150Z
UID:4199-1651518000-1651525200@opnc.org
SUMMARY:Board Meeting
DESCRIPTION:Join us for the next Olympic Park Neighborhood Council Meeting Monday\, May 2\, 7pm. \nMay 2\, 2022 Board Agenda \nZoom Meeting Online or By Telephonehttps://us02web.zoom.us/j/83932413655Dial +1669 900 6833 to Join the MeetingThen Enter This Webinar ID: 839 3241 3655 and Press #
URL:https://opnc.org/event/board-meeting-2022-05-02/
CATEGORIES:Board,Meetings
END:VEVENT
BEGIN:VEVENT
DTSTART;TZID=America/Los_Angeles:20220420T190000
DTEND;TZID=America/Los_Angeles:20220420T203000
DTSTAMP:20260422T041435
CREATED:20220111T191120Z
LAST-MODIFIED:20220519T221040Z
UID:4309-1650481200-1650486600@opnc.org
SUMMARY:Outreach Committee Meeting
DESCRIPTION:OPNC Outreach Committee Meeting Agenda April 20\, 2022 \n  \nDATE: WEDNESDAY\, April 20th\, 2022 \nTIME: 7 pm-8 pm \nZoom Meeting Online or By Telephone \nhttps://us02web.zoom.us/j/83933528685 \nDial +1669 900 6833 to Join the Meeting \nThen Enter This Webinar ID: [839 3352 8685] and Press #
URL:https://opnc.org/event/outreach-committee-meeting-11-2022-04-20/
CATEGORIES:Meetings,Outreach
END:VEVENT
BEGIN:VEVENT
DTSTART;TZID=America/Los_Angeles:20220404T190000
DTEND;TZID=America/Los_Angeles:20220404T210000
DTSTAMP:20260422T041435
CREATED:20211025T224244Z
LAST-MODIFIED:20220519T220810Z
UID:4198-1649098800-1649106000@opnc.org
SUMMARY:Board Meeting
DESCRIPTION:Join us for the next Olympic Park Neighborhood Council Meeting on Monday\, April 4\, 7pm. \nJan Perry\, Candidate for California’s 37th Congressional District will be our guest. \nApril 4\, 2022 Board Agenda \nZoom Meeting Online or By Telephone\nhttps://us02web.zoom.us/j/83932413655\nDial +1669 900 6833 to Join the Meeting\nThen Enter This Webinar ID: 839 3241 3655 and Press #
URL:https://opnc.org/event/board-meeting-2022-0404/
CATEGORIES:Board,Meetings
END:VEVENT
BEGIN:VEVENT
DTSTART;TZID=America/Los_Angeles:20220316T190000
DTEND;TZID=America/Los_Angeles:20220316T200000
DTSTAMP:20260422T041435
CREATED:20220301T004642Z
LAST-MODIFIED:20220519T221539Z
UID:4409-1647457200-1647460800@opnc.org
SUMMARY:Outreach Committee Meeting
DESCRIPTION:Join us for our OPNC Outreach Committee Meeting Wednesday\, March 16\, 7pm. \nMarch 16\, 2022 Outreach Committee Meeting Agenda \nZoom Meeting Online or By Telephonehttps://us02web.zoom.us/j/83933528685Dial +1669 900 6833 to Join the MeetingThen Enter This Webinar ID: [839 3352 8685] and Press #
URL:https://opnc.org/event/outreach-committee-meeting-12/
CATEGORIES:Meetings,Outreach
END:VEVENT
BEGIN:VEVENT
DTSTART;TZID=America/Los_Angeles:20220315T190000
DTEND;TZID=America/Los_Angeles:20220315T200000
DTSTAMP:20260422T041435
CREATED:20220228T231142Z
LAST-MODIFIED:20220519T221441Z
UID:4401-1647370800-1647374400@opnc.org
SUMMARY:Environment & Health Committee Meeting
DESCRIPTION:Join us for our first OPNC Environment & Health Committee Meeting on Tuesday\, March 15\, 7pm. \nMarch 15\, 2022 Environment & Health Committee Meeting Agenda \nWe plan to discuss: \n\nRemoval of community hazards\nNeighborhood Watch\nCool Blocks\nFirst Aid / CPR\nTree removal at 1156 S. Hobart\n\nZoom Meeting Online or By Telephonehttps://us02web.zoom.us/j/81520516647Dial +1669 900 6833 to Join the MeetingThen Enter This Webinar ID: 815 2051 6647 and Press #
URL:https://opnc.org/event/environment-health-committee-meeting/
CATEGORIES:Environment & Health,Meetings
END:VEVENT
BEGIN:VEVENT
DTSTART;TZID=America/Los_Angeles:20220307T190000
DTEND;TZID=America/Los_Angeles:20220307T210000
DTSTAMP:20260422T041435
CREATED:20211025T224244Z
LAST-MODIFIED:20220519T222043Z
UID:4197-1646679600-1646686800@opnc.org
SUMMARY:Board Meeting
DESCRIPTION:Join us for the next Olympic Park Neighborhood Council Meeting on Monday\, March 7\, 7pm. \nOn our agenda: \n\nNeighborhood Purpose Grant for GALA Academy\n\nMarch 7\, 2022 Board Agenda \nhttps://us02web.zoom.us/j/83932413655\nDial +1669 900 6833 to Join the Meeting\nThen Enter This Webinar ID: 839 3241 3655 and Press #
URL:https://opnc.org/event/board-meeting-2022-0307/
CATEGORIES:Board,Meetings
END:VEVENT
BEGIN:VEVENT
DTSTART;TZID=America/Los_Angeles:20220303T190000
DTEND;TZID=America/Los_Angeles:20220303T203000
DTSTAMP:20260422T041435
CREATED:20220228T225527Z
LAST-MODIFIED:20220519T221230Z
UID:4395-1646334000-1646339400@opnc.org
SUMMARY:Transportation Committee Meeting
DESCRIPTION:Join us for our next OPNC Transportation Committee Meeting on Thursday\, March 3\, 7pm. \nMarch 3\, 2022 OPNC Transportation Committee Meeting Agenda \n\nOn our agenda: \n\n\nLA Triathlon\n\n\nProposed Bus Lanes on La Brea\n\nZoom Meeting Online or By Telephoneus02web.zoom.us/j/83933528685Dial +1669 900 6833 to Join the Meeting\nThen Enter This Webinar ID: 83933528685 and Press #
URL:https://opnc.org/event/transportation-committee-meeting-3/
CATEGORIES:Meetings,Transportation
END:VEVENT
BEGIN:VEVENT
DTSTART;TZID=America/Los_Angeles:20220207T190000
DTEND;TZID=America/Los_Angeles:20220207T210000
DTSTAMP:20260422T041435
CREATED:20211025T224244Z
LAST-MODIFIED:20220902T182436Z
UID:4196-1644260400-1644267600@opnc.org
SUMMARY:Board Meeting
DESCRIPTION:Join us for our Olympic Park Neighborhood Council Meeting Monday\, February 7\, 7pm. \nFebruary 7\, 2022 Board Agenda \nhttps://us02web.zoom.us/j/83932413655\nDial +1669 900 6833 to Join the Meeting\nThen Enter This Webinar ID: 839 3241 3655 and Press #
URL:https://opnc.org/event/board-meeting-2022-0207/
CATEGORIES:Board,Meetings
END:VEVENT
BEGIN:VEVENT
DTSTART;TZID=America/Los_Angeles:20220203T190000
DTEND;TZID=America/Los_Angeles:20220203T200000
DTSTAMP:20260422T041435
CREATED:20220128T203515Z
LAST-MODIFIED:20220519T221712Z
UID:4348-1643914800-1643918400@opnc.org
SUMMARY:Transportation Committee Meeting
DESCRIPTION:Join us for our Olympic Park Neighborhood Council Transportation Committee Meeting on Thursday\, February 3\, 7pm. \nOn our agenda: \n\nProposed bus lanes on La Brea\nLA Triathlon\n\nZoom Meeting Online or By Telephone\nus02web.zoom.us/j/83933528685\nDial +1669 900 6833 to Join the Meeting\nThen Enter This Webinar ID: 83933528685 and Press # \nFebruary 3\, 2022 Transportation Committee Meeting Agenda
URL:https://opnc.org/event/transportation-committee-meeting-2/
CATEGORIES:Meetings,Transportation
END:VEVENT
BEGIN:VEVENT
DTSTART;TZID=America/Los_Angeles:20220120T190000
DTEND;TZID=America/Los_Angeles:20220120T203000
DTSTAMP:20260422T041435
CREATED:20220111T191302Z
LAST-MODIFIED:20220111T191302Z
UID:4295-1642705200-1642710600@opnc.org
SUMMARY:Transportation Committee Meeting
DESCRIPTION:
URL:https://opnc.org/event/transportation-committee-meeting/2022-01-20/
CATEGORIES:Meetings
END:VEVENT
BEGIN:VEVENT
DTSTART;TZID=America/Los_Angeles:20220119T190000
DTEND;TZID=America/Los_Angeles:20220119T203000
DTSTAMP:20260422T041435
CREATED:20220111T191120Z
LAST-MODIFIED:20220111T191508Z
UID:4293-1642618800-1642624200@opnc.org
SUMMARY:Outreach Committee Meeting
DESCRIPTION:
URL:https://opnc.org/event/outreach-committee-meeting-11/2022-01-19/
CATEGORIES:Meetings
END:VEVENT
BEGIN:VEVENT
DTSTART;TZID=America/Los_Angeles:20220103T190000
DTEND;TZID=America/Los_Angeles:20220103T210000
DTSTAMP:20260422T041435
CREATED:20211025T224244Z
LAST-MODIFIED:20220519T221956Z
UID:4194-1641236400-1641243600@opnc.org
SUMMARY:Board Meeting
DESCRIPTION:Join us for our first Olympic Park Neighborhood Council Meeting of the year on January 3\, 2022\, 7pm. \nJanuary 3\, 2022 Board Agenda \nZoom Meeting Online or By Telephone\nhttps://us02web.zoom.us/j/83932413655\nDial +1669 900 6833 to Join the Meeting\nThen Enter This Webinar ID: 839 3241 3655 and Press #
URL:https://opnc.org/event/board-meeting-3/
CATEGORIES:Board,Meetings
END:VEVENT
BEGIN:VEVENT
DTSTART;TZID=America/Los_Angeles:20211206T190000
DTEND;TZID=America/Los_Angeles:20211206T210000
DTSTAMP:20260422T041435
CREATED:20201028T162855Z
LAST-MODIFIED:20211207T021308Z
UID:3629-1638817200-1638824400@opnc.org
SUMMARY:OPNC Board Meeting
DESCRIPTION:Join us for our next Olympic Park Neighborhood Council Meeting on Monday\, December 6\, 7pm. \nOn our agenda: \nFood drive\nTraffic safety signs for Rimpau \nJoin online: https://us02web.zoom.us/j/83932413655\nDial +1669 900 6833 to Join the Meeting\,\nThen Enter This Webinar ID: 839 3241 3655 and Press # \nDecember 6\, 2021Board Agenda
URL:https://opnc.org/event/opnc-board-meeting-2021-1206/
CATEGORIES:Meetings
END:VEVENT
BEGIN:VEVENT
DTSTART;TZID=America/Los_Angeles:20211101T190000
DTEND;TZID=America/Los_Angeles:20211101T210000
DTSTAMP:20260422T041435
CREATED:20201028T162855Z
LAST-MODIFIED:20211029T192538Z
UID:3628-1635793200-1635800400@opnc.org
SUMMARY:OPNC Board Meeting
DESCRIPTION:Join us for our Olympic Park Neighborhood Council Meeting on Monday\, November 1\, 7pm. \nMeeting documents: \n\nNovember 1\, 2021 Board Agenda\n10.03.2021 Minutes\n\nJoin online: https://us02web.zoom.us/j/83932413655\nOr by phone: Dial +1669 900 6833 to Join the Meeting\nThen Enter This Webinar ID: 839 3241 3655 and Press #
URL:https://opnc.org/event/opnc-board-meeting-2021-1101/
CATEGORIES:Meetings
END:VEVENT
BEGIN:VEVENT
DTSTART;TZID=America/Los_Angeles:20211004T190000
DTEND;TZID=America/Los_Angeles:20211004T210000
DTSTAMP:20260422T041435
CREATED:20201028T162855Z
LAST-MODIFIED:20211029T191853Z
UID:3627-1633374000-1633381200@opnc.org
SUMMARY:OPNC Board Meeting
DESCRIPTION:Join us for our next Olympic Park Neighborhood Council Meeting on Monday\, October 4\, 7pm. \nCall 1 669 900 6833 enter 839 3241 3655 and then press # to join the meeting. \nOn our agenda: \n\nSpeed bumps on Rimpau\nRedistricting update\n\nMeeting documents: \n\nOctober 4\, 2021 Agenda\nDraft 09.13.2021 Minutes\n10.03.2021 Minutes
URL:https://opnc.org/event/opnc-board-meeting-2021-1004/
CATEGORIES:Meetings
END:VEVENT
BEGIN:VEVENT
DTSTART;TZID=America/Los_Angeles:20210920T190000
DTEND;TZID=America/Los_Angeles:20210920T210000
DTSTAMP:20260422T041435
CREATED:20210915T174813Z
LAST-MODIFIED:20210915T174813Z
UID:4149-1632164400-1632171600@opnc.org
SUMMARY:Outreach Committee Meeting
DESCRIPTION:Join us for our OPNC Outreach Committee Meeting on Monday\, September 20\, 7pm. \nCall 669 900 6833 enter 889 2948 2744 and then press # to join the meeting. \nSeptember 20\, 2021 Outreach Agenda
URL:https://opnc.org/event/outreach-committee-meeting-10/
CATEGORIES:Meetings
ATTACH;FMTTYPE=image/png:https://opnc.org/wp-content/uploads/2021/09/OPNC-Announcement-September-Outreach.png
END:VEVENT
BEGIN:VEVENT
DTSTART;TZID=America/Los_Angeles:20210913T190000
DTEND;TZID=America/Los_Angeles:20210913T210000
DTSTAMP:20260422T041435
CREATED:20201028T162855Z
LAST-MODIFIED:20210909T225931Z
UID:3626-1631559600-1631566800@opnc.org
SUMMARY:OPNC Board Meeting
DESCRIPTION:Join us for a specially scheduled meeting on Monday\, September 13\, 7pm. \nCall 669 900 6833 enter 890 6256 3822 and then press # to join the meeting \nor online: https://us02web.zoom.us/j/89062563822 \nWe will have a presentation on the Cool Blocks Initiative \nSeptember 13\, 2021 Agenda
URL:https://opnc.org/event/opnc-board-meeting-2021-0906/
CATEGORIES:Meetings
ATTACH;FMTTYPE=image/png:https://opnc.org/wp-content/uploads/2020/10/OPNC-Announcement-September.png
END:VEVENT
BEGIN:VEVENT
DTSTART;TZID=America/Los_Angeles:20210802T190000
DTEND;TZID=America/Los_Angeles:20210802T210000
DTSTAMP:20260422T041435
CREATED:20201028T162855Z
LAST-MODIFIED:20210802T163033Z
UID:3625-1627930800-1627938000@opnc.org
SUMMARY:OPNC Board Meeting
DESCRIPTION:Join us for our next Olympic Park Neighborhood Council Meeting on Monday\, August 2\, 7pm. \nBy phone: 669 900 6833 enter 839 3241 3655 \nOr online: https://us02web.zoom.us/j/83932413655 \nOn our agenda: \n\nRedistricting Presentation\nNuisance Abatement: 1240 S. Arlington\nAlcohol Permit: E.K. Art Gallery at 1123-1127 Crenshaw\n\nAugust 2\, 2021 Board Agenda \nRedistricting Presentation \n7.12.21 Minutes \n 
URL:https://opnc.org/event/board-meeting-2021-0802/
CATEGORIES:Meetings
END:VEVENT
BEGIN:VEVENT
DTSTART;TZID=America/Los_Angeles:20210712T190000
DTEND;TZID=America/Los_Angeles:20210712T210000
DTSTAMP:20260422T041435
CREATED:20201028T162855Z
LAST-MODIFIED:20210709T204236Z
UID:3624-1626116400-1626123600@opnc.org
SUMMARY:OPNC Board Meeting
DESCRIPTION:Join us for our next Olympic Park Neighborhood Council Meeting on Monday\, July 12\, 7pm. \nTo join the meeting Call 669 900 6833 enter 833 1258 4660 \nor online: https://us02web.zoom.us/j/83312584660 \nOn our agenda: \n\nRimpau & Country Club Park speed bumps\nGrant for People’s Concern\nResolution against prohibition of in person meetings\n\nJuly 12\, 2021 Board Agenda
URL:https://opnc.org/event/opnc-board-meeting-2021-0705/
CATEGORIES:Meetings
END:VEVENT
BEGIN:VEVENT
DTSTART;TZID=America/Los_Angeles:20210607T190000
DTEND;TZID=America/Los_Angeles:20210607T210000
DTSTAMP:20260422T041435
CREATED:20201028T162855Z
LAST-MODIFIED:20210607T224657Z
UID:3623-1623092400-1623099600@opnc.org
SUMMARY:OPNC Board Meeting
DESCRIPTION:Join us for our Olympic Park Neighborhood Council Meeting on Monday\, June 7\,  7pm as we discuss our budget for the new fiscal year. \nCall 669 900 6833 enter 839 3241 3655 to join the meeting. \nMeeting documents: \n\nJune 7\, 2021 Agenda\n5.24.21 Meeting\nNeighborhood Purposes Grant_Olympic Park\nThe People Concern 501c3 Letter (with OPCC documents)\nOPNC_May 2021\n2020-21 Budget Report as of June 3\, 2021\nApril 2021 MER\nOPNC 2021 0528\nPROPOSED 2021-22 OPNC Budget as of June 3\, 2021\n\n  \n  \n 
URL:https://opnc.org/event/opnc-board-meeting-2021-0607/
CATEGORIES:Meetings
END:VEVENT
BEGIN:VEVENT
DTSTART;TZID=America/Los_Angeles:20210524T190000
DTEND;TZID=America/Los_Angeles:20210524T210000
DTSTAMP:20260422T041435
CREATED:20210521T233019Z
LAST-MODIFIED:20210521T233019Z
UID:3948-1621882800-1621890000@opnc.org
SUMMARY:Special Board Meeting
DESCRIPTION:Join us for a specially called meeting of the Olympic Park Neighborhood Council on Monday\, May 24\, 7pm. \nCall 669 900 6833 enter 885 6793 4692 and then press # to join the meeting. \nAs it is fiscal year end\, we are considering neighborhood purposes grants for the community. \nMay 24\, 2021 Special Meeting Agenda
URL:https://opnc.org/event/special-board-meeting-3/
CATEGORIES:Meetings
END:VEVENT
BEGIN:VEVENT
DTSTART;TZID=America/Los_Angeles:20210517T190000
DTEND;TZID=America/Los_Angeles:20210517T203000
DTSTAMP:20260422T041435
CREATED:20210415T172545Z
LAST-MODIFIED:20210415T172545Z
UID:3859-1621278000-1621283400@opnc.org
SUMMARY:Traffic & Safety\, Planning & Land Use Committee Meeting
DESCRIPTION:
URL:https://opnc.org/event/traffic-safety-planning-land-use-committee-meeting-2/
CATEGORIES:Meetings
END:VEVENT
BEGIN:VEVENT
DTSTART;TZID=America/Los_Angeles:20210503T190000
DTEND;TZID=America/Los_Angeles:20210503T210000
DTSTAMP:20260422T041435
CREATED:20201028T162855Z
LAST-MODIFIED:20210501T005341Z
UID:3622-1620068400-1620075600@opnc.org
SUMMARY:OPNC Board Meeting
DESCRIPTION:Join us for our next Olympic Park Neighborhood Council Meeting May 3\, 7pm. \nCall 669 900 6833 enter Meeting ID: 839 3241 3655 \nOn our agenda: \n\n1179/1181 Highland Subdivision Request\n\nMay 3\, 2021 Board Agenda
URL:https://opnc.org/event/opnc-meeting-2021-0503/
CATEGORIES:Meetings
END:VEVENT
BEGIN:VEVENT
DTSTART;TZID=America/Los_Angeles:20210422T190000
DTEND;TZID=America/Los_Angeles:20210422T203000
DTSTAMP:20260422T041435
CREATED:20210421T003801Z
LAST-MODIFIED:20210421T003801Z
UID:3868-1619118000-1619123400@opnc.org
SUMMARY:Outreach Committee Meeting
DESCRIPTION:Join us for our OPNC Outreach Committee Meeting Thursday\, April 22\, 7pm as we discuss outreach ideas. \nCall 669 900 6833 enter 875 0403 1011 to join the meeting. \nApril 22\, 2021 Outreach Agenda
URL:https://opnc.org/event/outreach-committee-meeting-9/
CATEGORIES:Meetings
END:VEVENT
BEGIN:VEVENT
DTSTART;TZID=America/Los_Angeles:20210419T190000
DTEND;TZID=America/Los_Angeles:20210419T203000
DTSTAMP:20260422T041435
CREATED:20210415T170328Z
LAST-MODIFIED:20210415T171411Z
UID:3855-1618858800-1618864200@opnc.org
SUMMARY:Planning and Land Use Committee Meeting
DESCRIPTION:Join us for our Olympic Park Neighborhood Council Planning and Land Use Committee Meeting on Monday\, April 19\, 7pm. \nBy Phone: Call 669 900 9128 enter 818 6829 5375 and then press # to join the meeting. \nOr Online: https://us02web.zoom.us/j/81868295375 \nWe will discuss a proposal to subdivide 1179-1181 S. Highland into two lots. \nApril 19\, 2021 Planning and Land Use Agenda \n  \nImage Source
URL:https://opnc.org/event/planning-and-land-use-committee-meeting-3/
CATEGORIES:Meetings
END:VEVENT
BEGIN:VEVENT
DTSTART;TZID=America/Los_Angeles:20210405T190000
DTEND;TZID=America/Los_Angeles:20210405T210000
DTSTAMP:20260422T041435
CREATED:20201028T162855Z
LAST-MODIFIED:20210402T222622Z
UID:3621-1617649200-1617656400@opnc.org
SUMMARY:OPNC Board Meeting
DESCRIPTION:Join us for our next Olympic Park Neighborhood Council Joint Board & Outreach Meeting on Monday\, April 5\, 7pm. \nOn our agenda: \n\nSeating of new board members\nElecting officers\n\nApril 5\, 2021 Board Agenda \nCall 669 900 6833 enter 828 6009 7908 and then press # to join the meeting.
URL:https://opnc.org/event/opnc-meeting-2021-0405/
CATEGORIES:Meetings
END:VEVENT
BEGIN:VEVENT
DTSTART;TZID=America/Los_Angeles:20210218T190000
DTEND;TZID=America/Los_Angeles:20210218T203000
DTSTAMP:20260422T041435
CREATED:20210216T013507Z
LAST-MODIFIED:20210216T013507Z
UID:3792-1613674800-1613680200@opnc.org
SUMMARY:Outreach Committee Meeting
DESCRIPTION:February 18\, 2021 Outreach Agenda
URL:https://opnc.org/event/outreach-committee-meeting-8/
CATEGORIES:Meetings
END:VEVENT
BEGIN:VEVENT
DTSTART;TZID=America/Los_Angeles:20210208T190000
DTEND;TZID=America/Los_Angeles:20210208T210000
DTSTAMP:20260422T041435
CREATED:20210205T212315Z
LAST-MODIFIED:20210208T235102Z
UID:3758-1612810800-1612818000@opnc.org
SUMMARY:Board Meeting
DESCRIPTION:Join us for our next Olympic Park Neighborhood Council Meeting on Monday\, February 8\, 7pm.\n\nCall 669 900 6833\, enter 892 4316 9439 and then press # to join the meeting.\n\nOn our agenda:\n\nContinued alcohol permit for Smart & Final\nLetter of support to the Zoning Administrator/ Planning Department for application ZA-2009-4061-CUB-PA1 at 2949 W. Pico\nLetter requesting to keep OPNC’s entire area in the same district for state assembly\,\nstate senate\, and house representative redistricting following the 2020 census\n\nFebruary 8\, 2021 Agenda \nMeeting documents \n\nOPNC January 2021 MER\nOPNC-MER-2020-12\nOPNC Budget Report Balance Sheet as of January 31\, 2021
URL:https://opnc.org/event/board-meeting-2/
CATEGORIES:Meetings
END:VEVENT
END:VCALENDAR