
BEGIN:VCALENDAR
VERSION:2.0
PRODID:-//Olympic Park Neighborhood Council - ECPv6.15.17.1//NONSGML v1.0//EN
CALSCALE:GREGORIAN
METHOD:PUBLISH
X-WR-CALNAME:Olympic Park Neighborhood Council
X-ORIGINAL-URL:https://opnc.org
X-WR-CALDESC:Events for Olympic Park Neighborhood Council
REFRESH-INTERVAL;VALUE=DURATION:PT1H
X-Robots-Tag:noindex
X-PUBLISHED-TTL:PT1H
BEGIN:VTIMEZONE
TZID:America/Los_Angeles
BEGIN:DAYLIGHT
TZOFFSETFROM:-0800
TZOFFSETTO:-0700
TZNAME:PDT
DTSTART:20230312T100000
END:DAYLIGHT
BEGIN:STANDARD
TZOFFSETFROM:-0700
TZOFFSETTO:-0800
TZNAME:PST
DTSTART:20231105T090000
END:STANDARD
BEGIN:DAYLIGHT
TZOFFSETFROM:-0800
TZOFFSETTO:-0700
TZNAME:PDT
DTSTART:20240310T100000
END:DAYLIGHT
BEGIN:STANDARD
TZOFFSETFROM:-0700
TZOFFSETTO:-0800
TZNAME:PST
DTSTART:20241103T090000
END:STANDARD
BEGIN:DAYLIGHT
TZOFFSETFROM:-0800
TZOFFSETTO:-0700
TZNAME:PDT
DTSTART:20250309T100000
END:DAYLIGHT
BEGIN:STANDARD
TZOFFSETFROM:-0700
TZOFFSETTO:-0800
TZNAME:PST
DTSTART:20251102T090000
END:STANDARD
END:VTIMEZONE
BEGIN:VEVENT
DTSTART;TZID=America/Los_Angeles:20241007T190000
DTEND;TZID=America/Los_Angeles:20241007T210000
DTSTAMP:20260422T073900
CREATED:20231122T193723Z
LAST-MODIFIED:20241210T000806Z
UID:7908-1728327600-1728334800@opnc.org
SUMMARY:Board Meeting
DESCRIPTION:Join us for our next Olympic Park Neighborhood Council Meeting on Monday\, October 7\, 7pm at the LAPD Wilshire Division Community Room\, 4861 Venice Blvd. \n 
URL:https://opnc.org/event/board-meeting-2024-10-07/
LOCATION:LAPD Wilshire\, 4861 Venice Blvd
CATEGORIES:Board,Meetings
END:VEVENT
END:VCALENDAR