
BEGIN:VCALENDAR
VERSION:2.0
PRODID:-//Olympic Park Neighborhood Council - ECPv6.15.17.1//NONSGML v1.0//EN
CALSCALE:GREGORIAN
METHOD:PUBLISH
X-WR-CALNAME:Olympic Park Neighborhood Council
X-ORIGINAL-URL:https://opnc.org
X-WR-CALDESC:Events for Olympic Park Neighborhood Council
REFRESH-INTERVAL;VALUE=DURATION:PT1H
X-Robots-Tag:noindex
X-PUBLISHED-TTL:PT1H
BEGIN:VTIMEZONE
TZID:America/Los_Angeles
BEGIN:DAYLIGHT
TZOFFSETFROM:-0800
TZOFFSETTO:-0700
TZNAME:PDT
DTSTART:20230312T100000
END:DAYLIGHT
BEGIN:STANDARD
TZOFFSETFROM:-0700
TZOFFSETTO:-0800
TZNAME:PST
DTSTART:20231105T090000
END:STANDARD
BEGIN:DAYLIGHT
TZOFFSETFROM:-0800
TZOFFSETTO:-0700
TZNAME:PDT
DTSTART:20240310T100000
END:DAYLIGHT
BEGIN:STANDARD
TZOFFSETFROM:-0700
TZOFFSETTO:-0800
TZNAME:PST
DTSTART:20241103T090000
END:STANDARD
BEGIN:DAYLIGHT
TZOFFSETFROM:-0800
TZOFFSETTO:-0700
TZNAME:PDT
DTSTART:20250309T100000
END:DAYLIGHT
BEGIN:STANDARD
TZOFFSETFROM:-0700
TZOFFSETTO:-0800
TZNAME:PST
DTSTART:20251102T090000
END:STANDARD
END:VTIMEZONE
BEGIN:VEVENT
DTSTART;TZID=America/Los_Angeles:20240909T190000
DTEND;TZID=America/Los_Angeles:20240909T210000
DTSTAMP:20260422T090846
CREATED:20231122T193723Z
LAST-MODIFIED:20241010T145436Z
UID:7907-1725908400-1725915600@opnc.org
SUMMARY:Special Board Meeting
DESCRIPTION:Join us online for the next OPNC Meeting September 9\, 7pm. We will discuss funding grants for: \n\nWorld Harvest Food Bank\nReina de Cumbia\nHeal One World\n\nZoom Meeting Online or By Telephone\nhttps://us02web.zoom.us/j/8386991801\nOr Dial +16469313860\nThen Enter This Webinar ID 8386991801 and Press # \nMeeting documents: \n\nSpecial Board Meeting Agenda September 9 2024\nMinutes_06_03_2024-Draft\nMinutes_07_01_2024-Draft\nMinutes-August-2024\nWorld Harvest Application\nZZK Culture Application\nHeal One World Application
URL:https://opnc.org/event/board-meeting-9-2024-09-09/
CATEGORIES:Board,Meetings
END:VEVENT
END:VCALENDAR