
BEGIN:VCALENDAR
VERSION:2.0
PRODID:-//Olympic Park Neighborhood Council - ECPv6.15.17.1//NONSGML v1.0//EN
CALSCALE:GREGORIAN
METHOD:PUBLISH
X-WR-CALNAME:Olympic Park Neighborhood Council
X-ORIGINAL-URL:https://opnc.org
X-WR-CALDESC:Events for Olympic Park Neighborhood Council
REFRESH-INTERVAL;VALUE=DURATION:PT1H
X-Robots-Tag:noindex
X-PUBLISHED-TTL:PT1H
BEGIN:VTIMEZONE
TZID:America/Los_Angeles
BEGIN:DAYLIGHT
TZOFFSETFROM:-0800
TZOFFSETTO:-0700
TZNAME:PDT
DTSTART:20230312T100000
END:DAYLIGHT
BEGIN:STANDARD
TZOFFSETFROM:-0700
TZOFFSETTO:-0800
TZNAME:PST
DTSTART:20231105T090000
END:STANDARD
BEGIN:DAYLIGHT
TZOFFSETFROM:-0800
TZOFFSETTO:-0700
TZNAME:PDT
DTSTART:20240310T100000
END:DAYLIGHT
BEGIN:STANDARD
TZOFFSETFROM:-0700
TZOFFSETTO:-0800
TZNAME:PST
DTSTART:20241103T090000
END:STANDARD
BEGIN:DAYLIGHT
TZOFFSETFROM:-0800
TZOFFSETTO:-0700
TZNAME:PDT
DTSTART:20250309T100000
END:DAYLIGHT
BEGIN:STANDARD
TZOFFSETFROM:-0700
TZOFFSETTO:-0800
TZNAME:PST
DTSTART:20251102T090000
END:STANDARD
END:VTIMEZONE
BEGIN:VEVENT
DTSTART;TZID=America/Los_Angeles:20240429T190000
DTEND;TZID=America/Los_Angeles:20240429T203000
DTSTAMP:20260422T151513
CREATED:20240415T235646Z
LAST-MODIFIED:20240425T163848Z
UID:8775-1714417200-1714422600@opnc.org
SUMMARY:Special Meeting
DESCRIPTION:The Olympic Park Neighborhood Council will hold a Special Meeting Monday\, April 29\, 7pm at the LAPD Wilshire Division Community Room\, 4861 Venice Blvd.
URL:https://opnc.org/event/special-meeting-7/
LOCATION:LAPD Wilshire\, 4861 Venice Blvd
CATEGORIES:Board,Meetings
END:VEVENT
BEGIN:VEVENT
DTSTART;TZID=America/Los_Angeles:20240429T191000
DTEND;TZID=America/Los_Angeles:20240429T203000
DTSTAMP:20260422T151513
CREATED:20240416T000503Z
LAST-MODIFIED:20240425T163926Z
UID:8779-1714417800-1714422600@opnc.org
SUMMARY:Special Meeting
DESCRIPTION:Immediately following our first special meeting\, we will hold a second special meeting on Monday\, April 29\, 7:10pm\, approximately. The meetings will be held at LAPD Wilshire Division Community Room\, 4861 Venice Blvd. \nThe purpose of these meetings is to fill the vacant board seats so that the OPNC will have quorum and continue to represent the community without further delay.
URL:https://opnc.org/event/special-meeting-8/
LOCATION:LAPD Wilshire\, 4861 Venice Blvd
CATEGORIES:Board,Meetings
END:VEVENT
END:VCALENDAR