
BEGIN:VCALENDAR
VERSION:2.0
PRODID:-//Olympic Park Neighborhood Council - ECPv6.15.17.1//NONSGML v1.0//EN
CALSCALE:GREGORIAN
METHOD:PUBLISH
X-WR-CALNAME:Olympic Park Neighborhood Council
X-ORIGINAL-URL:https://opnc.org
X-WR-CALDESC:Events for Olympic Park Neighborhood Council
REFRESH-INTERVAL;VALUE=DURATION:PT1H
X-Robots-Tag:noindex
X-PUBLISHED-TTL:PT1H
BEGIN:VTIMEZONE
TZID:America/Los_Angeles
BEGIN:DAYLIGHT
TZOFFSETFROM:-0800
TZOFFSETTO:-0700
TZNAME:PDT
DTSTART:20240310T100000
END:DAYLIGHT
BEGIN:STANDARD
TZOFFSETFROM:-0700
TZOFFSETTO:-0800
TZNAME:PST
DTSTART:20241103T090000
END:STANDARD
BEGIN:DAYLIGHT
TZOFFSETFROM:-0800
TZOFFSETTO:-0700
TZNAME:PDT
DTSTART:20250309T100000
END:DAYLIGHT
BEGIN:STANDARD
TZOFFSETFROM:-0700
TZOFFSETTO:-0800
TZNAME:PST
DTSTART:20251102T090000
END:STANDARD
BEGIN:DAYLIGHT
TZOFFSETFROM:-0800
TZOFFSETTO:-0700
TZNAME:PDT
DTSTART:20260308T100000
END:DAYLIGHT
BEGIN:STANDARD
TZOFFSETFROM:-0700
TZOFFSETTO:-0800
TZNAME:PST
DTSTART:20261101T090000
END:STANDARD
END:VTIMEZONE
BEGIN:VEVENT
DTSTART;TZID=America/Los_Angeles:20250602T190000
DTEND;TZID=America/Los_Angeles:20250602T210000
DTSTAMP:20260421T170025
CREATED:20241122T225144Z
LAST-MODIFIED:20250530T160401Z
UID:9175-1748890800-1748898000@opnc.org
SUMMARY:Board Meeting
DESCRIPTION:Join us for the next OPNC Meeting on Monday\, June 2\, 7pm at LAPD Wilshire\, 4861 Venice Blvd. \nOn our agenda: \n\nMixed use multifamily development at 4201 Pico Blvd\nPresentation from Heal the Bay\nNeighborhood purpose grant for the Labelle Foundation\nNeighborhood purpose grant for the LA Korean Festival Foundation\nStreet conditions on Crenshaw Boulevard\n\nOR\nZoom Meeting Online or By Telephone\nhttps://us02web.zoom.us/j/8386991801\nOr Dial +1 646 931 3860\nThen Enter This Webinar ID 838 699 1801 and Press #
URL:https://opnc.org/event/board-meeting-2025-06-02/
LOCATION:LAPD Wilshire\, 4861 Venice Blvd
CATEGORIES:Board,Meetings
END:VEVENT
END:VCALENDAR