
BEGIN:VCALENDAR
VERSION:2.0
PRODID:-//Olympic Park Neighborhood Council - ECPv6.15.17.1//NONSGML v1.0//EN
CALSCALE:GREGORIAN
METHOD:PUBLISH
X-ORIGINAL-URL:https://opnc.org
X-WR-CALDESC:Events for Olympic Park Neighborhood Council
REFRESH-INTERVAL;VALUE=DURATION:PT1H
X-Robots-Tag:noindex
X-PUBLISHED-TTL:PT1H
BEGIN:VTIMEZONE
TZID:America/Los_Angeles
BEGIN:DAYLIGHT
TZOFFSETFROM:-0800
TZOFFSETTO:-0700
TZNAME:PDT
DTSTART:20230312T100000
END:DAYLIGHT
BEGIN:STANDARD
TZOFFSETFROM:-0700
TZOFFSETTO:-0800
TZNAME:PST
DTSTART:20231105T090000
END:STANDARD
BEGIN:DAYLIGHT
TZOFFSETFROM:-0800
TZOFFSETTO:-0700
TZNAME:PDT
DTSTART:20240310T100000
END:DAYLIGHT
BEGIN:STANDARD
TZOFFSETFROM:-0700
TZOFFSETTO:-0800
TZNAME:PST
DTSTART:20241103T090000
END:STANDARD
BEGIN:DAYLIGHT
TZOFFSETFROM:-0800
TZOFFSETTO:-0700
TZNAME:PDT
DTSTART:20250309T100000
END:DAYLIGHT
BEGIN:STANDARD
TZOFFSETFROM:-0700
TZOFFSETTO:-0800
TZNAME:PST
DTSTART:20251102T090000
END:STANDARD
END:VTIMEZONE
BEGIN:VEVENT
DTSTART;TZID=America/Los_Angeles:20241202T190000
DTEND;TZID=America/Los_Angeles:20241202T210000
DTSTAMP:20260422T023548
CREATED:20231122T193723Z
LAST-MODIFIED:20241127T171841Z
UID:7910-1733166000-1733173200@opnc.org
SUMMARY:Board Meeting
DESCRIPTION:Join us for the next Olympic Park Neighborhood Council Meeting on Monday\, December 2\, 7pm at the LAPD Wilshire Station\, 4861 Venice Blvd. \nOn our agenda: \n\nDiscussion and possible approval of an NPG for Parents Educators Teachers and Students in\nAction in an amount up to $5\,000\nDiscussion and possible action on sending a letter of support for Venice Blvd for All proposal\nby Streets for All.\nNakiessa Abbassi presentation on LA River Master Plan
URL:https://opnc.org/event/board-meeting-2024-12-02/
LOCATION:LAPD Wilshire\, 4861 Venice Blvd
CATEGORIES:Board,Meetings
ATTACH;FMTTYPE=image/png:https://opnc.org/wp-content/uploads/2023/11/Olympic-Park-Neighborhood-Council-Instagram-Post-4.png
END:VEVENT
END:VCALENDAR