
BEGIN:VCALENDAR
VERSION:2.0
PRODID:-//Olympic Park Neighborhood Council - ECPv6.15.17.1//NONSGML v1.0//EN
CALSCALE:GREGORIAN
METHOD:PUBLISH
X-WR-CALNAME:Olympic Park Neighborhood Council
X-ORIGINAL-URL:https://opnc.org
X-WR-CALDESC:Events for Olympic Park Neighborhood Council
REFRESH-INTERVAL;VALUE=DURATION:PT1H
X-Robots-Tag:noindex
X-PUBLISHED-TTL:PT1H
BEGIN:VTIMEZONE
TZID:America/Los_Angeles
BEGIN:DAYLIGHT
TZOFFSETFROM:-0800
TZOFFSETTO:-0700
TZNAME:PDT
DTSTART:20230312T100000
END:DAYLIGHT
BEGIN:STANDARD
TZOFFSETFROM:-0700
TZOFFSETTO:-0800
TZNAME:PST
DTSTART:20231105T090000
END:STANDARD
BEGIN:DAYLIGHT
TZOFFSETFROM:-0800
TZOFFSETTO:-0700
TZNAME:PDT
DTSTART:20240310T100000
END:DAYLIGHT
BEGIN:STANDARD
TZOFFSETFROM:-0700
TZOFFSETTO:-0800
TZNAME:PST
DTSTART:20241103T090000
END:STANDARD
BEGIN:DAYLIGHT
TZOFFSETFROM:-0800
TZOFFSETTO:-0700
TZNAME:PDT
DTSTART:20250309T100000
END:DAYLIGHT
BEGIN:STANDARD
TZOFFSETFROM:-0700
TZOFFSETTO:-0800
TZNAME:PST
DTSTART:20251102T090000
END:STANDARD
END:VTIMEZONE
BEGIN:VEVENT
DTSTART;TZID=America/Los_Angeles:20240805T190000
DTEND;TZID=America/Los_Angeles:20240805T210000
DTSTAMP:20260422T090745
CREATED:20231122T193723Z
LAST-MODIFIED:20240805T154530Z
UID:7906-1722884400-1722891600@opnc.org
SUMMARY:Board Meeting-Cancelled
DESCRIPTION:1st Monday
URL:https://opnc.org/event/board-meeting-9-2024-06-03-2024-07-01-2024-08-05/
LOCATION:Los Angeles High School\, 4650 W. Olympic Blvd\, Los Angeles\, 90019
CATEGORIES:Board,Meetings
GEO:34.055405;-118.3329852
X-APPLE-STRUCTURED-LOCATION;VALUE=URI;X-ADDRESS=Los Angeles High School 4650 W. Olympic Blvd Los Angeles 90019;X-APPLE-RADIUS=500;X-TITLE=4650 W. Olympic Blvd:geo:-118.3329852,34.055405
END:VEVENT
BEGIN:VEVENT
DTSTART;TZID=America/Los_Angeles:20240812T190000
DTEND;TZID=America/Los_Angeles:20240812T210000
DTSTAMP:20260422T090745
CREATED:20240809T191921Z
LAST-MODIFIED:20240912T015313Z
UID:9003-1723489200-1723496400@opnc.org
SUMMARY:Special Meeting
DESCRIPTION:Please join us for a specially scheduled meeting of the Olympic Park Neighborhood Council on Monday\, August 12\, 7pm online. \nOn our agenda: \n\nAppoint Officers\nFund Grants for National Night Out\, LA Korean Festival\, Heal One World\nVenice Blvd For All\n\nZoom Meeting Online or By Telephone\nhttps://us02web.zoom.us/j/8386991801\nDail +16469313860\nThen Enter This Webinar ID 8386991801 and Press #
URL:https://opnc.org/event/special-meeting-10/
CATEGORIES:Board,Meetings
END:VEVENT
END:VCALENDAR