
BEGIN:VCALENDAR
VERSION:2.0
PRODID:-//Olympic Park Neighborhood Council - ECPv6.15.17.1//NONSGML v1.0//EN
CALSCALE:GREGORIAN
METHOD:PUBLISH
X-ORIGINAL-URL:https://opnc.org
X-WR-CALDESC:Events for Olympic Park Neighborhood Council
REFRESH-INTERVAL;VALUE=DURATION:PT1H
X-Robots-Tag:noindex
X-PUBLISHED-TTL:PT1H
BEGIN:VTIMEZONE
TZID:America/Los_Angeles
BEGIN:DAYLIGHT
TZOFFSETFROM:-0800
TZOFFSETTO:-0700
TZNAME:PDT
DTSTART:20230312T100000
END:DAYLIGHT
BEGIN:STANDARD
TZOFFSETFROM:-0700
TZOFFSETTO:-0800
TZNAME:PST
DTSTART:20231105T090000
END:STANDARD
BEGIN:DAYLIGHT
TZOFFSETFROM:-0800
TZOFFSETTO:-0700
TZNAME:PDT
DTSTART:20240310T100000
END:DAYLIGHT
BEGIN:STANDARD
TZOFFSETFROM:-0700
TZOFFSETTO:-0800
TZNAME:PST
DTSTART:20241103T090000
END:STANDARD
BEGIN:DAYLIGHT
TZOFFSETFROM:-0800
TZOFFSETTO:-0700
TZNAME:PDT
DTSTART:20250309T100000
END:DAYLIGHT
BEGIN:STANDARD
TZOFFSETFROM:-0700
TZOFFSETTO:-0800
TZNAME:PST
DTSTART:20251102T090000
END:STANDARD
END:VTIMEZONE
BEGIN:VEVENT
DTSTART;TZID=America/Los_Angeles:20240701T190000
DTEND;TZID=America/Los_Angeles:20240701T210000
DTSTAMP:20260422T104707
CREATED:20231122T193723Z
LAST-MODIFIED:20240912T232927Z
UID:7905-1719860400-1719867600@opnc.org
SUMMARY:Board Meeting
DESCRIPTION:Join us for the next Olympic Park Neighborhood Council Meeting on Monday\, July 1\, 7pm at the LAPD Wilshire Division Community Room\, 4861 Venice Blvd. \nOn our agenda: \n\nRoad safety in Olympic Park\nAppoint Committee Members\n1032 Western Ave Retailer of Commercial Cannabis
URL:https://opnc.org/event/board-meeting-9-2024-06-03-2024-07-01/
LOCATION:LAPD Wilshire\, 4861 Venice Blvd
CATEGORIES:Board,Meetings
END:VEVENT
BEGIN:VEVENT
DTSTART;TZID=America/Los_Angeles:20240708T190000
DTEND;TZID=America/Los_Angeles:20240708T210000
DTSTAMP:20260422T104707
CREATED:20240705T180153Z
LAST-MODIFIED:20240705T235347Z
UID:8927-1720465200-1720472400@opnc.org
SUMMARY:Transportation Committee
DESCRIPTION:Join us for the next OPNC Transportation Committee Meeting on Monday\, July 8\, 7pm on Zoom. \nWe will discuss: \n\nStreets for All Venice Blvd\nSpeed bumps: Gramercy Place & Olympic\nRoad safety for Rimpau near LA High\nIllegal left turns at Midtown Shopping Center\n\nZoom Meeting Online or By Telephone\nhttps://zoom.us/j/92438413591\nOr Dial 203-432-9666 to Join the Meeting\nThen Enter This Webinar ID: 92438413591 and Press #
URL:https://opnc.org/event/transportation-committee/
CATEGORIES:Meetings,Transportation
END:VEVENT
END:VCALENDAR