
BEGIN:VCALENDAR
VERSION:2.0
PRODID:-//Olympic Park Neighborhood Council - ECPv6.15.17.1//NONSGML v1.0//EN
CALSCALE:GREGORIAN
METHOD:PUBLISH
X-WR-CALNAME:Olympic Park Neighborhood Council
X-ORIGINAL-URL:https://opnc.org
X-WR-CALDESC:Events for Olympic Park Neighborhood Council
REFRESH-INTERVAL;VALUE=DURATION:PT1H
X-Robots-Tag:noindex
X-PUBLISHED-TTL:PT1H
BEGIN:VTIMEZONE
TZID:America/Los_Angeles
BEGIN:DAYLIGHT
TZOFFSETFROM:-0800
TZOFFSETTO:-0700
TZNAME:PDT
DTSTART:20250309T100000
END:DAYLIGHT
BEGIN:STANDARD
TZOFFSETFROM:-0700
TZOFFSETTO:-0800
TZNAME:PST
DTSTART:20251102T090000
END:STANDARD
BEGIN:DAYLIGHT
TZOFFSETFROM:-0800
TZOFFSETTO:-0700
TZNAME:PDT
DTSTART:20260308T100000
END:DAYLIGHT
BEGIN:STANDARD
TZOFFSETFROM:-0700
TZOFFSETTO:-0800
TZNAME:PST
DTSTART:20261101T090000
END:STANDARD
BEGIN:DAYLIGHT
TZOFFSETFROM:-0800
TZOFFSETTO:-0700
TZNAME:PDT
DTSTART:20270314T100000
END:DAYLIGHT
BEGIN:STANDARD
TZOFFSETFROM:-0700
TZOFFSETTO:-0800
TZNAME:PST
DTSTART:20271107T090000
END:STANDARD
END:VTIMEZONE
BEGIN:VEVENT
DTSTART;TZID=America/Los_Angeles:20260627T073000
DTEND;TZID=America/Los_Angeles:20260627T123000
DTSTAMP:20260423T030558
CREATED:20260318T194433Z
LAST-MODIFIED:20260318T194433Z
UID:9898-1782545400-1782563400@opnc.org
SUMMARY:Budget Day
DESCRIPTION:Save the date! The Neighborhood Council Budget Advocates’ 2026 Budget Day is taking place on Saturday\, June 27\, 2026! Neighborhood Council leaders and community members are invited to attend to learn about the City’s budgeting process and share their neighborhood’s priorities for this upcoming fiscal year. Breakfast and parking is provided for all attendees. Stay tuned for more information and registration details!
URL:https://opnc.org/event/budget-day-9/
LOCATION:City Hall
CATEGORIES:Events
ATTACH;FMTTYPE=image/jpeg:https://opnc.org/wp-content/uploads/2026/03/budget-day-2026-2.jpg
GEO:34.0537126;-118.2428145
END:VEVENT
END:VCALENDAR