
BEGIN:VCALENDAR
VERSION:2.0
PRODID:-//Olympic Park Neighborhood Council - ECPv6.15.17.1//NONSGML v1.0//EN
CALSCALE:GREGORIAN
METHOD:PUBLISH
X-ORIGINAL-URL:https://opnc.org
X-WR-CALDESC:Events for Olympic Park Neighborhood Council
REFRESH-INTERVAL;VALUE=DURATION:PT1H
X-Robots-Tag:noindex
X-PUBLISHED-TTL:PT1H
BEGIN:VTIMEZONE
TZID:America/Los_Angeles
BEGIN:DAYLIGHT
TZOFFSETFROM:-0800
TZOFFSETTO:-0700
TZNAME:PDT
DTSTART:20250309T100000
END:DAYLIGHT
BEGIN:STANDARD
TZOFFSETFROM:-0700
TZOFFSETTO:-0800
TZNAME:PST
DTSTART:20251102T090000
END:STANDARD
BEGIN:DAYLIGHT
TZOFFSETFROM:-0800
TZOFFSETTO:-0700
TZNAME:PDT
DTSTART:20260308T100000
END:DAYLIGHT
BEGIN:STANDARD
TZOFFSETFROM:-0700
TZOFFSETTO:-0800
TZNAME:PST
DTSTART:20261101T090000
END:STANDARD
BEGIN:DAYLIGHT
TZOFFSETFROM:-0800
TZOFFSETTO:-0700
TZNAME:PDT
DTSTART:20270314T100000
END:DAYLIGHT
BEGIN:STANDARD
TZOFFSETFROM:-0700
TZOFFSETTO:-0800
TZNAME:PST
DTSTART:20271107T090000
END:STANDARD
END:VTIMEZONE
BEGIN:VEVENT
DTSTART;VALUE=DATE:20260410
DTEND;VALUE=DATE:20260413
DTSTAMP:20260421T014445
CREATED:20260331T172848Z
LAST-MODIFIED:20260331T172848Z
UID:9918-1775779200-1776038399@opnc.org
SUMMARY:LAPD Wilshire Carnival
DESCRIPTION:LAPD Wilshire Division for Carnival 2026\nCarnival is coming to Mid-City! 🎡🎠\nJoin the Wilshire Station Boosters and — three days of fun for the whole family!\nFriday\, April 10\nSaturday\, April 11\nSunday\, April 12\nLocation: Venice Blvd between La Brea & Rimpau\nEnjoy:\nGames • Rides • Food • Entertainment\nBring your friends\, your family\, and your appetite — it’s going to be a great weekend in the neighborhood!\nPresale tickets available at the Wilshire Division Police Station.
URL:https://opnc.org/event/lapd-wilshire-carnival/
CATEGORIES:Events
END:VEVENT
BEGIN:VEVENT
DTSTART;TZID=America/Los_Angeles:20260411T140000
DTEND;TZID=America/Los_Angeles:20260411T170000
DTSTAMP:20260421T014445
CREATED:20260331T173107Z
LAST-MODIFIED:20260331T173107Z
UID:9921-1775916000-1775926800@opnc.org
SUMMARY:PICO Shredding Event
DESCRIPTION:Free Shredding Event! Mark your calendars. Two weeks and counting to get ready for our FREE Community Shredding Event — time to tackle that paper pile. Join P.I.C.O. Neighborhood Council on Saturday\, April 11\, 2026 from 2:00–5:00 PM at the Southern California Counseling Center parking lot (5615 W. Pico Blvd\, corner of Stanley Ave). Please enter through the alley on Stanley Ave. Bring your old files\, clear the clutter\, and safely shred your confidential documents. It’s quick\, easy\, and open to the public\, so invite a neighbor and spread the word. Let’s clean up those stacks together.
URL:https://opnc.org/event/pico-shredding-event/
LOCATION:Southern California Counseling Center Parking Lot\, 5615 W. Pico
CATEGORIES:Events
END:VEVENT
END:VCALENDAR