
BEGIN:VCALENDAR
VERSION:2.0
PRODID:-//Olympic Park Neighborhood Council - ECPv6.15.17.1//NONSGML v1.0//EN
CALSCALE:GREGORIAN
METHOD:PUBLISH
X-WR-CALNAME:Olympic Park Neighborhood Council
X-ORIGINAL-URL:https://opnc.org
X-WR-CALDESC:Events for Olympic Park Neighborhood Council
REFRESH-INTERVAL;VALUE=DURATION:PT1H
X-Robots-Tag:noindex
X-PUBLISHED-TTL:PT1H
BEGIN:VTIMEZONE
TZID:America/Los_Angeles
BEGIN:DAYLIGHT
TZOFFSETFROM:-0800
TZOFFSETTO:-0700
TZNAME:PDT
DTSTART:20200308T100000
END:DAYLIGHT
BEGIN:STANDARD
TZOFFSETFROM:-0700
TZOFFSETTO:-0800
TZNAME:PST
DTSTART:20201101T090000
END:STANDARD
BEGIN:DAYLIGHT
TZOFFSETFROM:-0800
TZOFFSETTO:-0700
TZNAME:PDT
DTSTART:20210314T100000
END:DAYLIGHT
BEGIN:STANDARD
TZOFFSETFROM:-0700
TZOFFSETTO:-0800
TZNAME:PST
DTSTART:20211107T090000
END:STANDARD
BEGIN:DAYLIGHT
TZOFFSETFROM:-0800
TZOFFSETTO:-0700
TZNAME:PDT
DTSTART:20220313T100000
END:DAYLIGHT
BEGIN:STANDARD
TZOFFSETFROM:-0700
TZOFFSETTO:-0800
TZNAME:PST
DTSTART:20221106T090000
END:STANDARD
END:VTIMEZONE
BEGIN:VEVENT
DTSTART;TZID=America/Los_Angeles:20210308T183000
DTEND;TZID=America/Los_Angeles:20210308T200000
DTSTAMP:20260421T163322
CREATED:20210306T001659Z
LAST-MODIFIED:20210306T002852Z
UID:3807-1615228200-1615233600@opnc.org
SUMMARY:Workshop on San Vicente
DESCRIPTION:LADOT will have meetings regarding repaving San Vicente and the proposed closing of the gap in the existing bike lanes: \nLADOT will be hosting several upcoming public workshops to continue gathering feedback on the proposed San Vicente project: \nMonday\, March 8: 6:30-8PM RSVP\nThursday\, March 11: 10-11:30AM RSVP\nThe same information will be presented at both sessions. Live Spanish translation will be provided. \nWe are also offering some additional times during the day for stakeholders to sign up for smaller group conversations about the proposed project\, to ensure all those who would like to participate can. These informal\, virtual “coffee on the corridor” sessions are on Tuesdays at 4pm and Fridays at 10am March. 5-19. Sign up for a date here. \nOther ways to submit comments on the project: \nUse the comment portal form at ladot.lacity.org/san-vicente\nUse the feedback map at ladotlivablestreets.org/san-vicente\nEmail ladot.active@lacity.org
URL:https://opnc.org/event/workshop-on-san-vicente/2021-03-08/
CATEGORIES:Events
END:VEVENT
END:VCALENDAR