
BEGIN:VCALENDAR
VERSION:2.0
PRODID:-//Olympic Park Neighborhood Council - ECPv6.15.17.1//NONSGML v1.0//EN
CALSCALE:GREGORIAN
METHOD:PUBLISH
X-ORIGINAL-URL:https://opnc.org
X-WR-CALDESC:Events for Olympic Park Neighborhood Council
REFRESH-INTERVAL;VALUE=DURATION:PT1H
X-Robots-Tag:noindex
X-PUBLISHED-TTL:PT1H
BEGIN:VTIMEZONE
TZID:America/Los_Angeles
BEGIN:DAYLIGHT
TZOFFSETFROM:-0800
TZOFFSETTO:-0700
TZNAME:PDT
DTSTART:20230312T100000
END:DAYLIGHT
BEGIN:STANDARD
TZOFFSETFROM:-0700
TZOFFSETTO:-0800
TZNAME:PST
DTSTART:20231105T090000
END:STANDARD
BEGIN:DAYLIGHT
TZOFFSETFROM:-0800
TZOFFSETTO:-0700
TZNAME:PDT
DTSTART:20240310T100000
END:DAYLIGHT
BEGIN:STANDARD
TZOFFSETFROM:-0700
TZOFFSETTO:-0800
TZNAME:PST
DTSTART:20241103T090000
END:STANDARD
BEGIN:DAYLIGHT
TZOFFSETFROM:-0800
TZOFFSETTO:-0700
TZNAME:PDT
DTSTART:20250309T100000
END:DAYLIGHT
BEGIN:STANDARD
TZOFFSETFROM:-0700
TZOFFSETTO:-0800
TZNAME:PST
DTSTART:20251102T090000
END:STANDARD
END:VTIMEZONE
BEGIN:VEVENT
DTSTART;TZID=America/Los_Angeles:20241222T100000
DTEND;TZID=America/Los_Angeles:20241222T180000
DTSTAMP:20260421T091123
CREATED:20241205T225834Z
LAST-MODIFIED:20241206T000912Z
UID:9202-1734861600-1734890400@opnc.org
SUMMARY:Volunteer Wrapping & Distributing
DESCRIPTION:
URL:https://opnc.org/event/volunteer-wrapping-distributing/2024-12-22/
CATEGORIES:Events
END:VEVENT
BEGIN:VEVENT
DTSTART;TZID=America/Los_Angeles:20241221T170000
DTEND;TZID=America/Los_Angeles:20241221T210000
DTSTAMP:20260421T091123
CREATED:20241205T225834Z
LAST-MODIFIED:20241206T000912Z
UID:9201-1734800400-1734814800@opnc.org
SUMMARY:Volunteer Wrapping & Distributing
DESCRIPTION:
URL:https://opnc.org/event/volunteer-wrapping-distributing/2024-12-21/
CATEGORIES:Events
END:VEVENT
BEGIN:VEVENT
DTSTART;TZID=America/Los_Angeles:20241218T170000
DTEND;TZID=America/Los_Angeles:20241218T210000
DTSTAMP:20260421T091123
CREATED:20241205T225834Z
LAST-MODIFIED:20241206T000912Z
UID:9199-1734541200-1734555600@opnc.org
SUMMARY:Volunteer Wrapping & Distributing
DESCRIPTION:
URL:https://opnc.org/event/volunteer-wrapping-distributing/2024-12-18/
CATEGORIES:Events
END:VEVENT
END:VCALENDAR