
BEGIN:VCALENDAR
VERSION:2.0
PRODID:-//Olympic Park Neighborhood Council - ECPv6.15.17.1//NONSGML v1.0//EN
CALSCALE:GREGORIAN
METHOD:PUBLISH
X-WR-CALNAME:Olympic Park Neighborhood Council
X-ORIGINAL-URL:https://opnc.org
X-WR-CALDESC:Events for Olympic Park Neighborhood Council
REFRESH-INTERVAL;VALUE=DURATION:PT1H
X-Robots-Tag:noindex
X-PUBLISHED-TTL:PT1H
BEGIN:VTIMEZONE
TZID:America/Los_Angeles
BEGIN:DAYLIGHT
TZOFFSETFROM:-0800
TZOFFSETTO:-0700
TZNAME:PDT
DTSTART:20190310T100000
END:DAYLIGHT
BEGIN:STANDARD
TZOFFSETFROM:-0700
TZOFFSETTO:-0800
TZNAME:PST
DTSTART:20191103T090000
END:STANDARD
BEGIN:DAYLIGHT
TZOFFSETFROM:-0800
TZOFFSETTO:-0700
TZNAME:PDT
DTSTART:20200308T100000
END:DAYLIGHT
BEGIN:STANDARD
TZOFFSETFROM:-0700
TZOFFSETTO:-0800
TZNAME:PST
DTSTART:20201101T090000
END:STANDARD
BEGIN:DAYLIGHT
TZOFFSETFROM:-0800
TZOFFSETTO:-0700
TZNAME:PDT
DTSTART:20210314T100000
END:DAYLIGHT
BEGIN:STANDARD
TZOFFSETFROM:-0700
TZOFFSETTO:-0800
TZNAME:PST
DTSTART:20211107T090000
END:STANDARD
END:VTIMEZONE
BEGIN:VEVENT
DTSTART;TZID=America/Los_Angeles:20200922T100000
DTEND;TZID=America/Los_Angeles:20200922T123000
DTSTAMP:20260421T121335
CREATED:20200911T002254Z
LAST-MODIFIED:20200911T002254Z
UID:3549-1600768800-1600777800@opnc.org
SUMMARY:Urban Forestry Meetingsv
DESCRIPTION:Get Involved in Urban Forestry Community Action!\nJoin StreetsLA\, the Department of Recreation and Parks\, LA Sanitation & Environment\, & City Plants for a day of urban forestry community action. Kick off the fall tree planting season\, learn about the city’s tree inventory and urban forestry programs\, and walk away with powerful tools to green your neighborhood. Help grow a healthy\, sustainable\, and equitable future for your community. For more information\, click here. \nEnglish Event\nTuesday\, September 22\, 10 AM – 12:30 PM RSVP here\n*The maximum Zoom capacity is 500 participants. If registration is full\, tune in via Youtube livestream \nEn Español\nMiércoles\, 23 de Septiembre\, 10 AM – 12:30 PM SRC aqui\n*La capacidad de zoom máxima es de 500 participantes. Si está llena\, sintonice a través de Youtube en directo.
URL:https://opnc.org/event/urban-forestry-meetingsv/2020-09-22/
CATEGORIES:Events
END:VEVENT
END:VCALENDAR