
BEGIN:VCALENDAR
VERSION:2.0
PRODID:-//Olympic Park Neighborhood Council - ECPv6.15.17.1//NONSGML v1.0//EN
CALSCALE:GREGORIAN
METHOD:PUBLISH
X-ORIGINAL-URL:https://opnc.org
X-WR-CALDESC:Events for Olympic Park Neighborhood Council
REFRESH-INTERVAL;VALUE=DURATION:PT1H
X-Robots-Tag:noindex
X-PUBLISHED-TTL:PT1H
BEGIN:VTIMEZONE
TZID:America/Los_Angeles
BEGIN:DAYLIGHT
TZOFFSETFROM:-0800
TZOFFSETTO:-0700
TZNAME:PDT
DTSTART:20180311T100000
END:DAYLIGHT
BEGIN:STANDARD
TZOFFSETFROM:-0700
TZOFFSETTO:-0800
TZNAME:PST
DTSTART:20181104T090000
END:STANDARD
BEGIN:DAYLIGHT
TZOFFSETFROM:-0800
TZOFFSETTO:-0700
TZNAME:PDT
DTSTART:20190310T100000
END:DAYLIGHT
BEGIN:STANDARD
TZOFFSETFROM:-0700
TZOFFSETTO:-0800
TZNAME:PST
DTSTART:20191103T090000
END:STANDARD
BEGIN:DAYLIGHT
TZOFFSETFROM:-0800
TZOFFSETTO:-0700
TZNAME:PDT
DTSTART:20200308T100000
END:DAYLIGHT
BEGIN:STANDARD
TZOFFSETFROM:-0700
TZOFFSETTO:-0800
TZNAME:PST
DTSTART:20201101T090000
END:STANDARD
END:VTIMEZONE
BEGIN:VEVENT
DTSTART;TZID=America/Los_Angeles:20190928T100000
DTEND;TZID=America/Los_Angeles:20190928T160000
DTSTAMP:20260421T183312
CREATED:20190920T173448Z
LAST-MODIFIED:20190920T173513Z
UID:2899-1569664800-1569686400@opnc.org
SUMMARY:Mock Elections
DESCRIPTION:Voting in L.A. County will soon change\, and we want you to know about it. \nOur office is partnering with 50 locations across the County and inviting everyone to experience the new voting system\, Voting Solutions for All People. \nWe’re keeping this light and fun\, no real contests from past or future elections. But you will vote on things like your favorite sports team\, park or music venue! \nCelebs\, Prize Giveaways and Much More\nSelect locations will have live DJs\, surprise celebrities\, food trucks and chances to win L.A. experiences such as: tickets to professional sports games\, amusement parks\, celebrity meet and greets and a whole lot more!
URL:https://opnc.org/event/mock-elections/2019-09-28/
LOCATION:Pio Pico Koreatown Library\, 694 S. Oxnard Ave.\, Los Angeles\, 90005
CATEGORIES:Events
END:VEVENT
END:VCALENDAR